*** |
***
Sigma DP1s
Панорама, склейка их 4-х
- Раздел: Другое, разное
- Дата съёмки: 05.10.2010 10:03
- Дата загрузки фото: 05.10.2010 21:52
- Оригинальная фотография: 2166 x 1402 (3,8 Мб)
- Технические характеристики:
- Фотоаппарат: неизвестно
- Диафрагма: 7,0
- Светочувствительность: 100
- Полный EXIF
- Composite
- ExifIFD
- ApertureValue: 7,0
- ColorSpace: sRGB
- CreateDate: 2010:10:05 10:03:31
- DateTimeOriginal: 2010:10:05 10:03:31
- ExifImageHeight: 1402
- ExifImageWidth: 2166
- FNumber: 7,0
- ISO: 100
- IFD0
- ImageDescription: Processed by: Helicon Filter;
- ModifyDate: 2010:10:05 14:13:47
- Software: PTGui Pro (www.ptgui.com)
- System
- XMP-crs
- AlreadyApplied: True
- BlueHue: 0
- BlueSaturation: 0
- Brightness: 0
- CameraProfile: Embedded
- ChromaticAberrationB: 0
- ChromaticAberrationR: 0
- Clarity: +55
- ColorNoiseReduction: 100
- ColorNoiseReductionDetail: 50
- Contrast: 0
- ConvertToGrayscale: False
- CropAngle: 0
- CropBottom: 0.952853
- CropConstrainToWarp: 0
- CropHeight: 2805
- CropLeft: 0.057472
- CropRight: 0.932677
- CropTop: 0.096774
- CropUnit: pixels
- CropWidth: 4331
- Defringe: 0
- Exposure: -0.05
- FillLight: 7
- GrainAmount: 0
- GreenHue: 0
- GreenSaturation: 0
- HasCrop: True
- HasSettings: True
- HighlightRecovery: 100
- HueAdjustmentAqua: 0
- HueAdjustmentBlue: 0
- HueAdjustmentGreen: 0
- HueAdjustmentMagenta: 0
- HueAdjustmentOrange: 0
- HueAdjustmentPurple: 0
- HueAdjustmentRed: 0
- HueAdjustmentYellow: 0
- IncrementalTemperature: 0
- IncrementalTint: 0
- LensManualDistortionAmount: 0
- LensProfileEnable: 0
- LensProfileSetup: LensDefaults
- LuminanceAdjustmentAqua: 0
- LuminanceAdjustmentBlue: -10
- LuminanceAdjustmentGreen: 0
- LuminanceAdjustmentMagenta: 0
- LuminanceAdjustmentOrange: 0
- LuminanceAdjustmentPurple: 0
- LuminanceAdjustmentRed: 0
- LuminanceAdjustmentYellow: 0
- LuminanceNoiseReductionContrast: 0
- LuminanceNoiseReductionDetail: 50
- LuminanceSmoothing: 3
- ParametricDarks: 0
- ParametricHighlightSplit: 75
- ParametricHighlights: 0
- ParametricLights: 0
- ParametricMidtoneSplit: 50
- ParametricShadowSplit: 25
- ParametricShadows: 0
- PerspectiveHorizontal: 0
- PerspectiveRotate: 0.0
- PerspectiveScale: 100
- PerspectiveVertical: 0
- PostCropVignetteAmount: 0
- ProcessVersion: 5.7
- RedHue: 0
- RedSaturation: 0
- Saturation: +3
- SaturationAdjustmentAqua: 0
- SaturationAdjustmentBlue: 0
- SaturationAdjustmentGreen: 0
- SaturationAdjustmentMagenta: 0
- SaturationAdjustmentOrange: 0
- SaturationAdjustmentPurple: 0
- SaturationAdjustmentRed: 0
- SaturationAdjustmentYellow: 0
- ShadowTint: 0
- Shadows: 0
- SharpenDetail: 100
- SharpenEdgeMasking: 0
- SharpenRadius: +0.5
- Sharpness: 10
- SplitToningBalance: 0
- SplitToningHighlightHue: 0
- SplitToningHighlightSaturation: 0
- SplitToningShadowHue: 0
- SplitToningShadowSaturation: 0
- ToneCurve: 0, 0, 255, 255
- ToneCurveName: Linear
- Version: 6.1
- Vibrance: 0
- VignetteAmount: 0
- WhiteBalance: As Shot
- XMP-exif
- DateTimeDigitized: 2010:10:05 10:03:31+04:00
- DateTimeOriginal: 2010:10:05 10:03:31+04:00
- ExifImageHeight: 2805
- ExifImageWidth: 4331
- XMP-tiff
- BitsPerSample: 16, 16, 16
- ImageHeight: 2805
- ImageWidth: 4331
- PhotometricInterpretation: RGB
- SamplesPerPixel: 3
- XMP-xmp
- CreateDate: 2010:10:05 10:03:31+04:00
- ModifyDate: 2010:10:05 14:13:47+04:00
- Просмотров: 357
- Рейтинг: голосов еще нет
- Отзывов: 0
Получить код для блога
Вставка фотографии в текущем разрешении |
Вставка миниатюры |
HTML (для вставки в блог):
BBCode (для вставки в форум):
Ссылка на фото:
Ссылка на миниатюру:
- Послать ссылку другу
Комментарии к фотографии |