- Раздел: Другое, разное
- Дата съёмки: 21.03.2010 16:36
- Дата загрузки фото: 16.10.2010 22:06
- Оригинальная фотография: 1200 x 811 (388 Кб)
- Технические характеристики:
- Фотоаппарат: Nikon D80
- Выдержка: 3,0
- Гиперфокальное расстояние: inf m
- Диафрагма: 7,1
- Светочувствительность: 100
- Фокусное расстояние: 18,0 mm (35 mm equivalent: 18,0 mm)
- Экспокоррекция: -2/3
- Полный EXIF
- Composite
- Aperture: 7,1
- CircleOfConfusion: 0,020 mm
- FOV: 90,0 deg
- FocalLength35efl: 18,0 mm (35 mm equivalent: 18,0 mm)
- HyperfocalDistance: inf m
- LightValue: 4,0
- ScaleFactor35efl: 1,5
- ShutterSpeed: 3,0
- ExifIFD
- ApertureValue: 7,1
- CFAPattern: [Green,Blue][Red,Green]
- ColorSpace: sRGB
- Contrast: Low
- CreateDate: 2010:03:21 16:36:25
- CustomRendered: Normal
- DateTimeOriginal: 2010:03:21 16:36:25
- DigitalZoomRatio: 1
- ExifImageHeight: 811
- ExifImageWidth: 1200
- ExposureCompensation: -2/3
- ExposureMode: Auto
- ExposureProgram: Aperture-priority AE
- ExposureTime: 3,0
- FNumber: 7,1
- Flash: No Flash
- FocalLength: 18,0 mm
- FocalLengthIn35mmFormat: 27 mm
- GainControl: None
- ISO: 100
- LightSource: Unknown
- MaxApertureValue: 3,5
- MeteringMode: Multi-segment
- Saturation: Normal
- SceneCaptureType: Standard
- SceneType: Directly photographed
- SensingMethod: One-chip color area
- Sharpness: Hard
- ShutterSpeedValue: 3,0
- SubjectDistanceRange: Unknown
- WhiteBalance: Auto
- ICC-header
- ICC-meas
- ICC-view
- IFD0
- ImageDescription: Processed by: Helicon Filter;
- Make: NIKON CORPORATION
- Model: NIKON D80
- ModifyDate: 2010:10:16 21:04:31
- Orientation: Horizontal (normal)
- Software: ACD Systems Digital Imaging
- IFD1
- IPTC
- Caption-Abstract: Processed by: Helicon Filter;
- System
- XMP-aux
- ImageNumber: 4275
- Lens: 18.0-135.0 mm f/3.5-5.6
- LensInfo: 18-135mm f/3.5-5.6
- SerialNumber: 4450698
- XMP-crs
- AlreadyApplied: True
- BlueHue: 0
- BlueSaturation: 0
- Brightness: +50
- ChromaticAberrationB: 0
- ChromaticAberrationR: 0
- Clarity: +69
- ColorNoiseReduction: 25
- Contrast: +30
- ConvertToGrayscale: False
- Defringe: 0
- Exposure: -0.09
- FillLight: 13
- GreenHue: 0
- GreenSaturation: 0
- HasCrop: False
- HasSettings: True
- HighlightRecovery: 0
- HueAdjustmentAqua: 0
- HueAdjustmentBlue: 0
- HueAdjustmentGreen: 0
- HueAdjustmentMagenta: +18
- HueAdjustmentOrange: -3
- HueAdjustmentPurple: +6
- HueAdjustmentRed: -21
- HueAdjustmentYellow: 0
- LuminanceAdjustmentAqua: 0
- LuminanceAdjustmentBlue: -9
- LuminanceAdjustmentGreen: 0
- LuminanceAdjustmentMagenta: 0
- LuminanceAdjustmentOrange: -6
- LuminanceAdjustmentPurple: 0
- LuminanceAdjustmentRed: -68
- LuminanceAdjustmentYellow: 0
- LuminanceSmoothing: 0
- ParametricDarks: -7
- ParametricHighlightSplit: 75
- ParametricHighlights: -29
- ParametricLights: -64
- ParametricMidtoneSplit: 50
- ParametricShadowSplit: 25
- ParametricShadows: +20
- PostCropVignetteAmount: -7
- PostCropVignetteFeather: 73
- PostCropVignetteMidpoint: 93
- PostCropVignetteRoundness: -73
- RedHue: 0
- RedSaturation: 0
- Saturation: +29
- SaturationAdjustmentAqua: 0
- SaturationAdjustmentBlue: -3
- SaturationAdjustmentGreen: 0
- SaturationAdjustmentMagenta: 0
- SaturationAdjustmentOrange: -12
- SaturationAdjustmentPurple: 0
- SaturationAdjustmentRed: +29
- SaturationAdjustmentYellow: 0
- ShadowTint: 0
- Shadows: 16
- SharpenDetail: 49
- SharpenEdgeMasking: 0
- SharpenRadius: +1.0
- Sharpness: 25
- SplitToningBalance: 0
- SplitToningHighlightHue: 0
- SplitToningHighlightSaturation: 0
- SplitToningShadowHue: 0
- SplitToningShadowSaturation: 0
- Temperature: 3900
- Tint: -4
- ToneCurve: 0, 0, 32, 22, 64, 56, 128, 128, 192, 196, 255, 255
- ToneCurveName: Medium Contrast
- Version: 5.3
- Vibrance: -2
- VignetteAmount: 0
- WhiteBalance: As Shot
- XMP-dc
- Description: Processed by: Helicon Filter;
- Format: image/jpeg
- XMP-exif
- DateTimeDigitized: 2010:03:21 16:36:25.40+02:00
- DateTimeOriginal: 2010:03:21 16:36:25.40+02:00
- ExifImageHeight: 2592
- ExifImageWidth: 3837
- FlashFired: False
- FlashFunction: False
- FlashMode: Unknown
- FlashRedEyeMode: False
- FlashReturn: No return detection
- XMP-tiff
- ImageHeight: 2592
- ImageWidth: 3872
- XMP-xmp
- CreateDate: 2010:03:21 16:36:25.40+02:00
- ModifyDate: 2010:04:02 20:17:13+03:00
- XMP-xmpMM
- Просмотров: 363
- Рейтинг: голосов еще нет
- Отзывов: 0