- Раздел: Натюрморт
- Дата съёмки: 14.10.2010 11:46
- Дата загрузки фото: 27.10.2010 00:08
- Оригинальная фотография: 850 x 559 (232 Кб)
- Технические характеристики:
- Фотоаппарат: Pentax K20D
- Выдержка: 5,0
- Гиперфокальное расстояние: inf m
- Диафрагма: 8,0
- Светочувствительность: 100
- Фокусное расстояние: 40,0 mm (35 mm equivalent: 40,0 mm)
- Полный EXIF
- Adobe
- ColorTransform: YCbCr
- Composite
- Aperture: 8,0
- CircleOfConfusion: 0,020 mm
- FOV: 48,0 deg
- FocalLength35efl: 40,0 mm (35 mm equivalent: 40,0 mm)
- HyperfocalDistance: inf m
- LightValue: 3,7
- ScaleFactor35efl: 1,5
- ShutterSpeed: 5,0
- ExifIFD
- ApertureValue: 8,0
- CFAPattern: [Blue,Green][Green,Red]
- ColorSpace: sRGB
- Contrast: Normal
- CreateDate: 2010:10:14 11:46:21
- CustomRendered: Normal
- DateTimeOriginal: 2010:10:14 11:46:21
- ExifImageHeight: 559
- ExifImageWidth: 850
- ExposureCompensation: 0
- ExposureMode: Auto bracket
- ExposureProgram: Aperture-priority AE
- ExposureTime: 5,0
- FNumber: 8,0
- Flash: Off, Did not fire
- FocalLength: 40,0 mm
- FocalLengthIn35mmFormat: 60 mm
- ISO: 100
- LensInfo: 40mm f/2.8
- LensModel: smc PENTAX-DA 40mm F2.8 Limited
- MeteringMode: Center-weighted average
- Saturation: Normal
- SceneCaptureType: Standard
- SensingMethod: One-chip color area
- SensitivityType: Unknown
- Sharpness: Hard
- ShutterSpeedValue: 5,0
- SubjectDistanceRange: Macro
- WhiteBalance: Manual
- ICC-header
- ICC-meas
- ICC-view
- IFD0
- Artist: Pavlo Drevnytskyy
- BitsPerSample: 16 16 16
- Copyright: (c). Pavlo Drevnytskyy. All Rights Reserved.
- ImageHeight: 2707
- ImageWidth: 4119
- Make: PENTAX
- Model: PENTAX K20D
- ModifyDate: 2010:10:26 23:06:15
- Orientation: Horizontal (normal)
- PhotometricInterpretation: RGB
- PlanarConfiguration: Chunky
- SamplesPerPixel: 3
- IFD1
- IPTC
- By-line: Pavlo Drevnytskyy
- By-lineTitle: Октябрь
- CopyrightNotice: (c). Pavlo Drevnytskyy. All Rights Reserved.
- DateCreated: 2010:10:14
- ObjectName: October
- System
- XMP-aux
- Lens: smc PENTAX-DA 40mm F2.8 Limited
- LensID: 4 251
- XMP-crs
- AlreadyApplied: True
- BlueHue: 0
- BlueSaturation: 0
- Brightness: +50
- ChromaticAberrationB: 0
- ChromaticAberrationR: 0
- Clarity: +38
- ColorNoiseReduction: 25
- ColorNoiseReductionDetail: 50
- Contrast: +25
- ConvertToGrayscale: False
- CropAngle: 0
- CropBottom: 0.872044
- CropConstrainToWarp: 0
- CropHeight: 2707
- CropLeft: 0
- CropRight: 0.8817
- CropTop: 0
- CropUnit: pixels
- CropWidth: 4119
- Defringe: 0
- Exposure: +0.41
- FillLight: 0
- GrainAmount: 0
- GreenHue: 0
- GreenSaturation: 0
- HasCrop: True
- HasSettings: True
- HighlightRecovery: 52
- HueAdjustmentAqua: 0
- HueAdjustmentBlue: 0
- HueAdjustmentGreen: 0
- HueAdjustmentMagenta: 0
- HueAdjustmentOrange: 0
- HueAdjustmentPurple: 0
- HueAdjustmentRed: 0
- HueAdjustmentYellow: 0
- LensManualDistortionAmount: 0
- LensProfileEnable: 0
- LensProfileSetup: LensDefaults
- LuminanceAdjustmentAqua: 0
- LuminanceAdjustmentBlue: 0
- LuminanceAdjustmentGreen: 0
- LuminanceAdjustmentMagenta: 0
- LuminanceAdjustmentOrange: 0
- LuminanceAdjustmentPurple: 0
- LuminanceAdjustmentRed: 0
- LuminanceAdjustmentYellow: 0
- LuminanceSmoothing: 0
- ParametricDarks: 0
- ParametricHighlightSplit: 75
- ParametricHighlights: -12
- ParametricLights: 0
- ParametricMidtoneSplit: 50
- ParametricShadowSplit: 25
- ParametricShadows: 0
- PerspectiveHorizontal: 0
- PerspectiveRotate: 0.0
- PerspectiveScale: 100
- PerspectiveVertical: 0
- PostCropVignetteAmount: 0
- ProcessVersion: 5.7
- RedHue: 0
- RedSaturation: 0
- Saturation: 0
- SaturationAdjustmentAqua: 0
- SaturationAdjustmentBlue: 0
- SaturationAdjustmentGreen: 0
- SaturationAdjustmentMagenta: 0
- SaturationAdjustmentOrange: 0
- SaturationAdjustmentPurple: 0
- SaturationAdjustmentRed: 0
- SaturationAdjustmentYellow: 0
- ShadowTint: 0
- Shadows: 5
- SharpenDetail: 25
- SharpenEdgeMasking: 0
- SharpenRadius: +1.0
- Sharpness: 25
- SplitToningBalance: 0
- SplitToningHighlightHue: 0
- SplitToningHighlightSaturation: 0
- SplitToningShadowHue: 0
- SplitToningShadowSaturation: 0
- Temperature: 4414
- Tint: -25
- ToneCurve: 0, 0, 32, 22, 64, 56, 128, 128, 192, 196, 255, 255
- ToneCurveName: Medium Contrast
- Version: 6.2
- Vibrance: +6
- VignetteAmount: 0
- WhiteBalance: Custom
- XMP-dc
- Creator: Pavlo Drevnytskyy
- Format: image/jpeg
- Rights: (c). Pavlo Drevnytskyy. All Rights Reserved.
- Title: October
- XMP-xmp
- CreateDate: 2010:10:14 11:46:21+03:00
- ModifyDate: 2010:10:26 23:06:15+03:00
- XMP-xmpMM