- Раздел: Другое, разное
- Дата съёмки: 31.10.2010 17:27
- Дата загрузки фото: 01.11.2010 21:52
- Оригинальная фотография: 1000 x 615 (239 Кб)
- Технические характеристики:
- Фотоаппарат: Sony SLT-A55V
- Выдержка: 1/500
- Гиперфокальное расстояние: inf m
- Диафрагма: 5,6
- Светочувствительность: 250
- Фокусное расстояние: 300,0 mm (35 mm equivalent: 300,0 mm)
- Полный EXIF
- Adobe
- ColorTransform: YCbCr
- Composite
- Aperture: 5,6
- CircleOfConfusion: 0,020 mm
- FOV: 6,0 deg
- FocalLength35efl: 300,0 mm (35 mm equivalent: 300,0 mm)
- GPSAltitude: 167,9 m Above Sea Level
- GPSDateTime: 2010:10:31 13:27:21Z
- GPSLatitude: 55 deg 24' 40,00" N
- GPSLatitudeRef: North
- GPSLongitude: 37 deg 53' 18,00" E
- GPSLongitudeRef: East
- GPSPosition: 55 deg 24' 40,00" N, 37 deg 53' 18,00" E
- HyperfocalDistance: inf m
- ScaleFactor35efl: 1,5
- ShutterSpeed: 1/500
- ExifIFD
- ApertureValue: 5,6
- BrightnessValue: 7,25
- ColorSpace: sRGB
- Contrast: Normal
- CreateDate: 2010:10:31 17:27:22
- CustomRendered: Normal
- DateTimeOriginal: 2010:10:31 17:27:22
- ExifImageHeight: 615
- ExifImageWidth: 1000
- ExposureCompensation: 0
- ExposureMode: Auto
- ExposureProgram: Program AE
- ExposureTime: 1/500
- FNumber: 5,6
- Flash: Off, Did not fire
- FocalLength: 300,0 mm
- FocalLengthIn35mmFormat: 450 mm
- ISO: 250
- LensInfo: 70-300mm f/4.5-5.6
- LensModel: 70-300mm F4.5-5.6 G SSM
- LightSource: Unknown
- MaxApertureValue: 5,6
- MeteringMode: Multi-segment
- RecommendedExposureIndex: 250
- Saturation: Normal
- SceneCaptureType: Standard
- SceneType: Directly photographed
- SensitivityType: Recommended Exposure Index
- Sharpness: Normal
- ShutterSpeedValue: 1/500
- WhiteBalance: Auto
- GPS
- GPSAltitude: 167,9 m
- GPSAltitudeRef: Above Sea Level
- GPSDateStamp: 2010:10:31
- GPSDifferential: No Correction
- GPSLatitude: 55 deg 24' 40,00"
- GPSLongitude: 37 deg 53' 18,00"
- GPSMapDatum: WGS-84
- GPSMeasureMode: 3-Dimensional Measurement
- GPSSpeed: 0,4
- GPSSpeedRef: km/h
- GPSStatus: Measurement Active
- GPSTimeStamp: 13:27:21
- GPSTrack: 0
- GPSTrackRef: True North
- GPSVersionID: 2.3.0.0
- ICC-header
- ICC-meas
- ICC-view
- IFD0
- ImageDescription: SONY DSC
- Make: SONY
- Model: SLT-A55V
- ModifyDate: 2010:11:01 17:07:14
- Orientation: Horizontal (normal)
- IFD1
- IPTC
- Caption-Abstract: SONY DSC
- System
- XMP-aux
- Lens: 70-300mm F4.5-5.6 G SSM
- LensID: 52
- XMP-crs
- AlreadyApplied: True
- BlueHue: 0
- BlueSaturation: 0
- Brightness: +50
- ChromaticAberrationB: 0
- ChromaticAberrationR: 0
- Clarity: +17
- ColorNoiseReduction: 25
- ColorNoiseReductionDetail: 50
- Contrast: +71
- ConvertToGrayscale: False
- CropAngle: 0
- CropBottom: 1
- CropConstrainToWarp: 0
- CropHeight: 2515
- CropLeft: 0.165689
- CropRight: 0.998534
- CropTop: 0.22958
- CropUnit: pixels
- CropWidth: 4091
- Defringe: 0
- Exposure: 0.00
- FillLight: 26
- GrainAmount: 0
- GreenHue: 0
- GreenSaturation: 0
- HasCrop: True
- HasSettings: True
- HighlightRecovery: 0
- HueAdjustmentAqua: 0
- HueAdjustmentBlue: 0
- HueAdjustmentGreen: 0
- HueAdjustmentMagenta: 0
- HueAdjustmentOrange: 0
- HueAdjustmentPurple: 0
- HueAdjustmentRed: 0
- HueAdjustmentYellow: 0
- LensManualDistortionAmount: 0
- LensProfileEnable: 0
- LensProfileSetup: LensDefaults
- LuminanceAdjustmentAqua: 0
- LuminanceAdjustmentBlue: 0
- LuminanceAdjustmentGreen: 0
- LuminanceAdjustmentMagenta: 0
- LuminanceAdjustmentOrange: 0
- LuminanceAdjustmentPurple: 0
- LuminanceAdjustmentRed: 0
- LuminanceAdjustmentYellow: 0
- LuminanceSmoothing: 0
- ParametricDarks: 0
- ParametricHighlightSplit: 75
- ParametricHighlights: 0
- ParametricLights: 0
- ParametricMidtoneSplit: 50
- ParametricShadowSplit: 25
- ParametricShadows: 0
- PerspectiveHorizontal: 0
- PerspectiveRotate: 0.0
- PerspectiveScale: 100
- PerspectiveVertical: 0
- PostCropVignetteAmount: 0
- ProcessVersion: 5.7
- RedHue: 0
- RedSaturation: 0
- Saturation: 0
- SaturationAdjustmentAqua: 0
- SaturationAdjustmentBlue: 0
- SaturationAdjustmentGreen: 0
- SaturationAdjustmentMagenta: 0
- SaturationAdjustmentOrange: 0
- SaturationAdjustmentPurple: 0
- SaturationAdjustmentRed: 0
- SaturationAdjustmentYellow: 0
- ShadowTint: 0
- Shadows: 5
- SharpenDetail: 25
- SharpenEdgeMasking: 0
- SharpenRadius: +1.0
- Sharpness: 25
- SplitToningBalance: 0
- SplitToningHighlightHue: 0
- SplitToningHighlightSaturation: 0
- SplitToningShadowHue: 0
- SplitToningShadowSaturation: 0
- Temperature: 5563
- Tint: +6
- ToneCurve: 0, 0, 32, 22, 64, 56, 128, 128, 192, 196, 255, 255
- ToneCurveName: Medium Contrast
- Version: 6.2
- Vibrance: 0
- VignetteAmount: 0
- WhiteBalance: Custom
- XMP-dc
- Description: SONY DSC
- Format: image/jpeg
- XMP-exif
- DateTimeDigitized: 2010:10:31 17:27:22+03:00
- DateTimeOriginal: 2010:10:31 17:27:22+03:00
- FlashFired: False
- FlashFunction: False
- FlashMode: Off
- FlashRedEyeMode: False
- FlashReturn: No return detection
- GPSDateTime: 2010:10:31 13:27:21.953Z
- GPSLatitude: 55 deg 24' 40,85" N
- GPSLongitude: 37 deg 53' 18,51" E
- GPSMeasureMode: 3-Dimensional
- SensitivityType: 2
- XMP-tiff
- ImageHeight: 2515
- ImageWidth: 4091
- XMP-xmp
- CreateDate: 2010:11:01 17:07:14+03:00
- ModifyDate: 2010:11:01 17:07:14+03:00
- XMP-xmpMM
- DerivedFrom:
- Просмотров: 1593
- Рейтинг: голосов еще нет
- Отзывов: 0