» Участники » sekker » Макро » По весне жужат цветы.. |
По весне жужат цветы.. |
По весне жужат цветы..
- Раздел: Макро
- Дата съёмки: 28.04.2010 16:10
- Дата загрузки фото: 08.11.2010 09:43
- Оригинальная фотография: 640 x 491 (137 Кб)
- Технические характеристики:
- Фотоаппарат: Olympus E-520
- Выдержка: 1/1250
- Диафрагма: 4,0
- Светочувствительность: 200
- Фокусное расстояние: 35,0 mm
- Экспокоррекция: -0,7
- Полный EXIF
- Composite
- Aperture: 4,0
- FocalLength35efl: 35,0 mm
- ShutterSpeed: 1/1250
- ICC-header
- IPTC
- Caption-Abstract: OLYMPUS DIGITAL CAMERA
- System
- XMP-aux
- FlashCompensation: 0
- Lens: OLYMPUS 35mm Lens
- LensInfo: 35mm f/3.5
- LensSerialNumber: 192035831
- SerialNumber: G28514138
- XMP-crs
- AlreadyApplied: True
- BlueHue: 0
- BlueSaturation: 0
- Brightness: +50
- CameraProfile: Embedded
- ChromaticAberrationB: 0
- ChromaticAberrationR: 0
- Clarity: 0
- ColorNoiseReduction: 0
- Contrast: 0
- ConvertToGrayscale: False
- CropAngle: 0
- CropBottom: 0.959361
- CropHeight: 768
- CropLeft: 0.137105
- CropRight: 0.80479
- CropTop: 0.276599
- CropUnit: pixels
- CropWidth: 1001
- Defringe: 0
- Exposure: +0.27
- FillLight: 0
- GreenHue: 0
- GreenSaturation: 0
- HasCrop: True
- HasSettings: True
- HighlightRecovery: 93
- HueAdjustmentAqua: 0
- HueAdjustmentBlue: 0
- HueAdjustmentGreen: 0
- HueAdjustmentMagenta: 0
- HueAdjustmentOrange: 0
- HueAdjustmentPurple: 0
- HueAdjustmentRed: 0
- HueAdjustmentYellow: 0
- IncrementalTemperature: 0
- IncrementalTint: 0
- LuminanceAdjustmentAqua: 0
- LuminanceAdjustmentBlue: 0
- LuminanceAdjustmentGreen: 0
- LuminanceAdjustmentMagenta: 0
- LuminanceAdjustmentOrange: 0
- LuminanceAdjustmentPurple: 0
- LuminanceAdjustmentRed: 0
- LuminanceAdjustmentYellow: 0
- LuminanceSmoothing: 0
- ParametricDarks: 0
- ParametricHighlightSplit: 75
- ParametricHighlights: 0
- ParametricLights: 0
- ParametricMidtoneSplit: 50
- ParametricShadowSplit: 25
- ParametricShadows: 0
- PostCropVignetteAmount: 0
- RedHue: 0
- RedSaturation: 0
- Saturation: 0
- SaturationAdjustmentAqua: 0
- SaturationAdjustmentBlue: 0
- SaturationAdjustmentGreen: 0
- SaturationAdjustmentMagenta: 0
- SaturationAdjustmentOrange: 0
- SaturationAdjustmentPurple: 0
- SaturationAdjustmentRed: 0
- SaturationAdjustmentYellow: 0
- ShadowTint: 0
- Shadows: 0
- SharpenDetail: 25
- SharpenEdgeMasking: 0
- SharpenRadius: +1.0
- Sharpness: 0
- SplitToningBalance: 0
- SplitToningHighlightHue: 0
- SplitToningHighlightSaturation: 0
- SplitToningShadowHue: 0
- SplitToningShadowSaturation: 0
- ToneCurve: 0, 0, 255, 255
- ToneCurveName: Linear
- Version: 5.6
- Vibrance: 0
- VignetteAmount: 0
- WhiteBalance: As Shot
- XMP-dc
- Description: OLYMPUS DIGITAL CAMERA
- XMP-exif
- ApertureValue: 4,0
- Contrast: High
- CustomRendered: Normal
- DateTimeDigitized: 2010:04:28 16:10:34+03:00
- DateTimeOriginal: 2010:04:28 16:10:34+03:00
- DigitalZoomRatio: 1
- ExifImageHeight: 768
- ExifImageWidth: 1001
- ExposureCompensation: -0,7
- ExposureMode: Manual
- ExposureProgram: Shutter speed priority AE
- ExposureTime: 1/1250
- FNumber: 4,0
- Flash:
- FocalLength: 35,0 mm
- GainControl: Low gain up
- ISO: 200
- LightSource: Unknown
- MaxApertureValue: 3,5
- MeteringMode: Multi-segment
- Saturation: High
- SceneCaptureType: Standard
- Sharpness: Hard
- ShutterSpeedValue: 1/1250
- WhiteBalance: Auto
- XMP-rdf
- XMP-tiff
- ImageHeight: 768
- ImageWidth: 1001
- Make: OLYMPUS IMAGING CORP.
- Model: E-520
- XMP-xmp
- CreateDate: 2010:04:28 16:10:34+03:00
- ModifyDate: 2010:05:16 18:30:10+03:00
Получить код для блога
Вставка фотографии в текущем разрешении |
Вставка миниатюры |
HTML (для вставки в блог):
BBCode (для вставки в форум):
Ссылка на фото:
Ссылка на миниатюру:
- Послать ссылку другу
Комментарии к фотографии |