» Участники » sekker » Макро » "сон бабочки" |
"сон бабочки" |
"сон бабочки"
- Раздел: Макро
- Дата съёмки: 11.07.2010 06:55
- Дата загрузки фото: 08.11.2010 09:43
- Оригинальная фотография: 768 x 1024 (329 Кб)
- Технические характеристики:
- Фотоаппарат: Canon PowerShot A620
- Выдержка: 1/400
- Гиперфокальное расстояние: inf m
- Диафрагма: 3,2
- Фокусное расстояние: 7,0 mm (35 mm equivalent: 98,0 mm)
- Полный EXIF
- Composite
- Aperture: 3,2
- CircleOfConfusion: 0,002 mm
- FOV: 20,0 deg
- FocalLength35efl: 7,0 mm (35 mm equivalent: 98,0 mm)
- HyperfocalDistance: inf m
- ScaleFactor35efl: 14,4
- ShutterSpeed: 1/400
- ICC-header
- IPTC
- Caption-Abstract: OLYMPUS DIGITAL CAMERA
- CopyrightNotice: ÄåГГЁГ± Ñåêêåð Impression Freedom
- System
- XMP-crs
- AlreadyApplied: True
- BlueHue: -22
- BlueSaturation: +22
- Brightness: +28
- CameraProfile: ACR 2.4
- ChromaticAberrationB: 0
- ChromaticAberrationR: +2
- Clarity: 0
- ColorNoiseReduction: 0
- Contrast: +100
- ConvertToGrayscale: False
- Defringe: 0
- Exposure: 0.00
- FillLight: 72
- GreenHue: -54
- GreenSaturation: +48
- HasCrop: False
- HasSettings: True
- HighlightRecovery: 72
- HueAdjustmentAqua: 0
- HueAdjustmentBlue: 0
- HueAdjustmentGreen: 0
- HueAdjustmentMagenta: 0
- HueAdjustmentOrange: 0
- HueAdjustmentPurple: 0
- HueAdjustmentRed: 0
- HueAdjustmentYellow: 0
- IncrementalTemperature: 0
- IncrementalTint: 0
- LuminanceAdjustmentAqua: 0
- LuminanceAdjustmentBlue: 0
- LuminanceAdjustmentGreen: 0
- LuminanceAdjustmentMagenta: 0
- LuminanceAdjustmentOrange: 0
- LuminanceAdjustmentPurple: 0
- LuminanceAdjustmentRed: 0
- LuminanceAdjustmentYellow: 0
- LuminanceSmoothing: 0
- ParametricDarks: +9
- ParametricHighlightSplit: 75
- ParametricHighlights: +21
- ParametricLights: +58
- ParametricMidtoneSplit: 50
- ParametricShadowSplit: 25
- ParametricShadows: -58
- PostCropVignetteAmount: 0
- RedHue: -100
- RedSaturation: +63
- Saturation: -9
- SaturationAdjustmentAqua: 0
- SaturationAdjustmentBlue: 0
- SaturationAdjustmentGreen: 0
- SaturationAdjustmentMagenta: 0
- SaturationAdjustmentOrange: 0
- SaturationAdjustmentPurple: 0
- SaturationAdjustmentRed: 0
- SaturationAdjustmentYellow: 0
- ShadowTint: 0
- Shadows: 23
- SharpenDetail: 25
- SharpenEdgeMasking: 0
- SharpenRadius: +1.0
- Sharpness: 48
- SplitToningBalance: 0
- SplitToningHighlightHue: 50
- SplitToningHighlightSaturation: 11
- SplitToningShadowHue: 50
- SplitToningShadowSaturation: 34
- ToneCurve: 0, 0, 255, 255
- ToneCurveName: Linear
- Version: 5.6
- Vibrance: +33
- VignetteAmount: 0
- WhiteBalance: As Shot
- XMP-dc
- Description: OLYMPUS DIGITAL CAMERA
- Rights: Денис Секкер Impression Freedom
- XMP-exif
- ApertureValue: 3,2
- CustomRendered: Normal
- DateTimeDigitized: 2010:07:11 06:55:16+03:00
- DateTimeOriginal: 2010:07:11 06:55:16+03:00
- DigitalZoomRatio: 1
- ExifImageHeight: 1024
- ExifImageWidth: 768
- ExposureCompensation: 0
- ExposureMode: Auto
- ExposureTime: 1/400
- FNumber: 3,2
- Flash:
- FocalLength: 7,3 mm
- MaxApertureValue: 2,8
- MeteringMode: Multi-segment
- SceneCaptureType: Standard
- SensingMethod: One-chip color area
- ShutterSpeedValue: 1/400
- WhiteBalance: Auto
- XMP-rdf
- XMP-tiff
- ImageHeight: 1024
- ImageWidth: 768
- Make: Canon
- Model: Canon PowerShot A620
- XMP-xmp
- CreateDate: 2010:07:11 06:55:16+03:00
- ModifyDate: 2010:07:22 18:46:37+03:00
Получить код для блога
Вставка фотографии в текущем разрешении |
Вставка миниатюры |
HTML (для вставки в блог):
BBCode (для вставки в форум):
Ссылка на фото:
Ссылка на миниатюру:
- Послать ссылку другу
Комментарии к фотографии |