- Раздел: Макро
- Дата съёмки: 10.01.2006 16:55
- Дата загрузки фото: 08.11.2010 09:43
- Оригинальная фотография: 874 x 1024 (560 Кб)
- Технические характеристики:
- Фотоаппарат: Canon PowerShot A710 IS
- Выдержка: 1/160
- Гиперфокальное расстояние: inf m
- Диафрагма: 8,0
- Фокусное расстояние: 5,0 mm (35 mm equivalent: 50,0 mm)
- Полный EXIF
- Composite
- Aperture: 8,0
- CircleOfConfusion: 0,003 mm
- FOV: 39,0 deg
- FocalLength35efl: 5,0 mm (35 mm equivalent: 50,0 mm)
- HyperfocalDistance: inf m
- ScaleFactor35efl: 10,0
- ShutterSpeed: 1/160
- ICC-header
- ICC-meas
- ICC-view
- System
- XMP-crs
- AlreadyApplied: True
- BlueHue: 0
- BlueSaturation: 0
- Brightness: 0
- CameraProfile: Embedded
- ChromaticAberrationB: 0
- ChromaticAberrationR: 0
- Clarity: +59
- ColorNoiseReduction: 0
- Contrast: 0
- ConvertToGrayscale: False
- CropAngle: -3.62328
- CropBottom: 0.762187
- CropConstrainToWarp: 0
- CropHeight: 1759
- CropLeft: 0.252252
- CropRight: 0.77649
- CropTop: 0.041762
- CropUnit: pixels
- CropWidth: 1502
- Defringe: 0
- Exposure: 0.00
- FillLight: 0
- GrainAmount: 0
- GreenHue: 0
- GreenSaturation: 0
- HasCrop: True
- HasSettings: True
- HighlightRecovery: 0
- HueAdjustmentAqua: 0
- HueAdjustmentBlue: 0
- HueAdjustmentGreen: +80
- HueAdjustmentMagenta: -50
- HueAdjustmentOrange: -2
- HueAdjustmentPurple: +5
- HueAdjustmentRed: -80
- HueAdjustmentYellow: +36
- IncrementalTemperature: 0
- IncrementalTint: 0
- LensManualDistortionAmount: 0
- LensProfileEnable: 0
- LensProfileSetup: LensDefaults
- LuminanceAdjustmentAqua: -50
- LuminanceAdjustmentBlue: 0
- LuminanceAdjustmentGreen: 0
- LuminanceAdjustmentMagenta: -2
- LuminanceAdjustmentOrange: +59
- LuminanceAdjustmentPurple: 0
- LuminanceAdjustmentRed: 0
- LuminanceAdjustmentYellow: -2
- LuminanceSmoothing: 0
- ParametricDarks: 0
- ParametricHighlightSplit: 75
- ParametricHighlights: 0
- ParametricLights: 0
- ParametricMidtoneSplit: 50
- ParametricShadowSplit: 25
- ParametricShadows: 0
- PerspectiveHorizontal: 0
- PerspectiveRotate: 0.0
- PerspectiveScale: 100
- PerspectiveVertical: 0
- PostCropVignetteAmount: 0
- ProcessVersion: 5.7
- RedHue: 0
- RedSaturation: 0
- Saturation: 0
- SaturationAdjustmentAqua: 0
- SaturationAdjustmentBlue: 0
- SaturationAdjustmentGreen: -7
- SaturationAdjustmentMagenta: 0
- SaturationAdjustmentOrange: 0
- SaturationAdjustmentPurple: 0
- SaturationAdjustmentRed: 0
- SaturationAdjustmentYellow: 0
- ShadowTint: 0
- Shadows: 0
- SharpenDetail: 25
- SharpenEdgeMasking: 0
- SharpenRadius: +1.0
- Sharpness: 0
- SplitToningBalance: 0
- SplitToningHighlightHue: 0
- SplitToningHighlightSaturation: 0
- SplitToningShadowHue: 0
- SplitToningShadowSaturation: 0
- ToneCurve: 0, 0, 255, 255
- ToneCurveName: Linear
- Version: 6.2
- Vibrance: 0
- VignetteAmount: 0
- WhiteBalance: As Shot
- XMP-exif
- ApertureValue: 8,0
- CustomRendered: Normal
- DateTimeDigitized: 2006:01:10 16:55:22+02:00
- DateTimeOriginal: 2006:01:10 16:55:22+02:00
- DigitalZoomRatio: 1
- ExifImageHeight: 1759
- ExifImageWidth: 1502
- ExposureCompensation: 0
- ExposureMode: Auto
- ExposureTime: 1/160
- FNumber: 8,0
- FlashFired: False
- FlashFunction: False
- FlashMode: Off
- FlashRedEyeMode: False
- FlashReturn: No return detection
- FocalLength: 5,8 mm
- MaxApertureValue: 2,8
- MeteringMode: Multi-segment
- SceneCaptureType: Standard
- SensingMethod: One-chip color area
- ShutterSpeedValue: 1/160
- WhiteBalance: Auto
- XMP-rdf
- XMP-tiff
- ImageHeight: 1759
- ImageWidth: 1502
- Make: Canon
- Model: Canon PowerShot A710 IS
- XMP-xmp
- CreateDate: 2006:01:10 16:55:22+02:00
- ModifyDate: 2010:09:29 20:13:54+03:00
- XMP-xmpMM