- Раздел: Животные
- Дата съёмки: 05.02.2006 20:03
- Дата загрузки фото: 08.11.2010 09:57
- Оригинальная фотография: 727 x 1024 (373 Кб)
- Технические характеристики:
- Фотоаппарат: Canon PowerShot A710 IS
- Выдержка: 1/30
- Гиперфокальное расстояние: inf m
- Диафрагма: 4,8
- Фокусное расстояние: 34,0 mm (35 mm equivalent: 612,0 mm)
- Полный EXIF
- Composite
- Aperture: 4,8
- CircleOfConfusion: 0,002 mm
- FOV: 3,0 deg
- FocalLength35efl: 34,0 mm (35 mm equivalent: 612,0 mm)
- HyperfocalDistance: inf m
- ScaleFactor35efl: 18,5
- ShutterSpeed: 1/30
- ICC-header
- ICC-meas
- ICC-view
- System
- XMP-crs
- AlreadyApplied: True
- BlueHue: 0
- BlueSaturation: 0
- Brightness: 0
- CameraProfile: Embedded
- ChromaticAberrationB: 0
- ChromaticAberrationR: 0
- Clarity: 0
- ColorNoiseReduction: 0
- Contrast: 0
- ConvertToGrayscale: False
- CropAngle: -1.85574
- CropBottom: 0.978242
- CropConstrainToWarp: 0
- CropHeight: 1024
- CropLeft: 0.001388
- CropRight: 0.937655
- CropTop: 0.053789
- CropUnit: pixels
- CropWidth: 727
- Defringe: 0
- Exposure: 0.00
- FillLight: 0
- GrainAmount: 0
- GreenHue: 0
- GreenSaturation: 0
- HasCrop: True
- HasSettings: True
- HighlightRecovery: 100
- HueAdjustmentAqua: 0
- HueAdjustmentBlue: 0
- HueAdjustmentGreen: +32
- HueAdjustmentMagenta: 0
- HueAdjustmentOrange: 0
- HueAdjustmentPurple: 0
- HueAdjustmentRed: 0
- HueAdjustmentYellow: 0
- IncrementalTemperature: 0
- IncrementalTint: 0
- LensManualDistortionAmount: 0
- LensProfileEnable: 0
- LensProfileSetup: LensDefaults
- LuminanceAdjustmentAqua: 0
- LuminanceAdjustmentBlue: 0
- LuminanceAdjustmentGreen: 0
- LuminanceAdjustmentMagenta: 0
- LuminanceAdjustmentOrange: 0
- LuminanceAdjustmentPurple: 0
- LuminanceAdjustmentRed: 0
- LuminanceAdjustmentYellow: 0
- LuminanceSmoothing: 0
- ParametricDarks: 0
- ParametricHighlightSplit: 75
- ParametricHighlights: 0
- ParametricLights: 0
- ParametricMidtoneSplit: 50
- ParametricShadowSplit: 25
- ParametricShadows: 0
- PerspectiveHorizontal: 0
- PerspectiveRotate: 0.0
- PerspectiveScale: 100
- PerspectiveVertical: 0
- PostCropVignetteAmount: 0
- ProcessVersion: 5.7
- RedHue: 0
- RedSaturation: 0
- Saturation: 0
- SaturationAdjustmentAqua: 0
- SaturationAdjustmentBlue: 0
- SaturationAdjustmentGreen: 0
- SaturationAdjustmentMagenta: 0
- SaturationAdjustmentOrange: 0
- SaturationAdjustmentPurple: 0
- SaturationAdjustmentRed: 0
- SaturationAdjustmentYellow: 0
- ShadowTint: 0
- Shadows: 0
- SharpenDetail: 25
- SharpenEdgeMasking: 0
- SharpenRadius: +1.0
- Sharpness: 0
- SplitToningBalance: 0
- SplitToningHighlightHue: 0
- SplitToningHighlightSaturation: 0
- SplitToningShadowHue: 0
- SplitToningShadowSaturation: 0
- ToneCurve: 0, 0, 255, 255
- ToneCurveName: Linear
- Version: 6.2
- Vibrance: 0
- VignetteAmount: 0
- WhiteBalance: As Shot
- XMP-exif
- ApertureValue: 4,8
- CustomRendered: Normal
- DateTimeDigitized: 2006:02:05 20:03:21+02:00
- DateTimeOriginal: 2006:02:05 20:03:21+02:00
- DigitalZoomRatio: 1
- ExifImageHeight: 1024
- ExifImageWidth: 727
- ExposureCompensation: 0
- ExposureMode: Auto
- ExposureTime: 1/30
- FNumber: 4,8
- FlashFired: False
- FlashFunction: False
- FlashMode: Off
- FlashRedEyeMode: False
- FlashReturn: No return detection
- FocalLength: 34,8 mm
- MaxApertureValue: 4,8
- MeteringMode: Multi-segment
- SceneCaptureType: Standard
- SensingMethod: One-chip color area
- ShutterSpeedValue: 1/30
- WhiteBalance: Auto
- XMP-rdf
- XMP-tiff
- ImageHeight: 1024
- ImageWidth: 727
- Make: Canon
- Model: Canon PowerShot A710 IS
- XMP-xmp
- CreateDate: 2006:02:05 20:03:21+02:00
- ModifyDate: 2010:10:22 21:31:26+03:00
- XMP-xmpMM