» Участники » sekker » Макро » Бегу- на завтрак, вышла- за пол года, в пути- перекушу. |
Бегу- на завтрак, вышла- за пол года, в пути- перекушу. |
Бегу- на завтрак, вышла- за пол года, в пути- перекушу.
- Раздел: Макро
- Дата съёмки: 22.04.2010 06:35
- Дата загрузки фото: 08.11.2010 20:59
- Оригинальная фотография: 767 x 1024 (537 Кб)
- Технические характеристики:
- Фотоаппарат: Olympus E-520
- Выдержка: 1/125
- Диафрагма: 4,5
- Светочувствительность: 100
- Фокусное расстояние: 35,0 mm
- Экспокоррекция: -0,7
- Полный EXIF
- Adobe
- ColorTransform: YCbCr
- Composite
- Aperture: 4,5
- FocalLength35efl: 35,0 mm
- ShutterSpeed: 1/125
- ExifIFD
- ApertureValue: 4,5
- Contrast: High
- CreateDate: 2010:04:22 06:35:12
- CustomRendered: Normal
- DateTimeOriginal: 2010:04:22 06:35:12
- DigitalZoomRatio: 1
- ExposureCompensation: -0,7
- ExposureMode: Manual
- ExposureProgram: Program AE
- ExposureTime: 1/125
- FNumber: 4,5
- Flash: Auto, Did not fire
- FocalLength: 35,0 mm
- GainControl: None
- ISO: 100
- LightSource: Unknown
- MaxApertureValue: 3,5
- MeteringMode: Multi-segment
- Saturation: High
- SceneCaptureType: Standard
- Sharpness: Hard
- ShutterSpeedValue: 1/125
- WhiteBalance: Auto
- ICC-header
- ICC-meas
- ICC-view
- IFD0
- ImageDescription: OLYMPUS DIGITAL CAMERA
- Make: OLYMPUS IMAGING CORP.
- Model: E-520
- ModifyDate: 2010:04:22 10:21:05
- Software: Version 1.1
- IFD1
- IPTC
- Caption-Abstract: OLYMPUS DIGITAL CAMERA
- Keywords: sysys
- System
- XMP-aux
- FlashCompensation: 0
- Lens: OLYMPUS 35mm Lens
- LensInfo: 35mm f/3.5
- LensSerialNumber: 192035831
- SerialNumber: G28514138
- XMP-crs
- AlreadyApplied: True
- BlueHue: 0
- BlueSaturation: 0
- Brightness: 0
- CameraProfile: Embedded
- ChromaticAberrationB: 0
- ChromaticAberrationR: 0
- Clarity: 0
- ColorNoiseReduction: 0
- Contrast: 0
- ConvertToGrayscale: False
- CropAngle: 0
- CropBottom: 1
- CropHeight: 1024
- CropLeft: 0.326942
- CropRight: 0.889002
- CropTop: 0
- CropUnit: pixels
- CropWidth: 767
- Defringe: 0
- Exposure: 0.00
- FillLight: 0
- GrainAmount: 0
- GreenHue: 0
- GreenSaturation: 0
- HasCrop: True
- HasSettings: True
- HighlightRecovery: 0
- HueAdjustmentAqua: 0
- HueAdjustmentBlue: 0
- HueAdjustmentGreen: 0
- HueAdjustmentMagenta: 0
- HueAdjustmentOrange: 0
- HueAdjustmentPurple: 0
- HueAdjustmentRed: 0
- HueAdjustmentYellow: 0
- IncrementalTemperature: 0
- IncrementalTint: 0
- LuminanceAdjustmentAqua: 0
- LuminanceAdjustmentBlue: 0
- LuminanceAdjustmentGreen: +84
- LuminanceAdjustmentMagenta: 0
- LuminanceAdjustmentOrange: 0
- LuminanceAdjustmentPurple: 0
- LuminanceAdjustmentRed: 0
- LuminanceAdjustmentYellow: +79
- ParametricDarks: 0
- ParametricHighlightSplit: 75
- ParametricHighlights: 0
- ParametricLights: 0
- ParametricMidtoneSplit: 50
- ParametricShadowSplit: 25
- ParametricShadows: 0
- PostCropVignetteAmount: 0
- RedHue: 0
- RedSaturation: 0
- RenderVersion: 5.7
- Saturation: 0
- SaturationAdjustmentAqua: 0
- SaturationAdjustmentBlue: 0
- SaturationAdjustmentGreen: 0
- SaturationAdjustmentMagenta: 0
- SaturationAdjustmentOrange: 0
- SaturationAdjustmentPurple: 0
- SaturationAdjustmentRed: 0
- SaturationAdjustmentYellow: 0
- ShadowTint: 0
- Shadows: 0
- SharpenDetail: 25
- SharpenEdgeMasking: 0
- SharpenRadius: +1.0
- Sharpness: 0
- SplitToningBalance: 0
- SplitToningHighlightHue: 0
- SplitToningHighlightSaturation: 0
- SplitToningShadowHue: 0
- SplitToningShadowSaturation: 0
- ToneCurve: 0, 0, 255, 255
- ToneCurveName: Linear
- Version: 6.0
- Vibrance: 0
- VignetteAmount: +100
- VignetteMidpoint: 50
- WhiteBalance: As Shot
- XMP-dc
- Description: OLYMPUS DIGITAL CAMERA
- Subject: sysys
- XMP-exif
- DateTimeDigitized: 2010:04:22 06:35:12+03:00
- DateTimeOriginal: 2010:04:22 06:35:12+03:00
- ExifImageHeight: 1024
- ExifImageWidth: 767
- Flash:
- XMP-rdf
- XMP-tiff
- ImageHeight: 1024
- ImageWidth: 767
- XMP-xmp
- CreateDate: 2010:04:22 06:35:12+03:00
- ModifyDate: 2010:04:22 10:21:05+03:00
- Просмотров: 261
- Рейтинг: голосов еще нет
- Отзывов: 0
Получить код для блога
Вставка фотографии в текущем разрешении |
Вставка миниатюры |
HTML (для вставки в блог):
BBCode (для вставки в форум):
Ссылка на фото:
Ссылка на миниатюру:
- Послать ссылку другу
Комментарии к фотографии |