- Раздел: Архитектура
- Дата съёмки: 27.11.2010 17:16
- Дата загрузки фото: 03.12.2010 19:43
- Оригинальная фотография: 1495 x 1008 (917 Кб)
- Технические характеристики:
- Фотоаппарат: Nikon D5000
- Выдержка: 5,0
- Гиперфокальное расстояние: inf m
- Диафрагма: 9,0
- Светочувствительность: 200
- Фокусное расстояние: 18,0 mm (35 mm equivalent: 18,0 mm)
- Полный EXIF
- Adobe
- ColorTransform: YCbCr
- Composite
- Aperture: 9,0
- CircleOfConfusion: 0,020 mm
- DOF: inf (0,00 m - inf)
- FOV: 90,0 deg
- FocalLength35efl: 18,0 mm (35 mm equivalent: 18,0 mm)
- HyperfocalDistance: inf m
- LightValue: 3,0
- ScaleFactor35efl: 1,5
- ShutterSpeed: 5,0
- ExifIFD
- ApertureValue: 9,0
- CFAPattern: [Green,Blue][Red,Green]
- ColorSpace: sRGB
- Contrast: Normal
- CreateDate: 2010:11:27 17:16:48
- CustomRendered: Normal
- DateTimeOriginal: 2010:11:27 17:16:48
- DigitalZoomRatio: 1
- ExifImageHeight: 1008
- ExifImageWidth: 1495
- ExposureCompensation: 0
- ExposureMode: Auto
- ExposureProgram: Shutter speed priority AE
- ExposureTime: 5,0
- FNumber: 9,0
- Flash: On, Return detected
- FocalLength: 18,0 mm
- FocalLengthIn35mmFormat: 27 mm
- GainControl: None
- ISO: 200
- LightSource: Unknown
- MaxApertureValue: 3,5
- MeteringMode: Multi-segment
- Saturation: Normal
- SceneCaptureType: Standard
- SceneType: Directly photographed
- SensingMethod: One-chip color area
- Sharpness: Normal
- ShutterSpeedValue: 5,0
- SubjectDistance: 4294967295 m
- SubjectDistanceRange: Unknown
- WhiteBalance: Auto
- ICC-header
- ICC-meas
- ICC-view
- IFD0
- BitsPerSample: 8 8 8
- ImageHeight: 2450
- ImageWidth: 3642
- Make: NIKON CORPORATION
- Model: NIKON D5000
- ModifyDate: 2010:12:03 19:34:15
- Orientation: Horizontal (normal)
- PhotometricInterpretation: RGB
- SamplesPerPixel: 3
- IFD1
- IPTC
- DateCreated: 2010:11:27
- System
- XMP-aux
- ImageNumber: 17569
- Lens: 18.0-55.0 mm f/3.5-5.6
- LensID: 154
- LensInfo: 18-55mm f/3.5-5.6
- SerialNumber: 6294075
- XMP-crs
- AlreadyApplied: True
- BlueHue: 0
- BlueSaturation: 0
- Brightness: +50
- ChromaticAberrationB: 0
- ChromaticAberrationR: 0
- Clarity: +50
- ColorNoiseReduction: 25
- ColorNoiseReductionDetail: 50
- Contrast: +60
- ConvertToGrayscale: False
- Defringe: 0
- Exposure: 0.00
- FillLight: 40
- GrainAmount: 0
- GreenHue: 0
- GreenSaturation: 0
- HasCrop: False
- HasSettings: True
- HighlightRecovery: 0
- HueAdjustmentAqua: 0
- HueAdjustmentBlue: 0
- HueAdjustmentGreen: +25
- HueAdjustmentMagenta: 0
- HueAdjustmentOrange: +10
- HueAdjustmentPurple: 0
- HueAdjustmentRed: 0
- HueAdjustmentYellow: +25
- LensManualDistortionAmount: 0
- LensProfileEnable: 0
- LensProfileSetup: LensDefaults
- LuminanceAdjustmentAqua: 0
- LuminanceAdjustmentBlue: 0
- LuminanceAdjustmentGreen: +100
- LuminanceAdjustmentMagenta: 0
- LuminanceAdjustmentOrange: 0
- LuminanceAdjustmentPurple: 0
- LuminanceAdjustmentRed: 0
- LuminanceAdjustmentYellow: 0
- LuminanceNoiseReductionContrast: 50
- LuminanceNoiseReductionDetail: 50
- LuminanceSmoothing: 50
- ParametricDarks: +60
- ParametricHighlightSplit: 75
- ParametricHighlights: 0
- ParametricLights: -60
- ParametricMidtoneSplit: 50
- ParametricShadowSplit: 25
- ParametricShadows: +35
- PerspectiveHorizontal: 0
- PerspectiveRotate: 0.0
- PerspectiveScale: 100
- PerspectiveVertical: 0
- PostCropVignetteAmount: 0
- ProcessVersion: 5.7
- RawFileName: DSC_9012.NEF
- RedHue: 0
- RedSaturation: 0
- Saturation: 0
- SaturationAdjustmentAqua: 0
- SaturationAdjustmentBlue: 0
- SaturationAdjustmentGreen: +100
- SaturationAdjustmentMagenta: 0
- SaturationAdjustmentOrange: 0
- SaturationAdjustmentPurple: 0
- SaturationAdjustmentRed: 0
- SaturationAdjustmentYellow: 0
- ShadowTint: 0
- Shadows: 5
- SharpenDetail: 50
- SharpenEdgeMasking: 0
- SharpenRadius: +2.0
- Sharpness: 80
- SplitToningBalance: 0
- SplitToningHighlightHue: 200
- SplitToningHighlightSaturation: 30
- SplitToningShadowHue: 215
- SplitToningShadowSaturation: 50
- Temperature: 2850
- Tint: 0
- ToneCurve: 0, 0, 32, 22, 64, 56, 128, 128, 192, 196, 255, 255
- ToneCurveName: Medium Contrast
- Version: 6.1
- Vibrance: +70
- VignetteAmount: 0
- XMP-dc
- XMP-xmp
- CreateDate: 2010:11:27 17:16:48.50+03:00
- ModifyDate: 2010:12:03 19:34:15+03:00
- Rating: 0
- XMP-xmpMM
- Просмотров: 405
- Рейтинг: голосов еще нет
- Отзывов: 0