- Раздел: Животные
- Дата съёмки: 02.12.2010 14:07
- Дата загрузки фото: 06.12.2010 20:52
- Оригинальная фотография: 958 x 672 (533 Кб)
- Технические характеристики:
- Фотоаппарат: Canon EOS Kiss X3
- Выдержка: 1/200
- Гиперфокальное расстояние: inf m
- Диафрагма: 4,0
- Светочувствительность: 200
- Фокусное расстояние: 105,0 mm (35 mm equivalent: 735,0 mm)
- Полный EXIF
- Adobe
- ColorTransform: YCbCr
- Composite
- Aperture: 4,0
- CircleOfConfusion: 0,004 mm
- DOF: inf (0,00 m - inf)
- FOV: 2,0 deg
- FocalLength35efl: 105,0 mm (35 mm equivalent: 735,0 mm)
- HyperfocalDistance: inf m
- ScaleFactor35efl: 7,7
- ShutterSpeed: 1/200
- ExifIFD
- ApertureValue: 4,0
- CreateDate: 2010:12:02 14:07:06
- CustomRendered: Normal
- DateTimeOriginal: 2010:12:02 14:07:06
- ExposureCompensation: 0
- ExposureMode: Auto
- ExposureProgram: Aperture-priority AE
- ExposureTime: 1/200
- FNumber: 4,0
- Flash: Off, Did not fire
- FocalLength: 105,0 mm
- ISO: 200
- LensInfo: 24-105mm f/?
- LensModel: EF24-105mm f/4L IS USM
- MaxApertureValue: 4,0
- MeteringMode: Multi-segment
- OwnerName: Michael Ortenberg
- SceneCaptureType: Standard
- SensitivityType: Unknown
- SerialNumber: 310109437
- ShutterSpeedValue: 1/200
- SubjectDistance: 11,9 m
- WhiteBalance: Auto
- ICC-header
- ICC-meas
- ICC-view
- IFD0
- Artist: Photographer: Michael Ortenberg
- Copyright: Copyright: Michael Ortenberg
- Make: Canon
- Model: Canon EOS Kiss X3
- ModifyDate: 2010:12:02 18:23:56
- IFD1
- IPTC
- By-line: Photographer: Michael Ortenberg
- CopyrightNotice: Copyright: Michael Ortenberg
- System
- XMP-aux
- ApproximateFocusDistance: 11,9
- Firmware: 1.1.0
- FlashCompensation: 0
- ImageNumber: 0
- Lens: EF24-105mm f/4L IS USM
- LensID: 237
- XMP-crs
- AlreadyApplied: True
- BlueHue: 0
- BlueSaturation: +10
- Brightness: +50
- ChromaticAberrationB: 0
- ChromaticAberrationR: 0
- Clarity: +31
- ColorNoiseReduction: 44
- ColorNoiseReductionDetail: 71
- Contrast: +69
- ConvertToGrayscale: False
- CropAngle: 0
- CropBottom: 0.588859
- CropConstrainToWarp: 0
- CropHeight: 672
- CropLeft: 0.381079
- CropRight: 0.58267
- CropTop: 0.376658
- CropUnit: pixels
- CropWidth: 958
- Defringe: 0
- Exposure: +0.23
- FillLight: 0
- GrainAmount: 0
- GreenHue: 0
- GreenSaturation: 0
- HasCrop: True
- HasSettings: True
- HighlightRecovery: 0
- HueAdjustmentAqua: 0
- HueAdjustmentBlue: 0
- HueAdjustmentGreen: 0
- HueAdjustmentMagenta: 0
- HueAdjustmentOrange: 0
- HueAdjustmentPurple: 0
- HueAdjustmentRed: 0
- HueAdjustmentYellow: 0
- LensManualDistortionAmount: 0
- LensProfileChromaticAberrationScale: 100
- LensProfileDistortionScale: 100
- LensProfileEnable: 1
- LensProfileFilename: Canon EOS-1Ds Mark III (Canon EF 24-105mm f4 L IS USM) - RAW.lcp
- LensProfileSetup: LensDefaults
- LensProfileVignettingScale: 100
- LuminanceAdjustmentAqua: 0
- LuminanceAdjustmentBlue: 0
- LuminanceAdjustmentGreen: 0
- LuminanceAdjustmentMagenta: 0
- LuminanceAdjustmentOrange: 0
- LuminanceAdjustmentPurple: 0
- LuminanceAdjustmentRed: 0
- LuminanceAdjustmentYellow: 0
- LuminanceNoiseReductionContrast: 23
- LuminanceNoiseReductionDetail: 62
- LuminanceSmoothing: 26
- ParametricDarks: -9
- ParametricHighlightSplit: 75
- ParametricHighlights: +16
- ParametricLights: +3
- ParametricMidtoneSplit: 50
- ParametricShadowSplit: 25
- ParametricShadows: -9
- PerspectiveHorizontal: 0
- PerspectiveRotate: 0.0
- PerspectiveScale: 100
- PerspectiveVertical: 0
- PostCropVignetteAmount: 0
- ProcessVersion: 5.7
- RedHue: 0
- RedSaturation: 0
- Saturation: +22
- SaturationAdjustmentAqua: 0
- SaturationAdjustmentBlue: 0
- SaturationAdjustmentGreen: 0
- SaturationAdjustmentMagenta: 0
- SaturationAdjustmentOrange: 0
- SaturationAdjustmentPurple: 0
- SaturationAdjustmentRed: 0
- SaturationAdjustmentYellow: 0
- ShadowTint: 0
- Shadows: 5
- SharpenDetail: 39
- SharpenEdgeMasking: 20
- SharpenRadius: +1.0
- Sharpness: 57
- SplitToningBalance: 0
- SplitToningHighlightHue: 0
- SplitToningHighlightSaturation: 0
- SplitToningShadowHue: 0
- SplitToningShadowSaturation: 0
- Temperature: 4350
- Tint: +2
- ToneCurve: 0, 0, 32, 22, 64, 56, 128, 128, 192, 196, 255, 255
- ToneCurveName: Medium Contrast
- Version: 6.2
- Vibrance: +20
- VignetteAmount: 0
- WhiteBalance: As Shot
- XMP-dc
- Creator: Photographer: Michael Ortenberg
- Rights: Copyright: Michael Ortenberg
- XMP-exif
- DateTimeDigitized: 2010:12:02 14:07:06.34+02:00
- DateTimeOriginal: 2010:12:02 14:07:06.34+02:00
- ExifImageHeight: 672
- ExifImageWidth: 958
- FlashFired: False
- FlashFunction: False
- FlashMode: Off
- FlashRedEyeMode: False
- FlashReturn: No return detection
- XMP-tiff
- ImageHeight: 672
- ImageWidth: 958
- XMP-xmp
- CreateDate: 2010:12:02 14:07:06.34+02:00
- ModifyDate: 2010:12:02 18:23:56+02:00
- Просмотров: 290
- Рейтинг: голосов еще нет
- Отзывов: 0