- Раздел: Другое, разное
- Дата съёмки: 07.06.2010 09:59
- Дата загрузки фото: 02.06.2011 18:16
- Оригинальная фотография: 1200 x 814 (620 Кб)
- Технические характеристики:
- Фотоаппарат: Canon EOS 550D
- Выдержка: 1/125
- Гиперфокальное расстояние: inf m
- Диафрагма: 11,0
- Светочувствительность: 100
- Фокусное расстояние: 70,0 mm (35 mm equivalent: 420,0 mm)
- Полный EXIF
- Adobe
- ColorTransform: YCbCr
- Composite
- Aperture: 11,0
- CircleOfConfusion: 0,004 mm
- DOF: inf (0,00 m - inf)
- FOV: 4,0 deg
- FocalLength35efl: 70,0 mm (35 mm equivalent: 420,0 mm)
- HyperfocalDistance: inf m
- ScaleFactor35efl: 6,8
- ShutterSpeed: 1/125
- ExifIFD
- ApertureValue: 11,0
- ColorSpace: sRGB
- CreateDate: 2010:06:07 10:59:04
- CustomRendered: Normal
- DateTimeOriginal: 2010:06:07 09:59:04
- ExifImageHeight: 814
- ExifImageWidth: 1200
- ExposureCompensation: 0
- ExposureMode: Auto
- ExposureProgram: Not Defined
- ExposureTime: 1/125
- FNumber: 11,0
- Flash: Off, Did not fire
- FocalLength: 70,0 mm
- ISO: 100
- LensInfo: 70-300mm f/?
- LensModel: EF70-300mm f/4-5.6 IS USM
- MaxApertureValue: 4,0
- MeteringMode: Multi-segment
- SceneCaptureType: Standard
- SensitivityType: Unknown
- SerialNumber: 332100137
- ShutterSpeedValue: 1/125
- SubjectDistance: 15,4 m
- WhiteBalance: Auto
- ICC-header
- ICC-meas
- ICC-view
- IFD0
- Artist: zava
- BitsPerSample: 8 8 8
- Copyright: zava(c)ins
- ImageHeight: 814
- ImageWidth: 1200
- Make: Canon
- Model: Canon EOS 550D
- ModifyDate: 2011:04:15 18:12:15
- Orientation: Horizontal (normal)
- PhotometricInterpretation: RGB
- SamplesPerPixel: 3
- IFD1
- IPTC
- By-line: zava
- CopyrightNotice: zava(c)ins
- DateCreated: 2010:06:07
- ObjectName:
- System
- XMP-acdsee
- XMP-aux
- ApproximateFocusDistance: 15,4
- Firmware: 1.0.6
- FlashCompensation: 0
- ImageNumber: 0
- Lens: EF70-300mm f/4-5.6 IS USM
- LensID: 238
- XMP-crs
- AlreadyApplied: True
- BlueHue: 0
- BlueSaturation: 0
- Brightness: +70
- ChromaticAberrationB: 0
- ChromaticAberrationR: 0
- Clarity: +37
- ColorNoiseReduction: 25
- ColorNoiseReductionDetail: 50
- Contrast: +49
- ConvertToGrayscale: False
- CropAngle: -0.874164
- CropBottom: 0.978845
- CropConstrainToWarp: 1
- CropLeft: 0.009508
- CropRight: 0.943395
- CropTop: 0.059223
- Defringe: 0
- Exposure: 0.00
- FillLight: 29
- GrainAmount: 0
- GreenHue: 0
- GreenSaturation: 0
- HasCrop: True
- HasSettings: True
- HighlightRecovery: 0
- HueAdjustmentAqua: 0
- HueAdjustmentBlue: 0
- HueAdjustmentGreen: 0
- HueAdjustmentMagenta: 0
- HueAdjustmentOrange: 0
- HueAdjustmentPurple: 0
- HueAdjustmentRed: 0
- HueAdjustmentYellow: 0
- LensManualDistortionAmount: 0
- LensProfileChromaticAberrationScale: 100
- LensProfileDistortionScale: 100
- LensProfileEnable: 1
- LensProfileFilename: Canon EOS-1Ds Mark III (Canon EF 70-300mm f4-5.6 IS USM) - RAW.lcp
- LensProfileSetup: LensDefaults
- LensProfileVignettingScale: 100
- LuminanceAdjustmentAqua: 0
- LuminanceAdjustmentBlue: 0
- LuminanceAdjustmentGreen: 0
- LuminanceAdjustmentMagenta: 0
- LuminanceAdjustmentOrange: 0
- LuminanceAdjustmentPurple: 0
- LuminanceAdjustmentRed: 0
- LuminanceAdjustmentYellow: +30
- LuminanceNoiseReductionContrast: 0
- LuminanceNoiseReductionDetail: 50
- LuminanceSmoothing: 26
- ParametricDarks: +18
- ParametricHighlightSplit: 75
- ParametricHighlights: 0
- ParametricLights: 0
- ParametricMidtoneSplit: 50
- ParametricShadowSplit: 25
- ParametricShadows: +23
- PerspectiveHorizontal: 0
- PerspectiveRotate: 0.0
- PerspectiveScale: 100
- PerspectiveVertical: 0
- PostCropVignetteAmount: 0
- ProcessVersion: 5.7
- RawFileName: IMG_1479.CR2
- RedHue: 0
- RedSaturation: 0
- Saturation: 0
- SaturationAdjustmentAqua: 0
- SaturationAdjustmentBlue: +78
- SaturationAdjustmentGreen: 0
- SaturationAdjustmentMagenta: 0
- SaturationAdjustmentOrange: 0
- SaturationAdjustmentPurple: 0
- SaturationAdjustmentRed: 0
- SaturationAdjustmentYellow: +14
- ShadowTint: 0
- Shadows: 8
- SharpenDetail: 10
- SharpenEdgeMasking: 0
- SharpenRadius: +0.8
- Sharpness: 36
- SplitToningBalance: 0
- SplitToningHighlightHue: 0
- SplitToningHighlightSaturation: 0
- SplitToningShadowHue: 0
- SplitToningShadowSaturation: 0
- Temperature: 5800
- Tint: +5
- ToneCurve: 0, 0, 32, 22, 64, 56, 128, 128, 192, 196, 255, 255
- ToneCurveName: Medium Contrast
- Version: 6.3
- Vibrance: +22
- VignetteAmount: 0
- WhiteBalance: As Shot
- XMP-dc
- Creator: zava
- Format: image/jpeg
- Rights: zava(c)ins
- Title:
- XMP-xmp
- CreateDate: 2010:06:07 10:59:04.02+04:00
- ModifyDate: 2011:04:15 18:12:15+04:00
- Rating: 0
- XMP-xmpMM