- Раздел: Натюрморт
- Дата съёмки: 15.12.2010 14:46
- Дата загрузки фото: 23.12.2010 21:06
- Оригинальная фотография: 947 x 726 (253 Кб)
- Технические характеристики:
- Фотоаппарат: Pentax K20D
- Выдержка: 30,0
- Гиперфокальное расстояние: inf m
- Диафрагма: 11,0
- Светочувствительность: 250
- Фокусное расстояние: 40,0 mm (35 mm equivalent: 40,0 mm)
- Экспокоррекция: +0,7
- Полный EXIF
- Adobe
- ColorTransform: YCbCr
- Composite
- Aperture: 11,0
- CircleOfConfusion: 0,020 mm
- FOV: 48,0 deg
- FocalLength35efl: 40,0 mm (35 mm equivalent: 40,0 mm)
- HyperfocalDistance: inf m
- LightValue: 0,7
- ScaleFactor35efl: 1,5
- ShutterSpeed: 30,0
- ExifIFD
- ApertureValue: 11,0
- CFAPattern: [Blue,Green][Green,Red]
- ColorSpace: sRGB
- Contrast: Normal
- CreateDate: 2010:12:15 14:46:32
- CustomRendered: Normal
- DateTimeOriginal: 2010:12:15 14:46:32
- ExifImageHeight: 726
- ExifImageWidth: 947
- ExposureCompensation: +0,7
- ExposureMode: Auto bracket
- ExposureProgram: Aperture-priority AE
- ExposureTime: 30,0
- FNumber: 11,0
- Flash: Off, Did not fire
- FocalLength: 40,0 mm
- FocalLengthIn35mmFormat: 60 mm
- ISO: 250
- LensInfo: 40mm f/2.8
- LensModel: smc PENTAX-DA 40mm F2.8 Limited
- MeteringMode: Center-weighted average
- Saturation: Normal
- SceneCaptureType: Standard
- SensingMethod: One-chip color area
- SensitivityType: Unknown
- Sharpness: Hard
- ShutterSpeedValue: 30,0
- SubjectDistanceRange: Close
- WhiteBalance: Manual
- ICC-header
- ICC-meas
- ICC-view
- IFD0
- Artist: Pavlo Drevnytskyy
- BitsPerSample: 16 16 16
- Copyright: (c). Pavlo Drevnytskyy. All Rights Reserved.
- ImageHeight: 2912
- ImageWidth: 3713
- Make: PENTAX
- Model: PENTAX K20D
- ModifyDate: 2010:12:22 19:31:16
- Orientation: Horizontal (normal)
- PhotometricInterpretation: RGB
- PlanarConfiguration: Chunky
- SamplesPerPixel: 3
- IFD1
- IPTC
- By-line: Pavlo Drevnytskyy
- CopyrightNotice: (c). Pavlo Drevnytskyy. All Rights Reserved.
- DateCreated: 2010:12:15
- ObjectName: Circles
- System
- XMP-aux
- Lens: smc PENTAX-DA 40mm F2.8 Limited
- LensID: 4 251
- XMP-crs
- AlreadyApplied: True
- BlueHue: 0
- BlueSaturation: 0
- Brightness: +50
- ChromaticAberrationB: 0
- ChromaticAberrationR: 0
- Clarity: +59
- ColorNoiseReduction: 25
- ColorNoiseReductionDetail: 50
- Contrast: +25
- ConvertToGrayscale: False
- CropAngle: 1.31018
- CropBottom: 0.965322
- CropConstrainToWarp: 0
- CropHeight: 2912
- CropLeft: 0.061775
- CropRight: 0.842138
- CropTop: 0
- CropUnit: pixels
- CropWidth: 3713
- Defringe: 0
- Exposure: +1.06
- FillLight: 0
- GrainAmount: 0
- GreenHue: 0
- GreenSaturation: 0
- HasCrop: True
- HasSettings: True
- HighlightRecovery: 0
- HueAdjustmentAqua: 0
- HueAdjustmentBlue: 0
- HueAdjustmentGreen: 0
- HueAdjustmentMagenta: 0
- HueAdjustmentOrange: 0
- HueAdjustmentPurple: 0
- HueAdjustmentRed: 0
- HueAdjustmentYellow: 0
- LensManualDistortionAmount: 0
- LensProfileEnable: 0
- LensProfileSetup: LensDefaults
- LuminanceAdjustmentAqua: 0
- LuminanceAdjustmentBlue: 0
- LuminanceAdjustmentGreen: 0
- LuminanceAdjustmentMagenta: 0
- LuminanceAdjustmentOrange: 0
- LuminanceAdjustmentPurple: 0
- LuminanceAdjustmentRed: 0
- LuminanceAdjustmentYellow: 0
- LuminanceSmoothing: 0
- ParametricDarks: -3
- ParametricHighlightSplit: 75
- ParametricHighlights: +60
- ParametricLights: 0
- ParametricMidtoneSplit: 50
- ParametricShadowSplit: 25
- ParametricShadows: -12
- PerspectiveHorizontal: 0
- PerspectiveRotate: 0.0
- PerspectiveScale: 100
- PerspectiveVertical: 0
- PostCropVignetteAmount: 0
- ProcessVersion: 5.7
- RedHue: +10
- RedSaturation: -6
- Saturation: 0
- SaturationAdjustmentAqua: 0
- SaturationAdjustmentBlue: 0
- SaturationAdjustmentGreen: 0
- SaturationAdjustmentMagenta: 0
- SaturationAdjustmentOrange: 0
- SaturationAdjustmentPurple: 0
- SaturationAdjustmentRed: 0
- SaturationAdjustmentYellow: 0
- ShadowTint: 0
- Shadows: 5
- SharpenDetail: 25
- SharpenEdgeMasking: 0
- SharpenRadius: +1.0
- Sharpness: 25
- SplitToningBalance: 0
- SplitToningHighlightHue: 0
- SplitToningHighlightSaturation: 0
- SplitToningShadowHue: 0
- SplitToningShadowSaturation: 0
- Temperature: 3674
- Tint: -13
- ToneCurve: 0, 0, 255, 255
- ToneCurveName: Linear
- Version: 6.3
- Vibrance: 0
- VignetteAmount: 0
- WhiteBalance: Custom
- XMP-dc
- Creator: Pavlo Drevnytskyy
- Format: image/jpeg
- Rights: (c). Pavlo Drevnytskyy. All Rights Reserved.
- Title: Circles
- XMP-xmp
- CreateDate: 2010:12:15 14:46:32+02:00
- ModifyDate: 2010:12:22 19:31:16+02:00
- Rating: 5
- XMP-xmpMM