- Раздел: Семья, личное
- Дата съёмки: 02.01.2011 01:31
- Дата загрузки фото: 09.01.2011 15:11
- Оригинальная фотография: 4592 x 3056 (2,5 Мб)
- Технические характеристики:
- Фотоаппарат: Sony SLT-A33
- Выдержка: 1/15
- Гиперфокальное расстояние: inf m
- Диафрагма: 1,8
- Светочувствительность: 1600
- Фокусное расстояние: 50,0 mm (35 mm equivalent: 50,0 mm)
- Экспокоррекция: +1
- Полный EXIF
- Adobe
- ColorTransform: YCbCr
- Composite
- Aperture: 1,8
- CircleOfConfusion: 0,020 mm
- FOV: 39,0 deg
- FocalLength35efl: 50,0 mm (35 mm equivalent: 50,0 mm)
- HyperfocalDistance: inf m
- ScaleFactor35efl: 1,5
- ShutterSpeed: 1/15
- ExifIFD
- ApertureValue: 1,8
- BrightnessValue: -3,5
- ColorSpace: sRGB
- Contrast: Normal
- CreateDate: 2011:01:02 01:31:08
- CustomRendered: Normal
- DateTimeOriginal: 2011:01:02 01:31:08
- ExifImageHeight: 3056
- ExifImageWidth: 4592
- ExposureCompensation: +1
- ExposureMode: Auto bracket
- ExposureProgram: Aperture-priority AE
- ExposureTime: 1/15
- FNumber: 1,8
- Flash: Off, Did not fire
- FocalLength: 50,0 mm
- FocalLengthIn35mmFormat: 75 mm
- ISO: 1600
- LensInfo: 50mm f/1.8
- LensModel: DT 50mm F1.8 SAM
- LightSource: Unknown
- MaxApertureValue: 1,8
- MeteringMode: Multi-segment
- RecommendedExposureIndex: 1600
- Saturation: Normal
- SceneCaptureType: Standard
- SceneType: Directly photographed
- SensitivityType: Recommended Exposure Index
- Sharpness: Normal
- ShutterSpeedValue: 1/15
- WhiteBalance: Auto
- ICC-header
- ICC-meas
- ICC-view
- IFD0
- ImageDescription: SONY DSC
- Make: SONY
- Model: SLT-A33
- ModifyDate: 2011:01:09 13:41:29
- Orientation: Horizontal (normal)
- IFD1
- IPTC
- Caption-Abstract: SONY DSC
- System
- XMP-aux
- Lens: DT 50mm F1.8 SAM
- LensID: 57
- XMP-crs
- AlreadyApplied: True
- BlueHue: 0
- BlueSaturation: 0
- Brightness: +19
- ChromaticAberrationB: 0
- ChromaticAberrationR: 0
- Clarity: +8
- ColorNoiseReduction: 25
- ColorNoiseReductionDetail: 50
- Contrast: +5
- ConvertToGrayscale: False
- Defringe: 0
- Exposure: +0.99
- FillLight: 41
- GrainAmount: 0
- GreenHue: 0
- GreenSaturation: 0
- HasCrop: False
- HasSettings: True
- HighlightRecovery: 0
- HueAdjustmentAqua: 0
- HueAdjustmentBlue: 0
- HueAdjustmentGreen: 0
- HueAdjustmentMagenta: 0
- HueAdjustmentOrange: 0
- HueAdjustmentPurple: 0
- HueAdjustmentRed: 0
- HueAdjustmentYellow: 0
- LensManualDistortionAmount: 0
- LensProfileEnable: 0
- LensProfileSetup: LensDefaults
- LuminanceAdjustmentAqua: 0
- LuminanceAdjustmentBlue: 0
- LuminanceAdjustmentGreen: 0
- LuminanceAdjustmentMagenta: 0
- LuminanceAdjustmentOrange: 0
- LuminanceAdjustmentPurple: 0
- LuminanceAdjustmentRed: 0
- LuminanceAdjustmentYellow: 0
- LuminanceNoiseReductionContrast: 0
- LuminanceNoiseReductionDetail: 50
- LuminanceSmoothing: 2
- ParametricDarks: 0
- ParametricHighlightSplit: 75
- ParametricHighlights: 0
- ParametricLights: 0
- ParametricMidtoneSplit: 50
- ParametricShadowSplit: 25
- ParametricShadows: 0
- PerspectiveHorizontal: 0
- PerspectiveRotate: 0.0
- PerspectiveScale: 100
- PerspectiveVertical: 0
- PostCropVignetteAmount: -35
- PostCropVignetteFeather: 50
- PostCropVignetteHighlightContrast: 0
- PostCropVignetteMidpoint: 50
- PostCropVignetteRoundness: 0
- PostCropVignetteStyle: 1
- ProcessVersion: 5.7
- RedHue: 0
- RedSaturation: 0
- Saturation: -43
- SaturationAdjustmentAqua: 0
- SaturationAdjustmentBlue: 0
- SaturationAdjustmentGreen: 0
- SaturationAdjustmentMagenta: 0
- SaturationAdjustmentOrange: 0
- SaturationAdjustmentPurple: 0
- SaturationAdjustmentRed: 0
- SaturationAdjustmentYellow: 0
- ShadowTint: 0
- Shadows: 0
- SharpenDetail: 25
- SharpenEdgeMasking: 0
- SharpenRadius: +1.0
- Sharpness: 0
- SplitToningBalance: 0
- SplitToningHighlightHue: 0
- SplitToningHighlightSaturation: 0
- SplitToningShadowHue: 0
- SplitToningShadowSaturation: 0
- Temperature: 2350
- Tint: -9
- ToneCurve: 0, 0, 32, 22, 64, 56, 128, 128, 192, 196, 255, 255
- ToneCurveName: Medium Contrast
- Version: 6.2
- Vibrance: -33
- VignetteAmount: 0
- WhiteBalance: Custom
- XMP-dc
- Description: SONY DSC
- Format: image/jpeg
- XMP-exif
- DateTimeDigitized: 2011:01:02 01:31:08+02:00
- DateTimeOriginal: 2011:01:02 01:31:08+02:00
- FlashFired: False
- FlashFunction: False
- FlashMode: Off
- FlashRedEyeMode: False
- FlashReturn: No return detection
- SensitivityType: 2
- XMP-tiff
- ImageHeight: 3056
- ImageWidth: 4592
- XMP-xmp
- CreateDate: 2011:01:02 01:31:08+02:00
- ModifyDate: 2011:01:09 13:41:29+02:00
- XMP-xmpMM
- Просмотров: 215
- Рейтинг: голосов еще нет
- Отзывов: 0