- Раздел: Портрет
- Дата съёмки: 04.08.2010 17:17
- Дата загрузки фото: 26.01.2011 22:50
- Оригинальная фотография: 742 x 496 (447 Кб)
- Технические характеристики:
- Фотоаппарат: Nikon D90
- Выдержка: 1/250
- Гиперфокальное расстояние: inf m
- Диафрагма: 8,0
- Светочувствительность: 200
- Фокусное расстояние: 44,0 mm (35 mm equivalent: 44,0 mm)
- Полный EXIF
- Composite
- Aperture: 8,0
- CircleOfConfusion: 0,020 mm
- DOF: inf (0,00 m - inf)
- FOV: 44,0 deg
- FocalLength35efl: 44,0 mm (35 mm equivalent: 44,0 mm)
- HyperfocalDistance: inf m
- ScaleFactor35efl: 1,5
- ShutterSpeed: 1/250
- ExifIFD
- ApertureValue: 8,0
- CFAPattern: [Green,Blue][Red,Green]
- ColorSpace: sRGB
- Contrast: Normal
- CreateDate: 2010:08:04 17:17:25
- CustomRendered: Normal
- DateTimeOriginal: 2010:08:04 17:17:25
- DigitalZoomRatio: 1
- ExifImageHeight: 496
- ExifImageWidth: 742
- ExposureCompensation: 0
- ExposureMode: Auto
- ExposureProgram: Program AE
- ExposureTime: 1/250
- FNumber: 8,0
- Flash: No Flash
- FocalLength: 44,0 mm
- FocalLengthIn35mmFormat: 66 mm
- GainControl: None
- ISO: 200
- LightSource: Unknown
- MaxApertureValue: 5,3
- MeteringMode: Multi-segment
- Saturation: Normal
- SceneCaptureType: Standard
- SceneType: Directly photographed
- SensingMethod: One-chip color area
- Sharpness: Hard
- ShutterSpeedValue: 1/250
- SubjectDistance: 2,24 m
- SubjectDistanceRange: Unknown
- WhiteBalance: Auto
- ICC-header
- ICC-meas
- ICC-view
- IFD0
- Make: NIKON CORPORATION
- Model: NIKON D90
- ModifyDate: 2011:01:26 20:38:32
- Orientation: Horizontal (normal)
- Software: Программа цифровой обработки изображений компании ACD Systems
- IFD1
- IPTC
- DateCreated: 2010:08:04
- ObjectName:
- System
- XMP-aux
- ApproximateFocusDistance: 2,24
- ImageNumber: 18904
- Lens: 18.0-55.0 mm f/3.5-5.6
- LensID: 154
- LensInfo: 18-55mm f/3.5-5.6
- SerialNumber: 6022155
- XMP-crs
- AlreadyApplied: True
- BlueHue: 0
- BlueSaturation: 0
- Brightness: +50
- ChromaticAberrationB: 0
- ChromaticAberrationR: 0
- Clarity: 0
- ColorNoiseReduction: 25
- Contrast: +47
- ConvertToGrayscale: False
- CropAngle: 0
- CropBottom: 0.94272
- CropHeight: 2522
- CropLeft: 0
- CropRight: 0.898574
- CropTop: 0.057279
- CropUnit: pixels
- CropWidth: 3853
- Defringe: 0
- Exposure: -0.17
- FillLight: 6
- GreenHue: 0
- GreenSaturation: 0
- HasCrop: True
- HasSettings: True
- HighlightRecovery: 0
- HueAdjustmentAqua: 0
- HueAdjustmentBlue: 0
- HueAdjustmentGreen: 0
- HueAdjustmentMagenta: 0
- HueAdjustmentOrange: 0
- HueAdjustmentPurple: 0
- HueAdjustmentRed: 0
- HueAdjustmentYellow: 0
- LuminanceAdjustmentAqua: 0
- LuminanceAdjustmentBlue: 0
- LuminanceAdjustmentGreen: 0
- LuminanceAdjustmentMagenta: 0
- LuminanceAdjustmentOrange: 0
- LuminanceAdjustmentPurple: 0
- LuminanceAdjustmentRed: 0
- LuminanceAdjustmentYellow: 0
- LuminanceSmoothing: 0
- ParametricDarks: 0
- ParametricHighlightSplit: 75
- ParametricHighlights: 0
- ParametricLights: 0
- ParametricMidtoneSplit: 50
- ParametricShadowSplit: 25
- ParametricShadows: 0
- PostCropVignetteAmount: 0
- RedHue: 0
- RedSaturation: 0
- Saturation: +11
- SaturationAdjustmentAqua: 0
- SaturationAdjustmentBlue: 0
- SaturationAdjustmentGreen: 0
- SaturationAdjustmentMagenta: 0
- SaturationAdjustmentOrange: 0
- SaturationAdjustmentPurple: 0
- SaturationAdjustmentRed: 0
- SaturationAdjustmentYellow: 0
- ShadowTint: 0
- Shadows: 6
- SharpenDetail: 45
- SharpenEdgeMasking: 0
- SharpenRadius: +1.0
- Sharpness: 65
- SplitToningBalance: 0
- SplitToningHighlightHue: 0
- SplitToningHighlightSaturation: 0
- SplitToningShadowHue: 0
- SplitToningShadowSaturation: 0
- Temperature: 4800
- Tint: -1
- ToneCurve: 0, 0, 32, 22, 64, 56, 128, 128, 192, 196, 255, 255
- ToneCurveName: Medium Contrast
- Version: 5.6.1
- Vibrance: +9
- VignetteAmount: 0
- WhiteBalance: As Shot
- XMP-dc
- XMP-exif
- DateTimeDigitized: 2010:08:04 17:17:25.0+3:00
- DateTimeOriginal: 2010:08:04 17:17:25.0+3:00
- ExifImageHeight: 2522
- ExifImageWidth: 3853
- FlashFired: False
- FlashFunction: False
- FlashMode: Unknown
- FlashRedEyeMode: False
- FlashReturn: No return detection
- FocalLengthIn35mmFormat: 66
- XMP-tiff
- XMP-x
- XMP-xmp
- CreateDate: 2010:08:04 18:17:25.00+04:00
- CreatorTool: Программа цифровой обработки изображений компании ACD Systems
- ModifyDate: 2011:01:26 19:40:34.0+3:00
- XMP-xmpMM
- Просмотров: 365
- Рейтинг: голосов еще нет
- Отзывов: 0