- Раздел: Портрет
- Дата съёмки: 21.09.2010 17:07
- Дата загрузки фото: 27.01.2011 00:13
- Оригинальная фотография: 536 x 772 (379 Кб)
- Технические характеристики:
- Фотоаппарат: Nikon D90
- Выдержка: 1/50
- Гиперфокальное расстояние: inf m
- Диафрагма: 2,8
- Светочувствительность: 200
- Фокусное расстояние: 35,0 mm (35 mm equivalent: 35,0 mm)
- Полный EXIF
- Composite
- Aperture: 2,8
- CircleOfConfusion: 0,020 mm
- FOV: 54,0 deg
- FocalLength35efl: 35,0 mm (35 mm equivalent: 35,0 mm)
- HyperfocalDistance: inf m
- ScaleFactor35efl: 1,5
- ShutterSpeed: 1/50
- ExifIFD
- ApertureValue: 2,8
- CFAPattern: [Green,Blue][Red,Green]
- ColorSpace: sRGB
- Contrast: Normal
- CreateDate: 2010:09:21 17:07:31
- CustomRendered: Normal
- DateTimeOriginal: 2010:09:21 17:07:31
- DigitalZoomRatio: 1
- ExifImageHeight: 772
- ExifImageWidth: 536
- ExposureCompensation: 0
- ExposureMode: Auto
- ExposureProgram: Aperture-priority AE
- ExposureTime: 1/50
- FNumber: 2,8
- Flash: No Flash
- FocalLength: 35,0 mm
- FocalLengthIn35mmFormat: 52 mm
- GainControl: None
- ISO: 200
- LightSource: Unknown
- MaxApertureValue: 1,7
- MeteringMode: Multi-segment
- Saturation: Normal
- SceneCaptureType: Standard
- SceneType: Directly photographed
- SensingMethod: One-chip color area
- Sharpness: Hard
- ShutterSpeedValue: 1/50
- SubjectDistance: 0,79 m
- SubjectDistanceRange: Unknown
- WhiteBalance: Auto
- ICC-header
- ICC-meas
- ICC-view
- IFD0
- Make: NIKON CORPORATION
- Model: NIKON D90
- ModifyDate: 2011:01:26 20:38:48
- Orientation: Horizontal (normal)
- Software: Программа цифровой обработки изображений компании ACD Systems
- IFD1
- IPTC
- DateCreated: 2010:09:21
- System
- XMP-aux
- ApproximateFocusDistance: 0,79
- ImageNumber: 20282
- Lens: 35.0 mm f/1.8
- LensID: 159
- LensInfo: 35mm f/1.8
- SerialNumber: 6022155
- XMP-crs
- AlreadyApplied: True
- BlueHue: 0
- BlueSaturation: 0
- Brightness: +50
- ChromaticAberrationB: 0
- ChromaticAberrationR: 0
- Clarity: 0
- ColorNoiseReduction: 25
- Contrast: +46
- ConvertToGrayscale: False
- CropAngle: 0
- CropBottom: 0.97722
- CropHeight: 2679
- CropLeft: 0
- CropRight: 0.900151
- CropTop: 0.036446
- CropUnit: pixels
- CropWidth: 3860
- Defringe: 0
- Exposure: +0.11
- FillLight: 28
- GreenHue: 0
- GreenSaturation: 0
- HasCrop: True
- HasSettings: True
- HighlightRecovery: 0
- HueAdjustmentAqua: 0
- HueAdjustmentBlue: 0
- HueAdjustmentGreen: 0
- HueAdjustmentMagenta: 0
- HueAdjustmentOrange: 0
- HueAdjustmentPurple: 0
- HueAdjustmentRed: 0
- HueAdjustmentYellow: 0
- LuminanceAdjustmentAqua: 0
- LuminanceAdjustmentBlue: 0
- LuminanceAdjustmentGreen: 0
- LuminanceAdjustmentMagenta: 0
- LuminanceAdjustmentOrange: 0
- LuminanceAdjustmentPurple: 0
- LuminanceAdjustmentRed: 0
- LuminanceAdjustmentYellow: 0
- LuminanceSmoothing: 0
- ParametricDarks: 0
- ParametricHighlightSplit: 75
- ParametricHighlights: 0
- ParametricLights: 0
- ParametricMidtoneSplit: 50
- ParametricShadowSplit: 25
- ParametricShadows: 0
- PostCropVignetteAmount: 0
- RedHue: 0
- RedSaturation: 0
- Saturation: +12
- SaturationAdjustmentAqua: 0
- SaturationAdjustmentBlue: 0
- SaturationAdjustmentGreen: 0
- SaturationAdjustmentMagenta: 0
- SaturationAdjustmentOrange: 0
- SaturationAdjustmentPurple: 0
- SaturationAdjustmentRed: 0
- SaturationAdjustmentYellow: 0
- ShadowTint: 0
- Shadows: 8
- SharpenDetail: 25
- SharpenEdgeMasking: 0
- SharpenRadius: +1.0
- Sharpness: 61
- SplitToningBalance: 0
- SplitToningHighlightHue: 0
- SplitToningHighlightSaturation: 0
- SplitToningShadowHue: 0
- SplitToningShadowSaturation: 0
- Temperature: 4655
- Tint: +1
- ToneCurve: 0, 0, 32, 22, 64, 56, 128, 128, 192, 196, 255, 255
- ToneCurveName: Medium Contrast
- Version: 5.6.1
- Vibrance: +12
- VignetteAmount: 0
- WhiteBalance: Custom
- XMP-dc
- XMP-exif
- DateTimeDigitized: 2010:09:21 17:07:31.00+3:00
- DateTimeOriginal: 2010:09:21 17:07:31.00+3:00
- ExifImageHeight: 3860
- ExifImageWidth: 2679
- FlashFired: False
- FlashFunction: False
- FlashMode: Unknown
- FlashRedEyeMode: False
- FlashReturn: No return detection
- FocalLengthIn35mmFormat: 52
- XMP-tiff
- XMP-x
- XMP-xmp
- CreateDate: 2010:09:21 17:07:31.00+04:00
- CreatorTool: Ver.1.00
- ModifyDate: 2011:01:26 20:35:34.0+3:00
- XMP-xmpMM
- Просмотров: 505
- Рейтинг: голосов еще нет
- Отзывов: 0