- Раздел: Другое, разное
- Дата съёмки: 27.01.2011 15:31
- Дата загрузки фото: 27.01.2011 17:32
- Оригинальная фотография: 3442 x 1456 (2,7 Мб)
- Технические характеристики:
- Фотоаппарат: Canon PowerShot S95
- Выдержка: 1/40
- Диафрагма: 2,0
- Светочувствительность: 80
- Фокусное расстояние: 6,0 mm
- Полный EXIF
- Adobe
- ColorTransform: YCbCr
- Composite
- Aperture: 2,0
- FocalLength35efl: 6,0 mm
- ShutterSpeed: 1/40
- ExifIFD
- ApertureValue: 2,0
- ColorSpace: sRGB
- CreateDate: 2011:01:27 15:31:06
- CustomRendered: Normal
- DateTimeOriginal: 2011:01:27 15:31:06
- DigitalZoomRatio: 1
- ExifImageHeight: 1456
- ExifImageWidth: 3442
- ExposureCompensation: 0
- ExposureMode: Auto
- ExposureTime: 1/40
- FNumber: 2,0
- Flash: Off, Did not fire
- FocalLength: 6,0 mm
- ISO: 80
- LensInfo: 6-22.5mm f/?
- LensModel: 6.0-22.5 mm
- MaxApertureValue: 2,0
- MeteringMode: Center-weighted average
- SceneCaptureType: Standard
- SensingMethod: One-chip color area
- SensitivityType: Standard Output Sensitivity and Recommended Exposure Index
- ShutterSpeedValue: 1/40
- SubjectDistance: 0,18 m
- WhiteBalance: Auto
- ICC-header
- ICC-meas
- ICC-view
- IFD0
- BitsPerSample: 8 8 8
- ImageHeight: 1362
- ImageWidth: 3348
- Make: Canon
- Model: Canon PowerShot S95
- ModifyDate: 2011:01:27 16:31:26
- Orientation: Horizontal (normal)
- PhotometricInterpretation: RGB
- SamplesPerPixel: 3
- IFD1
- IPTC
- DateCreated: 2011:01:27
- System
- XMP-aux
- ApproximateFocusDistance: 0,18
- Firmware: 1.00
- FlashCompensation: 0
- Lens: 6.0-22.5 mm
- XMP-crs
- AlreadyApplied: True
- BlueHue: 0
- BlueSaturation: 0
- Brightness: +23
- CameraProfile: ACR 3.3
- ChromaticAberrationB: 0
- ChromaticAberrationR: 0
- Clarity: +6
- ColorNoiseReduction: 100
- ColorNoiseReductionDetail: 0
- Contrast: +52
- ConvertToGrayscale: False
- CropAngle: 0
- CropBottom: 0.728291
- CropConstrainToWarp: 0
- CropHeight: 1362
- CropLeft: 0.082166
- CropRight: 1
- CropTop: 0.168067
- CropUnit: pixels
- CropWidth: 3348
- Defringe: 0
- Exposure: +0.14
- FillLight: 53
- GrainAmount: 0
- GreenHue: 0
- GreenSaturation: 0
- HasCrop: True
- HasSettings: True
- HighlightRecovery: 27
- HueAdjustmentAqua: 0
- HueAdjustmentBlue: 0
- HueAdjustmentGreen: 0
- HueAdjustmentMagenta: 0
- HueAdjustmentOrange: 0
- HueAdjustmentPurple: 0
- HueAdjustmentRed: 0
- HueAdjustmentYellow: 0
- LensManualDistortionAmount: 0
- LensProfileEnable: 0
- LensProfileSetup: LensDefaults
- LuminanceAdjustmentAqua: 0
- LuminanceAdjustmentBlue: 0
- LuminanceAdjustmentGreen: 0
- LuminanceAdjustmentMagenta: 0
- LuminanceAdjustmentOrange: 0
- LuminanceAdjustmentPurple: 0
- LuminanceAdjustmentRed: 0
- LuminanceAdjustmentYellow: 0
- LuminanceNoiseReductionContrast: 0
- LuminanceNoiseReductionDetail: 0
- LuminanceSmoothing: 64
- ParametricDarks: +20
- ParametricHighlightSplit: 75
- ParametricHighlights: +25
- ParametricLights: -27
- ParametricMidtoneSplit: 50
- ParametricShadowSplit: 14
- ParametricShadows: -6
- PerspectiveHorizontal: 0
- PerspectiveRotate: 0.0
- PerspectiveScale: 100
- PerspectiveVertical: 0
- PostCropVignetteAmount: 0
- ProcessVersion: 5.7
- RedHue: 0
- RedSaturation: 0
- Saturation: -51
- SaturationAdjustmentAqua: 0
- SaturationAdjustmentBlue: 0
- SaturationAdjustmentGreen: 0
- SaturationAdjustmentMagenta: 0
- SaturationAdjustmentOrange: 0
- SaturationAdjustmentPurple: 0
- SaturationAdjustmentRed: 0
- SaturationAdjustmentYellow: 0
- ShadowTint: 0
- Shadows: 48
- SharpenDetail: 46
- SharpenEdgeMasking: 0
- SharpenRadius: +1.6
- Sharpness: 88
- SplitToningBalance: +11
- SplitToningHighlightHue: 68
- SplitToningHighlightSaturation: 40
- SplitToningShadowHue: 72
- SplitToningShadowSaturation: 0
- Temperature: 7383
- Tint: +19
- ToneCurve: 0, 0, 32, 16, 64, 50, 128, 128, 192, 202, 255, 255
- ToneCurveName: Strong Contrast
- Version: 6.3
- Vibrance: +18
- VignetteAmount: -39
- VignetteMidpoint: 20
- WhiteBalance: Custom
- XMP-dc
- XMP-xmp
- CreateDate: 2011:01:27 15:31:06+02:00
- ModifyDate: 2011:01:27 16:31:26+02:00
- XMP-xmpMM
- Просмотров: 596
- Рейтинг: голосов еще нет
- Отзывов: 0