- Раздел: Тесты фототехники
- Дата съёмки: 28.12.2010 11:31
- Дата загрузки фото: 07.02.2011 20:18
- Оригинальная фотография: 4928 x 3264 (11,2 Мб)
- Технические характеристики:
- Фотоаппарат: Pentax K-5
- Выдержка: 1/100
- Гиперфокальное расстояние: inf m
- Диафрагма: 2,5
- Светочувствительность: 400
- Фокусное расстояние: 55,0 mm (35 mm equivalent: 55,0 mm)
- Полный EXIF
- Adobe
- ColorTransform: YCbCr
- Composite
- Aperture: 2,5
- CircleOfConfusion: 0,020 mm
- FOV: 36,0 deg
- FocalLength35efl: 55,0 mm (35 mm equivalent: 55,0 mm)
- HyperfocalDistance: inf m
- ScaleFactor35efl: 1,5
- ShutterSpeed: 1/100
- ExifIFD
- ApertureValue: 2,5
- CFAPattern: [Blue,Green][Green,Red]
- Contrast: Normal
- CreateDate: 2010:12:28 11:31:48
- CustomRendered: Normal
- DateTimeOriginal: 2010:12:28 11:31:48
- ExposureCompensation: 0
- ExposureMode: Auto
- ExposureProgram: Aperture-priority AE
- ExposureTime: 1/100
- FNumber: 2,5
- Flash: On, Fired
- FocalLength: 55,0 mm
- FocalLengthIn35mmFormat: 82 mm
- ISO: 400
- LensInfo: 55mm f/1.4
- LensModel: smc PENTAX-DA*55mm F1.4 SDM
- MeteringMode: Multi-segment
- Saturation: Normal
- SceneCaptureType: Standard
- SensingMethod: One-chip color area
- SensitivityType: Unknown
- Sharpness: Normal
- ShutterSpeedValue: 1/100
- SubjectDistanceRange: Close
- WhiteBalance: Auto
- ICC-header
- ICC-meas
- ICC-view
- IFD0
- Make: PENTAX
- Model: PENTAX K-5
- ModifyDate: 2011:02:07 19:56:53
- Software: K-5 Ver 1.01
- IFD1
- IPTC
- By-line: Âîëîõîâ Г…ГўГЈГҐГГЁГ©
- City: Êóðñê
- CopyrightNotice: Âîëîõîâ Г…ГўГЈГҐГГЁГ© В©
- Country-PrimaryLocationCode: RUS
- Country-PrimaryLocationName: Ðîññèÿ
- DateCreated: 2010:12:28
- Province-State: ÖÔÎ
- Sub-location: Äåòñêèé ñà ä ¹77
- System
- XMP-aux
- ApproximateFocusDistance: 2,38
- Lens: smc PENTAX-DA*55mm F1.4 SDM
- LensID: 8 226
- XMP-crs
- AlreadyApplied: True
- BlueHue: 0
- BlueSaturation: 0
- Brightness: +50
- ChromaticAberrationB: 0
- ChromaticAberrationR: 0
- Clarity: 0
- ColorNoiseReduction: 9
- ColorNoiseReductionDetail: 50
- Contrast: +25
- ConvertToGrayscale: False
- Defringe: 0
- Exposure: -0.15
- FillLight: 0
- GrainAmount: 0
- GreenHue: 0
- GreenSaturation: 0
- HasCrop: False
- HasSettings: True
- HighlightRecovery: 12
- HueAdjustmentAqua: 0
- HueAdjustmentBlue: 0
- HueAdjustmentGreen: 0
- HueAdjustmentMagenta: 0
- HueAdjustmentOrange: 0
- HueAdjustmentPurple: 0
- HueAdjustmentRed: 0
- HueAdjustmentYellow: 0
- LensManualDistortionAmount: 0
- LensProfileEnable: 0
- LensProfileSetup: LensDefaults
- LuminanceAdjustmentAqua: 0
- LuminanceAdjustmentBlue: 0
- LuminanceAdjustmentGreen: 0
- LuminanceAdjustmentMagenta: 0
- LuminanceAdjustmentOrange: 0
- LuminanceAdjustmentPurple: 0
- LuminanceAdjustmentRed: 0
- LuminanceAdjustmentYellow: 0
- LuminanceNoiseReductionContrast: 0
- LuminanceNoiseReductionDetail: 50
- LuminanceSmoothing: 5
- ParametricDarks: 0
- ParametricHighlightSplit: 75
- ParametricHighlights: 0
- ParametricLights: 0
- ParametricMidtoneSplit: 50
- ParametricShadowSplit: 25
- ParametricShadows: 0
- PerspectiveHorizontal: 0
- PerspectiveRotate: 0.0
- PerspectiveScale: 100
- PerspectiveVertical: 0
- PostCropVignetteAmount: 0
- ProcessVersion: 5.7
- RawFileName: f16643.dng
- RedHue: 0
- RedSaturation: 0
- Saturation: 0
- SaturationAdjustmentAqua: 0
- SaturationAdjustmentBlue: 0
- SaturationAdjustmentGreen: 0
- SaturationAdjustmentMagenta: 0
- SaturationAdjustmentOrange: 0
- SaturationAdjustmentPurple: 0
- SaturationAdjustmentRed: 0
- SaturationAdjustmentYellow: 0
- ShadowTint: 0
- Shadows: 0
- SharpenDetail: 15
- SharpenEdgeMasking: 0
- SharpenRadius: +0.7
- Sharpness: 75
- SplitToningBalance: 0
- SplitToningHighlightHue: 0
- SplitToningHighlightSaturation: 0
- SplitToningShadowHue: 0
- SplitToningShadowSaturation: 0
- Temperature: 5100
- Tint: +12
- ToneCurve: 0, 0, 28, 12, 105, 96, 255, 255
- ToneCurveName: Custom
- Version: 6.3
- Vibrance: +20
- VignetteAmount: 0
- WhiteBalance: Custom
- XMP-dc
- Creator: Волохов Евгений
- Rights: Волохов Евгений ©
- XMP-exif
- DateTimeOriginal: 2010:12:28 11:31:48+03:00
- ExifImageHeight: 3264
- ExifImageWidth: 4928
- FlashFired: True
- FlashFunction: False
- FlashMode: On
- FlashRedEyeMode: False
- FlashReturn: No return detection
- XMP-expressionmedia
- Event: Утренник
- Status: Проявка.Надо
- UserFields: Объектив=Pentax SMC DA* 55/1.4 SDM, Светофильтр=(нет)
- XMP-iptcCore
- CountryCode: RUS
- CreatorCity: РљСѓСЂСЃРє
- CreatorCountry: Р РѕСЃСЃРёСЏ
- CreatorPostalCode: 305044
- CreatorRegion: ЦФО
- CreatorWorkEmail: evgeny.volohov@gmail.com
- CreatorWorkTelephone: +7 (910) 310-57-33
- CreatorWorkURL: http://evgenyvolohov.blogspot.com/
- Location: Детский сад №77
- XMP-mediapro
- XMP-tiff
- ImageHeight: 3264
- ImageWidth: 4928
- XMP-xmp
- CreateDate: 2010:12:28 11:31:48+03:00
- CreatorTool: K-5 Ver 1.01
- ModifyDate: 2011:02:07 19:56:53+03:00
- Rating: 3
- XMP-xmpRights
- Просмотров: 710
- Рейтинг: голосов еще нет
- Отзывов: 0