- Раздел: Тесты фототехники
- Дата съёмки: 28.11.2010 15:49
- Дата загрузки фото: 07.02.2011 20:35
- Оригинальная фотография: 4672 x 3104 (7,4 Мб)
- Технические характеристики:
- Фотоаппарат: Pentax K-7
- Выдержка: 1/4000
- Гиперфокальное расстояние: inf m
- Диафрагма: 1,4
- Светочувствительность: 100
- Фокусное расстояние: 55,0 mm (35 mm equivalent: 55,0 mm)
- Экспокоррекция: +0,7
- Полный EXIF
- Adobe
- ColorTransform: YCbCr
- Composite
- Aperture: 1,4
- CircleOfConfusion: 0,020 mm
- FOV: 36,0 deg
- FocalLength35efl: 55,0 mm (35 mm equivalent: 55,0 mm)
- HyperfocalDistance: inf m
- ScaleFactor35efl: 1,5
- ShutterSpeed: 1/4000
- ExifIFD
- ApertureValue: 1,4
- CFAPattern: [Blue,Green][Green,Red]
- Contrast: High
- CreateDate: 2010:11:28 15:49:54
- CustomRendered: Normal
- DateTimeOriginal: 2010:11:28 15:49:54
- ExposureCompensation: +0,7
- ExposureMode: Manual
- ExposureProgram: Aperture-priority AE
- ExposureTime: 1/4000
- FNumber: 1,4
- Flash: Off, Did not fire
- FocalLength: 55,0 mm
- FocalLengthIn35mmFormat: 82 mm
- ISO: 100
- LensInfo: 55mm f/1.4
- LensModel: smc PENTAX-DA*55mm F1.4 SDM
- MeteringMode: Multi-segment
- Saturation: Normal
- SceneCaptureType: Standard
- SensingMethod: One-chip color area
- SensitivityType: Unknown
- Sharpness: Hard
- ShutterSpeedValue: 1/4000
- SubjectDistanceRange: Close
- WhiteBalance: Auto
- ICC-header
- ICC-meas
- ICC-view
- IFD0
- Make: PENTAX
- Model: PENTAX K-7
- ModifyDate: 2011:02:07 20:34:53
- Software: K-7 Ver 1.10
- IFD1
- IPTC
- By-line: Âîëîõîâ Г…ГўГЈГҐГГЁГ©
- City: Êóðñê
- CopyrightNotice: Âîëîõîâ Г…ГўГЈГҐГГЁГ© В©
- Country-PrimaryLocationCode: RUS
- Country-PrimaryLocationName: Ðîññèÿ
- DateCreated: 2010:11:28
- Province-State: ÖÔÎ
- Sub-location: ГіГ«. ÑîþçГГ Гї (Ïà ðê)
- System
- XMP-aux
- ApproximateFocusDistance: 1,68
- Lens: smc PENTAX-DA*55mm F1.4 SDM
- LensID: 8 226
- XMP-crs
- AlreadyApplied: True
- BlueHue: 0
- BlueSaturation: 0
- Brightness: +50
- ChromaticAberrationB: 0
- ChromaticAberrationR: 0
- Clarity: 0
- ColorNoiseReduction: 9
- ColorNoiseReductionDetail: 50
- Contrast: +25
- ConvertToGrayscale: False
- Defringe: 0
- Exposure: 0.00
- FillLight: 0
- GrainAmount: 0
- GreenHue: 0
- GreenSaturation: 0
- HasCrop: False
- HasSettings: True
- HighlightRecovery: 13
- HueAdjustmentAqua: 0
- HueAdjustmentBlue: 0
- HueAdjustmentGreen: 0
- HueAdjustmentMagenta: 0
- HueAdjustmentOrange: 0
- HueAdjustmentPurple: 0
- HueAdjustmentRed: 0
- HueAdjustmentYellow: 0
- LensManualDistortionAmount: 0
- LensProfileEnable: 0
- LensProfileSetup: LensDefaults
- LuminanceAdjustmentAqua: 0
- LuminanceAdjustmentBlue: 0
- LuminanceAdjustmentGreen: 0
- LuminanceAdjustmentMagenta: 0
- LuminanceAdjustmentOrange: 0
- LuminanceAdjustmentPurple: 0
- LuminanceAdjustmentRed: 0
- LuminanceAdjustmentYellow: 0
- LuminanceNoiseReductionContrast: 0
- LuminanceNoiseReductionDetail: 50
- LuminanceSmoothing: 5
- ParametricDarks: 0
- ParametricHighlightSplit: 75
- ParametricHighlights: 0
- ParametricLights: 0
- ParametricMidtoneSplit: 50
- ParametricShadowSplit: 25
- ParametricShadows: 0
- PerspectiveHorizontal: 0
- PerspectiveRotate: 0.0
- PerspectiveScale: 100
- PerspectiveVertical: 0
- PostCropVignetteAmount: 0
- ProcessVersion: 5.7
- RawFileName: f16029.dng
- RedHue: 0
- RedSaturation: 0
- Saturation: 0
- SaturationAdjustmentAqua: 0
- SaturationAdjustmentBlue: 0
- SaturationAdjustmentGreen: 0
- SaturationAdjustmentMagenta: 0
- SaturationAdjustmentOrange: 0
- SaturationAdjustmentPurple: 0
- SaturationAdjustmentRed: 0
- SaturationAdjustmentYellow: 0
- ShadowTint: 0
- Shadows: 5
- SharpenDetail: 15
- SharpenEdgeMasking: 0
- SharpenRadius: +0.7
- Sharpness: 75
- SplitToningBalance: 0
- SplitToningHighlightHue: 0
- SplitToningHighlightSaturation: 0
- SplitToningShadowHue: 0
- SplitToningShadowSaturation: 0
- Temperature: 4850
- Tint: 0
- ToneCurve: 0, 0, 32, 22, 64, 56, 128, 128, 192, 196, 255, 255
- ToneCurveName: Medium Contrast
- Version: 6.3
- Vibrance: 0
- VignetteAmount: 0
- WhiteBalance: Custom
- XMP-dc
- Creator: Волохов Евгений
- Rights: Волохов Евгений ©
- XMP-exif
- DateTimeOriginal: 2010:11:28 15:49:54+03:00
- ExifImageHeight: 3104
- ExifImageWidth: 4672
- FlashFired: False
- FlashFunction: False
- FlashMode: Off
- FlashRedEyeMode: False
- FlashReturn: No return detection
- XMP-expressionmedia
- People: Волохова Алиса
- Status: Проявка.Надо
- UserFields: Объектив=Pentax SMC DA* 55/1.4 SDM, Светофильтр=(нет)
- XMP-iptcCore
- CountryCode: RUS
- CreatorCity: РљСѓСЂСЃРє
- CreatorCountry: Р РѕСЃСЃРёСЏ
- CreatorPostalCode: 305044
- CreatorRegion: ЦФО
- CreatorWorkEmail: evgeny.volohov@gmail.com
- CreatorWorkTelephone: +7 (910) 310-57-33
- CreatorWorkURL: http://evgenyvolohov.blogspot.com/
- Location: ул. Союзная (Парк)
- XMP-mediapro
- XMP-tiff
- ImageHeight: 3104
- ImageWidth: 4672
- XMP-xmp
- CreateDate: 2010:11:28 15:49:54+03:00
- CreatorTool: K-7 Ver 1.10
- ModifyDate: 2011:02:07 20:34:53+03:00
- Rating: 3
- XMP-xmpRights
- Просмотров: 589
- Рейтинг: голосов еще нет
- Отзывов: 0