f16121.jpg |
f16121.jpg
- Раздел: Тесты фототехники
- Дата съёмки: 30.11.2010 18:39
- Дата загрузки фото: 09.02.2011 00:34
- Оригинальная фотография: 3104 x 4672 (9,2 Мб)
- Технические характеристики:
- Фотоаппарат: Pentax K-7
- Выдержка: 1/50
- Гиперфокальное расстояние: inf m
- Диафрагма: 1,8
- Светочувствительность: 400
- Фокусное расстояние: 55,0 mm (35 mm equivalent: 55,0 mm)
- Экспокоррекция: +1
- Полный EXIF
- Adobe
- ColorTransform: YCbCr
- Composite
- Aperture: 1,8
- CircleOfConfusion: 0,020 mm
- FOV: 36,0 deg
- FocalLength35efl: 55,0 mm (35 mm equivalent: 55,0 mm)
- HyperfocalDistance: inf m
- ScaleFactor35efl: 1,5
- ShutterSpeed: 1/50
- ExifIFD
- ApertureValue: 1,8
- CFAPattern: [Blue,Green][Green,Red]
- Contrast: High
- CreateDate: 2010:11:30 18:39:19
- CustomRendered: Normal
- DateTimeOriginal: 2010:11:30 18:39:19
- ExposureCompensation: +1
- ExposureMode: Manual
- ExposureProgram: Aperture-priority AE
- ExposureTime: 1/50
- FNumber: 1,8
- Flash: Off, Did not fire
- FocalLength: 55,0 mm
- FocalLengthIn35mmFormat: 82 mm
- ISO: 400
- LensInfo: 55mm f/1.4
- LensModel: smc PENTAX-DA*55mm F1.4 SDM
- MeteringMode: Multi-segment
- Saturation: Normal
- SceneCaptureType: Standard
- SensingMethod: One-chip color area
- SensitivityType: Unknown
- Sharpness: Hard
- ShutterSpeedValue: 1/50
- SubjectDistanceRange: Close
- WhiteBalance: Manual
- ICC-header
- IFD0
- Make: PENTAX
- Model: PENTAX K-7
- ModifyDate: 2011:02:09 00:24:08
- Software: K-7 Ver 1.10
- IFD1
- IPTC
- By-line: Âîëîõîâ Г…ГўГЈГҐГГЁГ©
- City: Êóðñê
- CopyrightNotice: Âîëîõîâ Г…ГўГЈГҐГГЁГ© В©
- Country-PrimaryLocationCode: RUS
- Country-PrimaryLocationName: Ðîññèÿ
- DateCreated: 2010:11:30
- Province-State: ÖÔÎ
- Sub-location: ГіГ«. ËåГГЁГГ Г¤.86
- System
- XMP-aux
- ApproximateFocusDistance: 1,68
- Lens: smc PENTAX-DA*55mm F1.4 SDM
- LensID: 8 226
- XMP-crs
- AlreadyApplied: True
- BlueHue: 0
- BlueSaturation: 0
- Brightness: +50
- ChromaticAberrationB: 0
- ChromaticAberrationR: 0
- Clarity: 0
- ColorNoiseReduction: 9
- ColorNoiseReductionDetail: 50
- Contrast: +25
- ConvertToGrayscale: False
- Defringe: 0
- Exposure: +0.25
- FillLight: 0
- GradientBasedCorrActive: true
- GradientBasedCorrAmount: 1.000000
- GradientBasedCorrBrightness: 0.000000
- GradientBasedCorrClarity: 0.000000
- GradientBasedCorrContrast: 0.000000
- GradientBasedCorrExposure: 0.125000
- GradientBasedCorrHue: 0.000000
- GradientBasedCorrMaskFullX: 0.779565
- GradientBasedCorrMaskFullY: 0.507123
- GradientBasedCorrMaskValue: 1.000000
- GradientBasedCorrMaskWhat: Mask/Gradient
- GradientBasedCorrMaskZeroX: 0.075686
- GradientBasedCorrMaskZeroY: 0.495726
- GradientBasedCorrSaturation: 0.000000
- GradientBasedCorrSharpness: 0.000000
- GradientBasedCorrWhat: Correction
- GrainAmount: 0
- GreenHue: 0
- GreenSaturation: 0
- HasCrop: False
- HasSettings: True
- HighlightRecovery: 8
- HueAdjustmentAqua: 0
- HueAdjustmentBlue: 0
- HueAdjustmentGreen: 0
- HueAdjustmentMagenta: 0
- HueAdjustmentOrange: 0
- HueAdjustmentPurple: 0
- HueAdjustmentRed: 0
- HueAdjustmentYellow: 0
- LensManualDistortionAmount: 0
- LensProfileEnable: 0
- LensProfileSetup: LensDefaults
- LuminanceAdjustmentAqua: 0
- LuminanceAdjustmentBlue: 0
- LuminanceAdjustmentGreen: 0
- LuminanceAdjustmentMagenta: 0
- LuminanceAdjustmentOrange: 0
- LuminanceAdjustmentPurple: 0
- LuminanceAdjustmentRed: 0
- LuminanceAdjustmentYellow: 0
- LuminanceNoiseReductionContrast: 0
- LuminanceNoiseReductionDetail: 50
- LuminanceSmoothing: 5
- ParametricDarks: 0
- ParametricHighlightSplit: 75
- ParametricHighlights: 0
- ParametricLights: 0
- ParametricMidtoneSplit: 50
- ParametricShadowSplit: 25
- ParametricShadows: 0
- PerspectiveHorizontal: 0
- PerspectiveRotate: 0.0
- PerspectiveScale: 100
- PerspectiveVertical: 0
- PostCropVignetteAmount: 0
- ProcessVersion: 5.7
- RawFileName: f16121.dng
- RedHue: 0
- RedSaturation: 0
- Saturation: 0
- SaturationAdjustmentAqua: 0
- SaturationAdjustmentBlue: 0
- SaturationAdjustmentGreen: 0
- SaturationAdjustmentMagenta: 0
- SaturationAdjustmentOrange: 0
- SaturationAdjustmentPurple: 0
- SaturationAdjustmentRed: 0
- SaturationAdjustmentYellow: 0
- ShadowTint: 0
- Shadows: 0
- SharpenDetail: 15
- SharpenEdgeMasking: 0
- SharpenRadius: +0.7
- Sharpness: 75
- SplitToningBalance: 0
- SplitToningHighlightHue: 0
- SplitToningHighlightSaturation: 0
- SplitToningShadowHue: 0
- SplitToningShadowSaturation: 0
- Temperature: 2800
- Tint: +4
- ToneCurve: 0, 0, 28, 12, 105, 96, 255, 255
- ToneCurveName: Custom
- Version: 6.3
- Vibrance: 0
- VignetteAmount: 0
- WhiteBalance: Custom
- XMP-dc
- Creator: Волохов Евгений
- Rights: Волохов Евгений ©
- XMP-exif
- DateTimeOriginal: 2010:11:30 18:39:19+03:00
- ExifImageHeight: 4672
- ExifImageWidth: 3104
- FlashFired: False
- FlashFunction: False
- FlashMode: Off
- FlashRedEyeMode: False
- FlashReturn: No return detection
- XMP-expressionmedia
- People: Пашкова Татьяна
- Status: Проявка.Надо
- UserFields: Объектив=Pentax SMC DA* 55/1.4 SDM, Светофильтр=(нет)
- XMP-iptcCore
- CountryCode: RUS
- CreatorCity: РљСѓСЂСЃРє
- CreatorCountry: Р РѕСЃСЃРёСЏ
- CreatorPostalCode: 305044
- CreatorRegion: ЦФО
- CreatorWorkEmail: evgeny.volohov@gmail.com
- CreatorWorkTelephone: +7 (910) 310-57-33
- CreatorWorkURL: http://evgenyvolohov.blogspot.com/
- Location: ул. Ленина д.86
- XMP-mediapro
- XMP-tiff
- ImageHeight: 4672
- ImageWidth: 3104
- XMP-xmp
- CreateDate: 2010:11:30 18:39:19+03:00
- CreatorTool: K-7 Ver 1.10
- ModifyDate: 2011:02:09 00:24:08+03:00
- Rating: 3
- XMP-xmpRights
Получить код для блога
Вставка фотографии в текущем разрешении |
Вставка миниатюры |
HTML (для вставки в блог):
BBCode (для вставки в форум):
Ссылка на фото:
Ссылка на миниатюру:
- Послать ссылку другу
Комментарии к фотографии |