SAM_9581HD2.jpg |
SAM_9581HD2.jpg
- Раздел: Тесты фототехники
- Дата съёмки: 18.02.2011 16:55
- Дата загрузки фото: 19.02.2011 17:34
- Оригинальная фотография: 423 x 349 ( 81 Кб)
- Технические характеристики:
- Фотоаппарат: Samsung WB2000
- Выдержка: 1/20
- Гиперфокальное расстояние: inf m
- Диафрагма: 4,7
- Светочувствительность: 80
- Фокусное расстояние: 4,0 mm (35 mm equivalent: 24,0 mm)
- Полный EXIF
- Adobe
- ColorTransform: YCbCr
- Composite
- Aperture: 4,7
- CircleOfConfusion: 0,005 mm
- FOV: 73,0 deg
- FocalLength35efl: 4,0 mm (35 mm equivalent: 24,0 mm)
- HyperfocalDistance: inf m
- ScaleFactor35efl: 6,0
- ShutterSpeed: 1/20
- ExifIFD
- ApertureValue: 4,7
- ColorSpace: sRGB
- Contrast: Normal
- DateTimeOriginal: 2011:02:18 16:55:30
- DigitalZoomRatio: 1
- ExifImageHeight: 349
- ExifImageWidth: 423
- ExposureCompensation: 0
- ExposureMode: Unknown (3)
- ExposureProgram: Aperture-priority AE
- ExposureTime: 1/20
- FNumber: 4,7
- Flash: No Flash
- FocalLength: 4,3 mm
- FocalLengthIn35mmFormat: 24 mm
- ISO: 80
- LensInfo: 4.3-21.5mm f/2.4-5.8
- LensModel: Schneider KREUZNACH 5x VARIOPLAN 4.3-21.5mm 1:2.4-5.8 IS
- LightSource: Fluorescent
- MeteringMode: Multi-segment
- Saturation: Normal
- SceneCaptureType: Standard
- SensitivityType: Unknown
- SerialNumber: DY049P000000
- Sharpness: Normal
- ShutterSpeedValue: 1/20
- WhiteBalance: Manual
- ICC-header
- ICC-meas
- ICC-view
- IFD0
- BitsPerSample: 8 8 8
- ImageHeight: 349
- ImageWidth: 423
- Make: SAMSUNG
- Model: WB2000
- ModifyDate: 2011:02:18 19:47:27
- Orientation: Horizontal (normal)
- PhotometricInterpretation: RGB
- SamplesPerPixel: 3
- IFD1
- IPTC
- DateCreated: 2011:02:18
- System
- XMP-aux
- Firmware: FM1_008261
- Lens: Schneider KREUZNACH 5x VARIOPLAN 4.3-21.5mm 1:2.4-5.8 IS
- XMP-crs
- AlreadyApplied: True
- BlueHue: 0
- BlueSaturation: 0
- Brightness: +50
- ChromaticAberrationB: 0
- ChromaticAberrationR: 0
- Clarity: +100
- ColorNoiseReduction: 25
- ColorNoiseReductionDetail: 50
- Contrast: +100
- ConvertToGrayscale: False
- CropAngle: 0.025661
- CropBottom: 0.527721
- CropConstrainToWarp: 1
- CropLeft: 0.426831
- CropRight: 0.54265
- CropTop: 0.400185
- Defringe: 0
- Exposure: 0.00
- FillLight: 0
- GrainAmount: 0
- GreenHue: 0
- GreenSaturation: 0
- HasCrop: True
- HasSettings: True
- HighlightRecovery: 100
- HueAdjustmentAqua: 0
- HueAdjustmentBlue: 0
- HueAdjustmentGreen: 0
- HueAdjustmentMagenta: 0
- HueAdjustmentOrange: 0
- HueAdjustmentPurple: 0
- HueAdjustmentRed: 0
- HueAdjustmentYellow: 0
- LensManualDistortionAmount: 0
- LensProfileEnable: 0
- LensProfileSetup: LensDefaults
- LuminanceAdjustmentAqua: 0
- LuminanceAdjustmentBlue: 0
- LuminanceAdjustmentGreen: 0
- LuminanceAdjustmentMagenta: 0
- LuminanceAdjustmentOrange: 0
- LuminanceAdjustmentPurple: 0
- LuminanceAdjustmentRed: 0
- LuminanceAdjustmentYellow: 0
- LuminanceNoiseReductionContrast: 0
- LuminanceNoiseReductionDetail: 50
- LuminanceSmoothing: 40
- ParametricDarks: 0
- ParametricHighlightSplit: 75
- ParametricHighlights: 0
- ParametricLights: 0
- ParametricMidtoneSplit: 50
- ParametricShadowSplit: 25
- ParametricShadows: 0
- PerspectiveHorizontal: 0
- PerspectiveRotate: 0.0
- PerspectiveScale: 100
- PerspectiveVertical: 0
- PostCropVignetteAmount: 0
- ProcessVersion: 5.7
- RawFileName: SAM_9581.dng
- RedHue: 0
- RedSaturation: 0
- Saturation: -29
- SaturationAdjustmentAqua: 0
- SaturationAdjustmentBlue: 0
- SaturationAdjustmentGreen: 0
- SaturationAdjustmentMagenta: 0
- SaturationAdjustmentOrange: 0
- SaturationAdjustmentPurple: 0
- SaturationAdjustmentRed: 0
- SaturationAdjustmentYellow: 0
- ShadowTint: 0
- Shadows: 78
- SharpenDetail: 25
- SharpenEdgeMasking: 0
- SharpenRadius: +1.0
- Sharpness: 25
- SplitToningBalance: 0
- SplitToningHighlightHue: 0
- SplitToningHighlightSaturation: 0
- SplitToningShadowHue: 0
- SplitToningShadowSaturation: 0
- Temperature: 11000
- Tint: -16
- ToneCurve: 0, 0, 32, 22, 64, 56, 128, 128, 192, 196, 255, 255
- ToneCurveName: Medium Contrast
- Version: 6.2
- Vibrance: 0
- VignetteAmount: 0
- WhiteBalance: Custom
- XMP-dc
- XMP-xmp
- CreateDate: 2011:02:18 16:55:30+03:00
- ModifyDate: 2011:02:18 19:47:27+03:00
- Rating: 0
- XMP-xmpMM
- Просмотров: 195
- Рейтинг: голосов еще нет
- Отзывов: 0
Получить код для блога
Вставка фотографии в текущем разрешении |
Вставка миниатюры |
HTML (для вставки в блог):
BBCode (для вставки в форум):
Ссылка на фото:
Ссылка на миниатюру:
- Послать ссылку другу
Комментарии к фотографии |