- Раздел: Животные
- Дата съёмки: 19.02.2011 10:12
- Дата загрузки фото: 20.02.2011 23:39
- Оригинальная фотография: 1531 x 1000 (394 Кб)
- Технические характеристики:
- Фотоаппарат: Canon EOS 7D
- Выдержка: 1/1600
- Гиперфокальное расстояние: inf m
- Диафрагма: 7,1
- Светочувствительность: 500
- Фокусное расстояние: 300,0 mm (35 mm equivalent: 1500,0 mm)
- Полный EXIF
- Adobe
- ColorTransform: YCbCr
- Composite
- Aperture: 7,1
- CircleOfConfusion: 0,006 mm
- DOF: inf (0,00 m - inf)
- FOV: 1,0 deg
- FocalLength35efl: 300,0 mm (35 mm equivalent: 1500,0 mm)
- GPSLatitude: 32 deg 31' 51,00" N
- GPSLongitude: 34 deg 54' 4,00" E
- GPSPosition: 32 deg 31' 51,00" N, 34 deg 54' 4,00" E
- HyperfocalDistance: inf m
- ScaleFactor35efl: 5,3
- ShutterSpeed: 1/1600
- ExifIFD
- ColorSpace: sRGB
- DateTimeOriginal: 2011:02:19 10:12:03
- ExifImageHeight: 1000
- ExifImageWidth: 1531
- ExposureTime: 1/1600
- FNumber: 7,1
- FocalLength: 300,0 mm
- ISO: 500
- GPS
- GPSAltitudeRef: Above Sea Level
- GPSLatitude: 32 deg 31' 51,00"
- GPSLatitudeRef: North
- GPSLongitude: 34 deg 54' 4,00"
- GPSLongitudeRef: East
- GPSVersionID: 2.2.0.0
- ICC-header
- ICC-meas
- ICC-view
- IFD0
- Artist: Michael Ortenberg
- BitsPerSample: 16 16 16
- Copyright: Michael Ortenberg
- ImageHeight: 2338
- ImageWidth: 3580
- Model: Canon EOS 7D
- ModifyDate: 2011:02:20 21:16:17
- Orientation: Horizontal (normal)
- PhotometricInterpretation: RGB
- PlanarConfiguration: Chunky
- SamplesPerPixel: 3
- IFD1
- IPTC
- By-line: Michael Ortenberg
- CopyrightNotice: Michael Ortenberg
- System
- XMP-aux
- ApproximateFocusDistance: 4294967295
- Firmware: 1.2.3
- FlashCompensation: 0
- ImageNumber: 0
- Lens: 70-300mm
- LensID: 156
- LensInfo: 70-300mm f/?
- OwnerName: Michael Ortenberg
- SerialNumber: 1781018879
- XMP-crs
- AlreadyApplied: True
- BlueHue: 0
- BlueSaturation: 0
- Brightness: +50
- ChromaticAberrationB: 0
- ChromaticAberrationR: 0
- Clarity: +13
- ColorNoiseReduction: 29
- ColorNoiseReductionDetail: 53
- Contrast: +62
- ConvertToGrayscale: False
- CropAngle: 0
- CropBottom: 0.7374
- CropConstrainToWarp: 0
- CropHeight: 2338
- CropLeft: 0.091954
- CropRight: 0.782493
- CropTop: 0.061008
- CropUnit: pixels
- CropWidth: 3580
- Defringe: 0
- Exposure: +0.05
- FillLight: 0
- GrainAmount: 0
- GreenHue: 0
- GreenSaturation: 0
- HasCrop: True
- HasSettings: True
- HighlightRecovery: 22
- HueAdjustmentAqua: 0
- HueAdjustmentBlue: 0
- HueAdjustmentGreen: 0
- HueAdjustmentMagenta: 0
- HueAdjustmentOrange: 0
- HueAdjustmentPurple: 0
- HueAdjustmentRed: 0
- HueAdjustmentYellow: 0
- LensManualDistortionAmount: 0
- LensProfileChromaticAberrationScale: 100
- LensProfileDistortionScale: 100
- LensProfileEnable: 1
- LensProfileFilename: Canon (TAMRON SP 70-300mm F4-5.6 Di VC USD A005E) - RAW.lcp
- LensProfileSetup: Custom
- LensProfileVignettingScale: 100
- LuminanceAdjustmentAqua: 0
- LuminanceAdjustmentBlue: 0
- LuminanceAdjustmentGreen: 0
- LuminanceAdjustmentMagenta: 0
- LuminanceAdjustmentOrange: 0
- LuminanceAdjustmentPurple: 0
- LuminanceAdjustmentRed: 0
- LuminanceAdjustmentYellow: 0
- LuminanceNoiseReductionContrast: 3
- LuminanceNoiseReductionDetail: 53
- LuminanceSmoothing: 22
- ParametricDarks: +26
- ParametricHighlightSplit: 75
- ParametricHighlights: +1
- ParametricLights: -54
- ParametricMidtoneSplit: 50
- ParametricShadowSplit: 25
- ParametricShadows: -31
- PerspectiveHorizontal: 0
- PerspectiveRotate: 0.0
- PerspectiveScale: 100
- PerspectiveVertical: 0
- PostCropVignetteAmount: 0
- ProcessVersion: 5.7
- RedHue: 0
- RedSaturation: 0
- Saturation: +8
- SaturationAdjustmentAqua: 0
- SaturationAdjustmentBlue: 0
- SaturationAdjustmentGreen: 0
- SaturationAdjustmentMagenta: 0
- SaturationAdjustmentOrange: 0
- SaturationAdjustmentPurple: 0
- SaturationAdjustmentRed: 0
- SaturationAdjustmentYellow: 0
- ShadowTint: 0
- Shadows: 6
- SharpenDetail: 45
- SharpenEdgeMasking: 0
- SharpenRadius: +1.0
- Sharpness: 45
- SplitToningBalance: 0
- SplitToningHighlightHue: 0
- SplitToningHighlightSaturation: 0
- SplitToningShadowHue: 0
- SplitToningShadowSaturation: 0
- Temperature: 5900
- Tint: +14
- ToneCurve: 0, 0, 32, 22, 64, 56, 128, 128, 192, 196, 255, 255
- ToneCurveName: Medium Contrast
- Version: 6.3
- Vibrance: +8
- VignetteAmount: 0
- WhiteBalance: As Shot
- XMP-dc
- Creator: Michael Ortenberg
- Format: image/jpeg
- Rights: Michael Ortenberg
- XMP-exif
- ApertureValue: 7,1
- CustomRendered: Normal
- DateTimeOriginal: 2011:02:19 10:12:03.09+02:00
- ExposureCompensation: 0
- ExposureMode: Manual
- ExposureProgram: Manual
- FlashFired: False
- FlashFunction: False
- FlashMode: Off
- FlashRedEyeMode: False
- FlashReturn: No return detection
- MaxApertureValue: 5,4
- MeteringMode: Multi-segment
- SceneCaptureType: Standard
- ShutterSpeedValue: 1/1600
- SubjectDistance: 4294967295 m
- WhiteBalance: Auto
- XMP-pmtm
- BlackClip: 0.600000
- Brightness: -0.5
- ColorTemperature: 0.1
- Contrast: 2.5
- Method: Tone Compressor
- Saturation: 0.2
- Version: 4.0
- WhiteClip: 0.400000
- XMP-tiff
- BitsPerSample: 16, 16, 16
- Make: Canon
- XMP-x
- XMP-xmp
- CreateDate: 2011:02:19 10:12:03.09+02:00
- ModifyDate: 2011:02:20 21:16:17+02:00
- XMP-xmpMM