- Раздел: Животные
- Дата съёмки: 22.02.2011 11:17
- Дата загрузки фото: 22.02.2011 21:33
- Оригинальная фотография: 749 x 1000 (360 Кб)
- Технические характеристики:
- Фотоаппарат: Canon EOS 7D
- Выдержка: 1/500
- Гиперфокальное расстояние: inf m
- Диафрагма: 7,1
- Светочувствительность: 1250
- Фокусное расстояние: 300,0 mm (35 mm equivalent: 2100,0 mm)
- Полный EXIF
- Adobe
- ColorTransform: YCbCr
- Composite
- Aperture: 7,1
- CircleOfConfusion: 0,004 mm
- DOF: inf (0,00 m - inf)
- FOV: 0,0 deg
- FocalLength35efl: 300,0 mm (35 mm equivalent: 2100,0 mm)
- HyperfocalDistance: inf m
- ScaleFactor35efl: 7,9
- ShutterSpeed: 1/500
- ExifIFD
- ColorSpace: sRGB
- DateTimeOriginal: 2011:02:22 11:17:55
- ExifImageHeight: 1000
- ExifImageWidth: 749
- ExposureTime: 1/500
- FNumber: 7,1
- FocalLength: 300,0 mm
- ISO: 1250
- ICC-header
- ICC-meas
- ICC-view
- IFD0
- Artist: Michael Ortenberg
- BitsPerSample: 16 16 16
- Copyright: Michael Ortenberg
- ImageHeight: 2576
- ImageWidth: 1930
- Model: Canon EOS 7D
- ModifyDate: 2011:02:22 20:32:49
- Orientation: Horizontal (normal)
- PhotometricInterpretation: RGB
- PlanarConfiguration: Chunky
- SamplesPerPixel: 3
- IFD1
- IPTC
- By-line: Michael Ortenberg
- CopyrightNotice: Michael Ortenberg
- System
- XMP-aux
- ApproximateFocusDistance: 3,86
- Firmware: 1.2.3
- FlashCompensation: 0
- ImageNumber: 0
- Lens: 70-300mm
- LensID: 156
- LensInfo: 70-300mm f/?
- OwnerName: Michael Ortenberg
- SerialNumber: 1781018879
- XMP-crs
- AlreadyApplied: True
- BlueHue: 0
- BlueSaturation: 0
- Brightness: +50
- ChromaticAberrationB: 0
- ChromaticAberrationR: 0
- Clarity: +8
- ColorNoiseReduction: 29
- ColorNoiseReductionDetail: 55
- Contrast: +62
- ConvertToGrayscale: False
- CropAngle: 0
- CropBottom: 0.938992
- CropConstrainToWarp: 0
- CropHeight: 2576
- CropLeft: 0.335986
- CropRight: 0.708222
- CropTop: 0.193634
- CropUnit: pixels
- CropWidth: 1930
- Defringe: 0
- Exposure: +0.14
- FillLight: 0
- GrainAmount: 0
- GreenHue: 0
- GreenSaturation: 0
- HasCrop: True
- HasSettings: True
- HighlightRecovery: 0
- HueAdjustmentAqua: 0
- HueAdjustmentBlue: 0
- HueAdjustmentGreen: 0
- HueAdjustmentMagenta: 0
- HueAdjustmentOrange: 0
- HueAdjustmentPurple: 0
- HueAdjustmentRed: 0
- HueAdjustmentYellow: 0
- LensManualDistortionAmount: 0
- LensProfileChromaticAberrationScale: 100
- LensProfileDistortionScale: 100
- LensProfileEnable: 1
- LensProfileFilename: Canon (TAMRON SP 70-300mm F4-5.6 Di VC USD A005E) - RAW.lcp
- LensProfileSetup: Custom
- LensProfileVignettingScale: 100
- LuminanceAdjustmentAqua: 0
- LuminanceAdjustmentBlue: 0
- LuminanceAdjustmentGreen: 0
- LuminanceAdjustmentMagenta: 0
- LuminanceAdjustmentOrange: 0
- LuminanceAdjustmentPurple: 0
- LuminanceAdjustmentRed: 0
- LuminanceAdjustmentYellow: 0
- LuminanceNoiseReductionContrast: 6
- LuminanceNoiseReductionDetail: 54
- LuminanceSmoothing: 23
- ParametricDarks: +12
- ParametricHighlightSplit: 75
- ParametricHighlights: -3
- ParametricLights: -24
- ParametricMidtoneSplit: 50
- ParametricShadowSplit: 25
- ParametricShadows: -3
- PerspectiveHorizontal: 0
- PerspectiveRotate: 0.0
- PerspectiveScale: 100
- PerspectiveVertical: 0
- PostCropVignetteAmount: 0
- ProcessVersion: 5.7
- RedHue: 0
- RedSaturation: 0
- Saturation: +3
- SaturationAdjustmentAqua: 0
- SaturationAdjustmentBlue: 0
- SaturationAdjustmentGreen: 0
- SaturationAdjustmentMagenta: 0
- SaturationAdjustmentOrange: 0
- SaturationAdjustmentPurple: 0
- SaturationAdjustmentRed: 0
- SaturationAdjustmentYellow: 0
- ShadowTint: 0
- Shadows: 5
- SharpenDetail: 45
- SharpenEdgeMasking: 0
- SharpenRadius: +1.0
- Sharpness: 45
- SplitToningBalance: 0
- SplitToningHighlightHue: 0
- SplitToningHighlightSaturation: 0
- SplitToningShadowHue: 0
- SplitToningShadowSaturation: 0
- Temperature: 4800
- Tint: +11
- ToneCurve: 0, 0, 32, 22, 64, 56, 128, 128, 192, 196, 255, 255
- ToneCurveName: Medium Contrast
- Version: 6.3
- Vibrance: +6
- VignetteAmount: 0
- WhiteBalance: As Shot
- XMP-dc
- Creator: Michael Ortenberg
- Format: image/jpeg
- Rights: Michael Ortenberg
- XMP-exif
- ApertureValue: 7,1
- CustomRendered: Normal
- DateTimeDigitized: 2011:02:22 11:17:55.44+02:00
- DateTimeOriginal: 2011:02:22 11:17:55.44+02:00
- ExposureCompensation: 0
- ExposureMode: Manual
- ExposureProgram: Manual
- FlashFired: False
- FlashFunction: False
- FlashMode: Off
- FlashRedEyeMode: False
- FlashReturn: No return detection
- MaxApertureValue: 5,4
- MeteringMode: Multi-segment
- SceneCaptureType: Standard
- ShutterSpeedValue: 1/500
- SubjectDistance: 3,86 m
- WhiteBalance: Auto
- XMP-pmtm
- BlackClip: 0.393200
- ColorSaturation: 48.0
- ColorTemperature: 0.0
- Gamma: 1.0
- HighlightsSmoothing: 100.0
- Luminosity: 6.9
- Method: Details Enhancer
- Microcontrast: 3.0
- Microsmoothing: 20.0
- SaturationHighlights: 0.0
- SaturationShadows: 0.0
- ShadowsClipping: 0.0
- ShadowsSmoothing: 0.0
- Smoothing: 0.0
- SmoothingMode: Slider
- Strength: 80.0
- Version: 4.0
- WhiteClip: 0.995250
- XMP-tiff
- BitsPerSample: 16, 16, 16
- Make: Canon
- XMP-xmp
- CreateDate: 2011:02:22 11:17:55.44+02:00
- ModifyDate: 2011:02:22 20:32:49+02:00
- XMP-xmpMM
- Просмотров: 238
- Рейтинг: голосов еще нет
- Отзывов: 0