- Раздел: Портрет
- Дата съёмки: 07.02.2011 15:39
- Дата загрузки фото: 25.02.2011 09:35
- Оригинальная фотография: 3543 x 2362 (3,1 Мб)
- Технические характеристики:
- Фотоаппарат: Nikon D700
- Выдержка: 1/320
- Гиперфокальное расстояние: inf m
- Диафрагма: 9,0
- Светочувствительность: 200
- Фокусное расстояние: 35,0 mm (35 mm equivalent: 35,0 mm)
- Полный EXIF
- Adobe
- ColorTransform: YCbCr
- Composite
- Aperture: 9,0
- CircleOfConfusion: 0,030 mm
- FOV: 54,0 deg
- FocalLength35efl: 35,0 mm (35 mm equivalent: 35,0 mm)
- HyperfocalDistance: inf m
- ScaleFactor35efl: 1,0
- ShutterSpeed: 1/320
- ExifIFD
- ApertureValue: 9,0
- CFAPattern: [Red,Green][Green,Blue]
- ColorSpace: sRGB
- Contrast: Normal
- CreateDate: 2011:02:07 15:39:22
- CustomRendered: Normal
- DateTimeOriginal: 2011:02:07 15:39:22
- DigitalZoomRatio: 1
- ExifImageHeight: 2362
- ExifImageWidth: 3543
- ExposureCompensation: 0
- ExposureMode: Manual
- ExposureProgram: Manual
- ExposureTime: 1/320
- FNumber: 9,0
- Flash: On, Return not detected
- FocalLength: 35,0 mm
- FocalLengthIn35mmFormat: 35 mm
- GainControl: None
- ISO: 200
- LightSource: Flash
- MaxApertureValue: 2,0
- MeteringMode: Multi-segment
- Saturation: Normal
- SceneCaptureType: Standard
- SceneType: Directly photographed
- SensingMethod: One-chip color area
- Sharpness: Normal
- ShutterSpeedValue: 1/320
- SubjectDistanceRange: Unknown
- UserComment: Medvezonokumka
- WhiteBalance: Manual
- ICC-header
- ICC-meas
- ICC-view
- IFD0
- Artist: Michel Karpov
- Copyright: Medvezonokumka
- Make: NIKON CORPORATION
- Model: NIKON D700
- ModifyDate: 2011:02:22 08:11:56
- Orientation: Horizontal (normal)
- IFD1
- IPTC
- By-line: Michel Karpov
- CopyrightNotice: Medvezonokumka
- System
- XMP-aux
- ImageNumber: 29214
- Lens: 35.0 mm f/2.0
- LensInfo: 35mm f/2
- SerialNumber: 2125307
- XMP-crs
- AlreadyApplied: True
- BlueHue: -100
- BlueSaturation: -81
- Brightness: +65
- CameraProfile: ACR 2.4
- ChromaticAberrationB: 0
- ChromaticAberrationR: 0
- Clarity: +20
- ColorNoiseReduction: 25
- Contrast: +57
- ConvertToGrayscale: True
- CropAngle: 0
- CropBottom: 1
- CropHeight: 2594
- CropLeft: 0
- CropRight: 0.91018
- CropTop: 0.083958
- CropUnit: pixels
- CropWidth: 3874
- Defringe: 2
- Exposure: 0.00
- FillLight: 30
- GrayMixerAqua: +2
- GrayMixerBlue: -100
- GrayMixerGreen: -69
- GrayMixerMagenta: 0
- GrayMixerOrange: +8
- GrayMixerPurple: +25
- GrayMixerRed: +34
- GrayMixerYellow: -17
- GreenHue: -100
- GreenSaturation: +2
- HasCrop: True
- HasSettings: True
- HighlightRecovery: 10
- LuminanceSmoothing: 0
- ParametricDarks: +62
- ParametricHighlightSplit: 75
- ParametricHighlights: +10
- ParametricLights: +7
- ParametricMidtoneSplit: 50
- ParametricShadowSplit: 25
- ParametricShadows: -33
- PostCropVignetteAmount: 0
- RedHue: +48
- RedSaturation: +45
- ShadowTint: +17
- Shadows: 10
- SharpenDetail: 25
- SharpenEdgeMasking: 0
- SharpenRadius: +1.0
- Sharpness: 25
- SplitToningBalance: 0
- SplitToningHighlightHue: 240
- SplitToningHighlightSaturation: 1
- SplitToningShadowHue: 231
- SplitToningShadowSaturation: 5
- Temperature: 6405
- Tint: -50
- ToneCurve: 0, 0, 255, 255
- ToneCurveName: Linear
- Version: 4.5
- VignetteAmount: -100
- VignetteMidpoint: 0
- WhiteBalance: Custom
- XMP-dc
- Creator: Michel Karpov
- Format: image/jpeg
- Rights: Medvezonokumka
- XMP-exif
- DateTimeDigitized: 2011:02:07 15:39:22+03:00
- DateTimeOriginal: 2011:02:07 15:39:22+03:00
- FlashFired: True
- FlashFunction: False
- FlashMode: On
- FlashRedEyeMode: False
- FlashReturn: Return not detected
- XMP-rdf
- XMP-tiff
- ImageHeight: 2594
- ImageWidth: 3874
- XMP-x
- XMP-xmp
- CreateDate: 2011:02:07 15:39:22.75+03:00
- ModifyDate: 2011:02:22 08:11:56+03:00
- Просмотров: 1862
- Рейтинг: голосов еще нет
- Отзывов: 0