- Раздел: Животные
- Дата съёмки: 28.02.2011 12:42
- Дата загрузки фото: 28.02.2011 22:19
- Оригинальная фотография: 650 x 1000 (374 Кб)
- Технические характеристики:
- Фотоаппарат: Canon EOS 7D
- Выдержка: 1/800
- Гиперфокальное расстояние: inf m
- Диафрагма: 7,1
- Светочувствительность: 250
- Фокусное расстояние: 300,0 mm (35 mm equivalent: 2400,0 mm)
- Полный EXIF
- Adobe
- ColorTransform: YCbCr
- Composite
- Aperture: 7,1
- CircleOfConfusion: 0,004 mm
- DOF: inf (0,00 m - inf)
- FOV: 0,0 deg
- FocalLength35efl: 300,0 mm (35 mm equivalent: 2400,0 mm)
- HyperfocalDistance: inf m
- ScaleFactor35efl: 8,3
- ShutterSpeed: 1/800
- ExifIFD
- ApertureValue: 7,1
- ColorSpace: sRGB
- CreateDate: 2011:02:28 12:42:21
- CustomRendered: Normal
- DateTimeOriginal: 2011:02:28 12:42:21
- ExifImageHeight: 1000
- ExifImageWidth: 650
- ExposureCompensation: 0
- ExposureMode: Manual
- ExposureProgram: Manual
- ExposureTime: 1/800
- FNumber: 7,1
- Flash: Off, Did not fire
- FocalLength: 300,0 mm
- ISO: 250
- LensInfo: 70-300mm f/?
- LensModel: 70-300mm
- MaxApertureValue: 5,4
- MeteringMode: Multi-segment
- OwnerName: Michael Ortenberg
- SceneCaptureType: Standard
- SensitivityType: Unknown
- SerialNumber: 1781018879
- ShutterSpeedValue: 1/800
- SubjectDistance: 4294967295 m
- WhiteBalance: Auto
- ICC-header
- ICC-meas
- ICC-view
- IFD0
- Artist: Michael Ortenberg
- BitsPerSample: 16 16 16
- Copyright: Michael Ortenberg
- ImageHeight: 1742
- ImageWidth: 1132
- Make: Canon
- Model: Canon EOS 7D
- ModifyDate: 2011:02:28 15:08:08
- Orientation: Horizontal (normal)
- PhotometricInterpretation: RGB
- PlanarConfiguration: Chunky
- SamplesPerPixel: 3
- IFD1
- IPTC
- By-line: Michael Ortenberg
- CopyrightNotice: Michael Ortenberg
- System
- XMP-aux
- ApproximateFocusDistance: 4294967295
- Firmware: 1.2.3
- FlashCompensation: 0
- ImageNumber: 0
- Lens: 70-300mm
- LensID: 156
- XMP-crs
- AlreadyApplied: True
- BlueHue: 0
- BlueSaturation: 0
- Brightness: +50
- ChromaticAberrationB: 0
- ChromaticAberrationR: 0
- Clarity: +13
- ColorNoiseReduction: 25
- ColorNoiseReductionDetail: 50
- Contrast: +59
- ConvertToGrayscale: False
- CropAngle: 0
- CropBottom: 0.803714
- CropConstrainToWarp: 0
- CropHeight: 1742
- CropLeft: 0.392573
- CropRight: 0.610964
- CropTop: 0.299735
- CropUnit: pixels
- CropWidth: 1132
- Defringe: 0
- Exposure: +0.14
- FillLight: 0
- GrainAmount: 0
- GreenHue: 0
- GreenSaturation: 0
- HasCrop: True
- HasSettings: True
- HighlightRecovery: 0
- HueAdjustmentAqua: 0
- HueAdjustmentBlue: 0
- HueAdjustmentGreen: 0
- HueAdjustmentMagenta: 0
- HueAdjustmentOrange: 0
- HueAdjustmentPurple: 0
- HueAdjustmentRed: 0
- HueAdjustmentYellow: 0
- LensManualDistortionAmount: 0
- LensProfileChromaticAberrationScale: 100
- LensProfileDistortionScale: 100
- LensProfileEnable: 1
- LensProfileFilename: Canon (TAMRON SP 70-300mm F4-5.6 Di VC USD A005E) - RAW.lcp
- LensProfileSetup: Custom
- LensProfileVignettingScale: 100
- LuminanceAdjustmentAqua: 0
- LuminanceAdjustmentBlue: 0
- LuminanceAdjustmentGreen: 0
- LuminanceAdjustmentMagenta: 0
- LuminanceAdjustmentOrange: 0
- LuminanceAdjustmentPurple: 0
- LuminanceAdjustmentRed: 0
- LuminanceAdjustmentYellow: 0
- LuminanceSmoothing: 0
- ParametricDarks: +7
- ParametricHighlightSplit: 75
- ParametricHighlights: 0
- ParametricLights: 0
- ParametricMidtoneSplit: 50
- ParametricShadowSplit: 25
- ParametricShadows: -7
- PerspectiveHorizontal: 0
- PerspectiveRotate: 0.0
- PerspectiveScale: 100
- PerspectiveVertical: 0
- PostCropVignetteAmount: 0
- ProcessVersion: 5.7
- RedHue: 0
- RedSaturation: 0
- Saturation: +8
- SaturationAdjustmentAqua: 0
- SaturationAdjustmentBlue: 0
- SaturationAdjustmentGreen: 0
- SaturationAdjustmentMagenta: 0
- SaturationAdjustmentOrange: 0
- SaturationAdjustmentPurple: 0
- SaturationAdjustmentRed: 0
- SaturationAdjustmentYellow: 0
- ShadowTint: 0
- Shadows: 5
- SharpenDetail: 24
- SharpenEdgeMasking: 0
- SharpenRadius: +1.0
- Sharpness: 33
- SplitToningBalance: 0
- SplitToningHighlightHue: 0
- SplitToningHighlightSaturation: 0
- SplitToningShadowHue: 0
- SplitToningShadowSaturation: 0
- Temperature: 5400
- Tint: +16
- ToneCurve: 0, 0, 32, 22, 64, 56, 128, 128, 192, 196, 255, 255
- ToneCurveName: Medium Contrast
- Version: 6.3
- Vibrance: +8
- VignetteAmount: 0
- WhiteBalance: As Shot
- XMP-dc
- Creator: Michael Ortenberg
- Format: image/jpeg
- Rights: Michael Ortenberg
- XMP-exif
- DateTimeDigitized: 2011:02:28 12:42:21.56+02:00
- DateTimeOriginal: 2011:02:28 12:42:21.56+02:00
- FlashFired: False
- FlashFunction: False
- FlashMode: Off
- FlashRedEyeMode: False
- FlashReturn: No return detection
- XMP-tiff
- BitsPerSample: 16, 16, 16
- XMP-xmp
- CreateDate: 2011:02:28 12:42:21.56+02:00
- ModifyDate: 2011:02:28 15:08:08+02:00
- XMP-xmpMM
- Просмотров: 249
- Рейтинг: голосов еще нет
- Отзывов: 0