- Раздел: Портрет
- Дата съёмки: 07.02.2011 16:32
- Дата загрузки фото: 01.03.2011 19:52
- Оригинальная фотография: 800 x 1200 (447 Кб)
- Технические характеристики:
- Фотоаппарат: Nikon D700
- Выдержка: 1/250
- Гиперфокальное расстояние: inf m
- Диафрагма: 7,1
- Светочувствительность: 200
- Фокусное расстояние: 85,0 mm (35 mm equivalent: 85,0 mm)
- Полный EXIF
- Adobe
- ColorTransform: YCbCr
- Composite
- Aperture: 7,1
- CircleOfConfusion: 0,030 mm
- FOV: 23,0 deg
- FocalLength35efl: 85,0 mm (35 mm equivalent: 85,0 mm)
- HyperfocalDistance: inf m
- ScaleFactor35efl: 1,0
- ShutterSpeed: 1/250
- ExifIFD
- ApertureValue: 7,1
- CFAPattern: [Red,Green][Green,Blue]
- ColorSpace: sRGB
- Contrast: Normal
- CreateDate: 2011:02:07 16:32:01
- CustomRendered: Normal
- DateTimeOriginal: 2011:02:07 16:32:01
- DigitalZoomRatio: 1
- ExifImageHeight: 1200
- ExifImageWidth: 800
- ExposureCompensation: 0
- ExposureMode: Manual
- ExposureProgram: Manual
- ExposureTime: 1/250
- FNumber: 7,1
- Flash: On, Return not detected
- FocalLength: 85,0 mm
- FocalLengthIn35mmFormat: 85 mm
- GainControl: None
- ISO: 200
- LightSource: Flash
- MaxApertureValue: 1,4
- MeteringMode: Multi-segment
- Saturation: Normal
- SceneCaptureType: Standard
- SceneType: Directly photographed
- SensingMethod: One-chip color area
- Sharpness: Normal
- ShutterSpeedValue: 1/250
- SubjectDistanceRange: Unknown
- UserComment: Medvezonokumka
- WhiteBalance: Manual
- ICC-header
- ICC-meas
- ICC-view
- IFD0
- Artist: Michel Karpov
- Copyright: Medvezonokumka
- Make: NIKON CORPORATION
- Model: NIKON D700
- ModifyDate: 2011:03:01 19:45:11
- Orientation: Horizontal (normal)
- IFD1
- IPTC
- By-line: Michel Karpov
- CopyrightNotice: Medvezonokumka
- System
- XMP-aux
- ImageNumber: 29271
- Lens: 85.0 mm f/1.4
- LensInfo: 85mm f/1.4
- SerialNumber: 2125307
- XMP-crs
- AlreadyApplied: True
- BlueHue: 0
- BlueSaturation: 0
- Brightness: 0
- CameraProfile: ACR 3.3
- ChromaticAberrationB: 0
- ChromaticAberrationR: 0
- Clarity: +51
- ColorNoiseReduction: 20
- Contrast: -4
- ConvertToGrayscale: False
- CropAngle: 0
- CropBottom: 0.772021
- CropHeight: 1639
- CropLeft: 0.296552
- CropRight: 0.937931
- CropTop: 0.193437
- CropUnit: pixels
- CropWidth: 2730
- Defringe: 0
- Exposure: +0.33
- FillLight: 73
- GreenHue: 0
- GreenSaturation: 0
- HasCrop: True
- HasSettings: True
- HighlightRecovery: 64
- HueAdjustmentAqua: -48
- HueAdjustmentBlue: 0
- HueAdjustmentGreen: +34
- HueAdjustmentMagenta: +29
- HueAdjustmentOrange: +36
- HueAdjustmentPurple: 0
- HueAdjustmentRed: +27
- HueAdjustmentYellow: -46
- LuminanceAdjustmentAqua: 0
- LuminanceAdjustmentBlue: 0
- LuminanceAdjustmentGreen: +72
- LuminanceAdjustmentMagenta: 0
- LuminanceAdjustmentOrange: +60
- LuminanceAdjustmentPurple: 0
- LuminanceAdjustmentRed: 0
- LuminanceAdjustmentYellow: +62
- LuminanceSmoothing: 20
- ParametricDarks: 0
- ParametricHighlightSplit: 75
- ParametricHighlights: -18
- ParametricLights: +35
- ParametricMidtoneSplit: 50
- ParametricShadowSplit: 25
- ParametricShadows: -22
- PostCropVignetteAmount: 0
- RedHue: 0
- RedSaturation: 0
- Saturation: -62
- SaturationAdjustmentAqua: -65
- SaturationAdjustmentBlue: 0
- SaturationAdjustmentGreen: -100
- SaturationAdjustmentMagenta: 0
- SaturationAdjustmentOrange: +18
- SaturationAdjustmentPurple: +6
- SaturationAdjustmentRed: 0
- SaturationAdjustmentYellow: 0
- ShadowTint: 0
- Shadows: 49
- SharpenDetail: 15
- SharpenEdgeMasking: 0
- SharpenRadius: +1.0
- Sharpness: 24
- SplitToningBalance: 0
- SplitToningHighlightHue: 0
- SplitToningHighlightSaturation: 0
- SplitToningShadowHue: 0
- SplitToningShadowSaturation: 0
- Temperature: 11721
- Tint: -79
- ToneCurve: 0, 0, 32, 16, 64, 50, 128, 128, 192, 202, 255, 255
- ToneCurveName: Strong Contrast
- Version: 4.5
- Vibrance: -1
- VignetteAmount: +7
- VignetteMidpoint: 73
- WhiteBalance: Custom
- XMP-dc
- Creator: Michel Karpov
- Format: image/jpeg
- Rights: Medvezonokumka
- XMP-exif
- DateTimeDigitized: 2011:02:07 16:32:01.25+03:00
- DateTimeOriginal: 2011:02:07 16:32:01.25+03:00
- FlashFired: True
- FlashFunction: False
- FlashMode: On
- FlashRedEyeMode: False
- FlashReturn: Return not detected
- XMP-tiff
- ImageHeight: 2730
- ImageWidth: 1639
- XMP-xmp
- CreateDate: 2011:02:07 16:32:01.25+03:00
- ModifyDate: 2011:03:01 19:45:11+03:00
- XMP-xmpMM