- Раздел: Животные
- Дата съёмки: 16.04.2011 17:38
- Дата загрузки фото: 17.04.2011 01:05
- Оригинальная фотография: 1441 x 1000 (344 Кб)
- Технические характеристики:
- Фотоаппарат: Canon EOS 7D
- Выдержка: 1/400
- Гиперфокальное расстояние: inf m
- Диафрагма: 8,0
- Светочувствительность: 3200
- Фокусное расстояние: 420,0 mm (35 mm equivalent: 2100,0 mm)
- Полный EXIF
- Adobe
- ColorTransform: YCbCr
- Composite
- Aperture: 8,0
- CircleOfConfusion: 0,005 mm
- DOF: inf (0,00 m - inf)
- FOV: 0,0 deg
- FocalLength35efl: 420,0 mm (35 mm equivalent: 2100,0 mm)
- HyperfocalDistance: inf m
- ScaleFactor35efl: 5,6
- ShutterSpeed: 1/400
- ExifIFD
- ApertureValue: 8,0
- ColorSpace: sRGB
- CreateDate: 2011:04:16 17:38:31
- CustomRendered: Normal
- DateTimeOriginal: 2011:04:16 17:38:31
- ExifImageHeight: 1000
- ExifImageWidth: 1441
- ExposureCompensation: 0
- ExposureMode: Manual
- ExposureProgram: Manual
- ExposureTime: 1/400
- FNumber: 8,0
- Flash: Off, Did not fire
- FocalLength: 420,0 mm
- ISO: 3200
- LensInfo: 300mm f/?
- LensModel: EF300mm f/4L IS USM
- MaxApertureValue: 5,7
- MeteringMode: Multi-segment
- OwnerName: Michael Ortenberg
- SceneCaptureType: Standard
- SensitivityType: Unknown
- SerialNumber: 1781018879
- ShutterSpeedValue: 1/400
- SubjectDistance: 3,83 m
- WhiteBalance: Auto
- ICC-header
- ICC-meas
- ICC-view
- IFD0
- Artist: Michael Ortenberg
- BitsPerSample: 16 16 16
- Copyright: Michael Ortenberg
- ImageHeight: 2823
- ImageWidth: 4066
- Make: Canon
- Model: Canon EOS 7D
- ModifyDate: 2011:04:16 17:52:12
- Orientation: Horizontal (normal)
- PhotometricInterpretation: RGB
- PlanarConfiguration: Chunky
- SamplesPerPixel: 3
- IFD1
- IPTC
- By-line: Michael Ortenberg
- CopyrightNotice: Michael Ortenberg
- System
- XMP-aux
- ApproximateFocusDistance: 3,83
- Firmware: 1.2.3
- FlashCompensation: 0
- ImageNumber: 0
- Lens: EF300mm f/4L IS USM
- LensID: 177
- XMP-crs
- AlreadyApplied: True
- BlueHue: 0
- BlueSaturation: 0
- Brightness: +50
- ChromaticAberrationB: 0
- ChromaticAberrationR: 0
- Clarity: +15
- ColorNoiseReduction: 25
- ColorNoiseReductionDetail: 50
- Contrast: +71
- ConvertToGrayscale: False
- CropAngle: 0
- CropBottom: 0.976127
- CropConstrainToWarp: 0
- CropHeight: 2823
- CropLeft: 0.065429
- CropRight: 0.849691
- CropTop: 0.159151
- CropUnit: pixels
- CropWidth: 4066
- Defringe: 0
- Exposure: -0.32
- FillLight: 39
- GrainAmount: 0
- GreenHue: 0
- GreenSaturation: 0
- HasCrop: True
- HasSettings: True
- HighlightRecovery: 20
- HueAdjustmentAqua: 0
- HueAdjustmentBlue: 0
- HueAdjustmentGreen: 0
- HueAdjustmentMagenta: 0
- HueAdjustmentOrange: 0
- HueAdjustmentPurple: 0
- HueAdjustmentRed: 0
- HueAdjustmentYellow: 0
- LensManualDistortionAmount: 0
- LensProfileChromaticAberrationScale: 100
- LensProfileDistortionScale: 100
- LensProfileEnable: 1
- LensProfileFilename: Canon EOS 5D Mark II (Canon EF 300mm f4L IS USM) - RAW.lcp
- LensProfileSetup: Custom
- LensProfileVignettingScale: 100
- LuminanceAdjustmentAqua: 0
- LuminanceAdjustmentBlue: 0
- LuminanceAdjustmentGreen: 0
- LuminanceAdjustmentMagenta: 0
- LuminanceAdjustmentOrange: 0
- LuminanceAdjustmentPurple: 0
- LuminanceAdjustmentRed: 0
- LuminanceAdjustmentYellow: 0
- LuminanceNoiseReductionContrast: 14
- LuminanceNoiseReductionDetail: 55
- LuminanceSmoothing: 40
- ParametricDarks: +9
- ParametricHighlightSplit: 75
- ParametricHighlights: 0
- ParametricLights: -12
- ParametricMidtoneSplit: 50
- ParametricShadowSplit: 25
- ParametricShadows: -9
- PerspectiveHorizontal: 0
- PerspectiveRotate: 0.0
- PerspectiveScale: 100
- PerspectiveVertical: 0
- PostCropVignetteAmount: 0
- ProcessVersion: 5.7
- RedHue: 0
- RedSaturation: 0
- Saturation: +6
- SaturationAdjustmentAqua: 0
- SaturationAdjustmentBlue: 0
- SaturationAdjustmentGreen: 0
- SaturationAdjustmentMagenta: 0
- SaturationAdjustmentOrange: 0
- SaturationAdjustmentPurple: 0
- SaturationAdjustmentRed: 0
- SaturationAdjustmentYellow: 0
- ShadowTint: 0
- Shadows: 5
- SharpenDetail: 28
- SharpenEdgeMasking: 0
- SharpenRadius: +1.0
- Sharpness: 28
- SplitToningBalance: 0
- SplitToningHighlightHue: 0
- SplitToningHighlightSaturation: 0
- SplitToningShadowHue: 0
- SplitToningShadowSaturation: 0
- Temperature: 4750
- Tint: +26
- ToneCurve: 0, 0, 32, 22, 64, 56, 128, 128, 192, 196, 255, 255
- ToneCurveName: Medium Contrast
- Version: 6.3
- Vibrance: +6
- VignetteAmount: 0
- WhiteBalance: As Shot
- XMP-dc
- Creator: Michael Ortenberg
- Format: image/jpeg
- Rights: Michael Ortenberg
- XMP-exif
- DateTimeDigitized: 2011:04:16 17:38:31.74+03:00
- DateTimeOriginal: 2011:04:16 17:38:31.74+03:00
- FlashFired: False
- FlashFunction: False
- FlashMode: Off
- FlashRedEyeMode: False
- FlashReturn: No return detection
- XMP-tiff
- BitsPerSample: 16, 16, 16
- XMP-xmp
- CreateDate: 2011:04:16 17:38:31.74+03:00
- ModifyDate: 2011:04:16 17:52:12+03:00
- XMP-xmpMM