- Раздел: Город
- Дата съёмки: 21.08.2007 23:06
- Дата загрузки фото: 17.04.2011 19:44
- Оригинальная фотография: 1000 x 667 (302 Кб)
- Технические характеристики:
- Фотоаппарат: Canon EOS 400D DIGITAL
- Выдержка: 30,0
- Гиперфокальное расстояние: inf m
- Диафрагма: 8,0
- Светочувствительность: 100
- Фокусное расстояние: 18,0 mm (35 mm equivalent: 108,0 mm)
- Экспокоррекция: +2
- Полный EXIF
- Adobe
- ColorTransform: YCbCr
- Composite
- Aperture: 8,0
- CircleOfConfusion: 0,005 mm
- FOV: 18,0 deg
- FocalLength35efl: 18,0 mm (35 mm equivalent: 108,0 mm)
- HyperfocalDistance: inf m
- LightValue: 1,1
- ScaleFactor35efl: 6,3
- ShutterSpeed: 30,0
- ExifIFD
- ApertureValue: 8,0
- ColorSpace: sRGB
- CreateDate: 2007:08:21 23:06:12
- CustomRendered: Normal
- DateTimeOriginal: 2007:08:21 23:06:12
- ExifImageHeight: 667
- ExifImageWidth: 1000
- ExposureCompensation: +2
- ExposureMode: Auto
- ExposureProgram: Aperture-priority AE
- ExposureTime: 30,0
- FNumber: 8,0
- Flash: Off, Did not fire
- FocalLength: 18,0 mm
- ISO: 100
- MaxApertureValue: 3,5
- MeteringMode: Multi-segment
- SceneCaptureType: Standard
- ShutterSpeedValue: 30,0
- WhiteBalance: Auto
- ICC-header
- ICC-meas
- ICC-view
- IFD0
- Artist: White
- Make: Canon
- Model: Canon EOS 400D DIGITAL
- ModifyDate: 2009:12:19 12:27:26
- Orientation: Horizontal (normal)
- TimeZoneOffset: 3 3
- IFD1
- IPTC
- By-line: White
- System
- XMP-aux
- Firmware: 1.0.4
- FlashCompensation: 0
- ImageNumber: 80
- Lens: EF-S18-55mm f/3.5-5.6
- LensInfo: 18-55mm f/?
- OwnerName: White
- SerialNumber: 730371815
- XMP-crs
- AlreadyApplied: True
- BlueHue: 0
- BlueSaturation: 0
- Brightness: +50
- CameraProfile: ACR 3.6
- ChromaticAberrationB: 0
- ChromaticAberrationR: 0
- ColorNoiseReduction: 35
- Contrast: 0
- ConvertToGrayscale: False
- Exposure: -0.80
- FillLight: 20
- GreenHue: 0
- GreenSaturation: 0
- HasCrop: False
- HasSettings: True
- HighlightRecovery: 31
- HueAdjustmentAqua: 0
- HueAdjustmentBlue: 0
- HueAdjustmentGreen: 0
- HueAdjustmentMagenta: 0
- HueAdjustmentOrange: 0
- HueAdjustmentPurple: 0
- HueAdjustmentRed: 0
- HueAdjustmentYellow: 0
- LuminanceAdjustmentAqua: 0
- LuminanceAdjustmentBlue: 0
- LuminanceAdjustmentGreen: 0
- LuminanceAdjustmentMagenta: 0
- LuminanceAdjustmentOrange: 0
- LuminanceAdjustmentPurple: 0
- LuminanceAdjustmentRed: 0
- LuminanceAdjustmentYellow: 0
- LuminanceSmoothing: 0
- ParametricDarks: +49
- ParametricHighlightSplit: 75
- ParametricHighlights: -15
- ParametricLights: -20
- ParametricMidtoneSplit: 50
- ParametricShadowSplit: 25
- ParametricShadows: +10
- RawFileName: IMG_1861_ISO100.CR2
- RedHue: 0
- RedSaturation: 0
- Saturation: 0
- SaturationAdjustmentAqua: 0
- SaturationAdjustmentBlue: 0
- SaturationAdjustmentGreen: 0
- SaturationAdjustmentMagenta: 0
- SaturationAdjustmentOrange: 0
- SaturationAdjustmentPurple: 0
- SaturationAdjustmentRed: 0
- SaturationAdjustmentYellow: 0
- ShadowTint: 0
- Shadows: 0
- Sharpness: 20
- SplitToningBalance: 0
- SplitToningHighlightHue: 0
- SplitToningHighlightSaturation: 0
- SplitToningShadowHue: 0
- SplitToningShadowSaturation: 0
- Temperature: 2850
- Tint: 0
- ToneCurve: 0, 0, 32, 22, 64, 56, 128, 128, 192, 196, 255, 255
- ToneCurveName: Medium Contrast
- Version: 4.0
- Vibrance: 0
- VignetteAmount: +3
- VignetteMidpoint: 50
- XMP-dc
- Creator: White
- Format: image/jpeg
- XMP-exif
- DateTimeDigitized: 2007:08:21 23:06:12+03:00
- DateTimeOriginal: 2007:08:21 23:06:12+03:00
- FlashFired: False
- FlashFunction: False
- FlashMode: Off
- FlashRedEyeMode: False
- FlashReturn: No return detection
- XMP-tiff
- XMP-xmp
- CreateDate: 2008:04:29 21:27:09+03:00
- ModifyDate: 2009:12:19 12:27:26+02:00
- Rating: 0
- XMP-xmpMM
- DerivedFrom: