- Раздел: Животные
- Дата съёмки: 19.04.2011 13:24
- Дата загрузки фото: 19.04.2011 19:04
- Оригинальная фотография: 1500 x 979 (332 Кб)
- Технические характеристики:
- Фотоаппарат: Canon EOS 7D
- Выдержка: 1/1250
- Гиперфокальное расстояние: inf m
- Диафрагма: 8,0
- Светочувствительность: 400
- Фокусное расстояние: 420,0 mm (35 mm equivalent: 2100,0 mm)
- Полный EXIF
- Adobe
- ColorTransform: YCbCr
- Composite
- Aperture: 8,0
- CircleOfConfusion: 0,006 mm
- DOF: inf (0,00 m - inf)
- FOV: 0,0 deg
- FocalLength35efl: 420,0 mm (35 mm equivalent: 2100,0 mm)
- HyperfocalDistance: inf m
- ScaleFactor35efl: 5,5
- ShutterSpeed: 1/1250
- ExifIFD
- ApertureValue: 8,0
- ColorSpace: sRGB
- CreateDate: 2011:04:19 13:24:42
- CustomRendered: Normal
- DateTimeOriginal: 2011:04:19 13:24:42
- ExifImageHeight: 979
- ExifImageWidth: 1500
- ExposureCompensation: 0
- ExposureMode: Manual
- ExposureProgram: Manual
- ExposureTime: 1/1250
- FNumber: 8,0
- Flash: Off, Did not fire
- FocalLength: 420,0 mm
- ISO: 400
- LensInfo: 300mm f/?
- LensModel: EF300mm f/4L IS USM
- MaxApertureValue: 5,7
- MeteringMode: Multi-segment
- OwnerName: Michael Ortenberg
- SceneCaptureType: Standard
- SensitivityType: Unknown
- SerialNumber: 1781018879
- ShutterSpeedValue: 1/1250
- SubjectDistance: 7,65 m
- WhiteBalance: Auto
- ICC-header
- ICC-meas
- ICC-view
- IFD0
- Artist: Michael Ortenberg
- BitsPerSample: 8 8 8
- Copyright: Michael Ortenberg
- ImageHeight: 1522
- ImageWidth: 2333
- Make: Canon
- Model: Canon EOS 7D
- ModifyDate: 2011:04:19 17:51:51
- Orientation: Horizontal (normal)
- PhotometricInterpretation: RGB
- PlanarConfiguration: Chunky
- SamplesPerPixel: 3
- IFD1
- IPTC
- By-line: Michael Ortenberg
- CopyrightNotice: Michael Ortenberg
- System
- XMP-aux
- ApproximateFocusDistance: 7,65
- Firmware: 1.2.3
- FlashCompensation: 0
- ImageNumber: 0
- Lens: EF300mm f/4L IS USM
- LensID: 177
- XMP-crs
- AlreadyApplied: True
- BlueHue: 0
- BlueSaturation: 0
- Brightness: +50
- ChromaticAberrationB: 0
- ChromaticAberrationR: 0
- Clarity: +17
- ColorNoiseReduction: 25
- ColorNoiseReductionDetail: 50
- Contrast: +78
- ConvertToGrayscale: False
- CropAngle: 0
- CropBottom: 0.798408
- CropConstrainToWarp: 0
- CropHeight: 1522
- CropLeft: 0.332449
- CropRight: 0.782494
- CropTop: 0.35809
- CropUnit: pixels
- CropWidth: 2333
- Defringe: 0
- Exposure: -0.14
- FillLight: 40
- GrainAmount: 0
- GreenHue: 0
- GreenSaturation: 0
- HasCrop: True
- HasSettings: True
- HighlightRecovery: 0
- HueAdjustmentAqua: 0
- HueAdjustmentBlue: 0
- HueAdjustmentGreen: 0
- HueAdjustmentMagenta: 0
- HueAdjustmentOrange: 0
- HueAdjustmentPurple: 0
- HueAdjustmentRed: 0
- HueAdjustmentYellow: 0
- LensManualDistortionAmount: 0
- LensProfileChromaticAberrationScale: 100
- LensProfileDistortionScale: 100
- LensProfileEnable: 1
- LensProfileFilename: Canon EOS 5D Mark II (Canon EF 300mm f4L IS USM) - RAW.lcp
- LensProfileSetup: Custom
- LensProfileVignettingScale: 100
- LuminanceAdjustmentAqua: 0
- LuminanceAdjustmentBlue: 0
- LuminanceAdjustmentGreen: 0
- LuminanceAdjustmentMagenta: 0
- LuminanceAdjustmentOrange: 0
- LuminanceAdjustmentPurple: 0
- LuminanceAdjustmentRed: 0
- LuminanceAdjustmentYellow: 0
- LuminanceNoiseReductionContrast: 0
- LuminanceNoiseReductionDetail: 50
- LuminanceSmoothing: 14
- ParametricDarks: +14
- ParametricHighlightSplit: 75
- ParametricHighlights: 0
- ParametricLights: -18
- ParametricMidtoneSplit: 50
- ParametricShadowSplit: 25
- ParametricShadows: -20
- PerspectiveHorizontal: 0
- PerspectiveRotate: 0.0
- PerspectiveScale: 100
- PerspectiveVertical: 0
- PostCropVignetteAmount: 0
- ProcessVersion: 5.7
- RedHue: 0
- RedSaturation: 0
- Saturation: +6
- SaturationAdjustmentAqua: 0
- SaturationAdjustmentBlue: 0
- SaturationAdjustmentGreen: 0
- SaturationAdjustmentMagenta: 0
- SaturationAdjustmentOrange: 0
- SaturationAdjustmentPurple: 0
- SaturationAdjustmentRed: 0
- SaturationAdjustmentYellow: 0
- ShadowTint: 0
- Shadows: 5
- SharpenDetail: 28
- SharpenEdgeMasking: 0
- SharpenRadius: +1.0
- Sharpness: 28
- SplitToningBalance: 0
- SplitToningHighlightHue: 0
- SplitToningHighlightSaturation: 0
- SplitToningShadowHue: 0
- SplitToningShadowSaturation: 0
- Temperature: 5900
- Tint: +16
- ToneCurve: 0, 0, 32, 22, 64, 56, 128, 128, 192, 196, 255, 255
- ToneCurveName: Medium Contrast
- Version: 6.3
- Vibrance: +6
- VignetteAmount: 0
- WhiteBalance: As Shot
- XMP-dc
- Creator: Michael Ortenberg
- Format: image/jpeg
- Rights: Michael Ortenberg
- XMP-exif
- DateTimeDigitized: 2011:04:19 13:24:42.64+03:00
- DateTimeOriginal: 2011:04:19 13:24:42.64+03:00
- FlashFired: False
- FlashFunction: False
- FlashMode: Off
- FlashRedEyeMode: False
- FlashReturn: No return detection
- XMP-tiff
- BitsPerSample: 8, 8, 8
- XMP-xmp
- CreateDate: 2011:04:19 13:24:42.64+03:00
- ModifyDate: 2011:04:19 17:51:51+03:00
- XMP-xmpMM