- Раздел: Город
- Дата съёмки: 24.04.2011 16:50
- Дата загрузки фото: 24.04.2011 21:43
- Оригинальная фотография: 819 x 389 (216 Кб)
- Технические характеристики:
- Фотоаппарат: Pentax K-5
- Выдержка: 1/320
- Гиперфокальное расстояние: inf m
- Диафрагма: 8,0
- Светочувствительность: 80
- Фокусное расстояние: 50,0 mm (35 mm equivalent: 50,0 mm)
- Экспокоррекция: -0,3
- Полный EXIF
- Adobe
- ColorTransform: YCbCr
- Composite
- Aperture: 8,0
- CircleOfConfusion: 0,020 mm
- FOV: 39,0 deg
- FocalLength35efl: 50,0 mm (35 mm equivalent: 50,0 mm)
- HyperfocalDistance: inf m
- ScaleFactor35efl: 1,5
- ShutterSpeed: 1/320
- ExifIFD
- ApertureValue: 8,0
- Contrast: High
- CreateDate: 2011:04:24 16:50:20
- CustomRendered: Normal
- DateTimeOriginal: 2011:04:24 16:50:20
- ExposureCompensation: -0,3
- ExposureMode: Manual
- ExposureProgram: Not Defined
- ExposureTime: 1/320
- FNumber: 8,0
- Flash: Off, Did not fire
- FocalLength: 50,0 mm
- FocalLengthIn35mmFormat: 75 mm
- ISO: 80
- LensInfo: 28-105mm f/3.2-4.5
- LensModel: smc PENTAX-FA 28-105mm F3.2-4.5 AL[IF]
- MeteringMode: Multi-segment
- Saturation: Normal
- SceneCaptureType: Standard
- SensingMethod: One-chip color area
- SensitivityType: Unknown
- Sharpness: Hard
- ShutterSpeedValue: 1/320
- SubjectDistanceRange: Distant
- WhiteBalance: Auto
- ICC-header
- ICC-meas
- ICC-view
- IFD0
- Make: PENTAX
- Model: PENTAX K-5
- ModifyDate: 2011:04:24 21:15:28
- Software: K-5 Ver 1.03
- IFD1
- System
- XMP-aux
- Lens: smc PENTAX-FA 28-105mm F3.2-4.5 AL[IF]
- LensID: 4 38
- XMP-crs
- AlreadyApplied: True
- BlueHue: -60
- BlueSaturation: +3
- Brightness: +34
- ChromaticAberrationB: 0
- ChromaticAberrationR: 0
- Clarity: +56
- ColorNoiseReduction: 10
- ColorNoiseReductionDetail: 50
- Contrast: +27
- ConvertToGrayscale: False
- CropAngle: 0.580303
- CropBottom: 0.728139
- CropConstrainToWarp: 0
- CropHeight: 389
- CropLeft: 0.004783
- CropRight: 0.995217
- CropTop: 0
- CropUnit: pixels
- CropWidth: 819
- Defringe: 0
- Exposure: +1.06
- FillLight: 25
- GrainAmount: 0
- GreenHue: +100
- GreenSaturation: +100
- HasCrop: True
- HasSettings: True
- HighlightRecovery: 16
- HueAdjustmentAqua: 0
- HueAdjustmentBlue: 0
- HueAdjustmentGreen: 0
- HueAdjustmentMagenta: 0
- HueAdjustmentOrange: 0
- HueAdjustmentPurple: 0
- HueAdjustmentRed: 0
- HueAdjustmentYellow: 0
- LensManualDistortionAmount: 0
- LensProfileEnable: 0
- LensProfileSetup: LensDefaults
- LuminanceAdjustmentAqua: 0
- LuminanceAdjustmentBlue: 0
- LuminanceAdjustmentGreen: 0
- LuminanceAdjustmentMagenta: 0
- LuminanceAdjustmentOrange: -1
- LuminanceAdjustmentPurple: 0
- LuminanceAdjustmentRed: 0
- LuminanceAdjustmentYellow: 0
- LuminanceSmoothing: 0
- ParametricDarks: -24
- ParametricHighlightSplit: 75
- ParametricHighlights: +92
- ParametricLights: -3
- ParametricMidtoneSplit: 50
- ParametricShadowSplit: 25
- ParametricShadows: +33
- PerspectiveHorizontal: 0
- PerspectiveRotate: 0.0
- PerspectiveScale: 100
- PerspectiveVertical: +3
- PostCropVignetteAmount: -21
- PostCropVignetteFeather: 50
- PostCropVignetteHighlightContrast: 0
- PostCropVignetteMidpoint: 50
- PostCropVignetteRoundness: 0
- PostCropVignetteStyle: 1
- ProcessVersion: 5.7
- RedHue: +100
- RedSaturation: -100
- Saturation: -100
- SaturationAdjustmentAqua: 0
- SaturationAdjustmentBlue: 0
- SaturationAdjustmentGreen: 0
- SaturationAdjustmentMagenta: 0
- SaturationAdjustmentOrange: -10
- SaturationAdjustmentPurple: 0
- SaturationAdjustmentRed: -7
- SaturationAdjustmentYellow: 0
- ShadowTint: -4
- Shadows: 40
- SharpenDetail: 25
- SharpenEdgeMasking: 0
- SharpenRadius: +1.0
- Sharpness: 10
- SplitToningBalance: +44
- SplitToningHighlightHue: 37
- SplitToningHighlightSaturation: 26
- SplitToningShadowHue: 246
- SplitToningShadowSaturation: 89
- Temperature: 4023
- Tint: -99
- ToneCurve: 0, 0, 32, 22, 64, 56, 128, 128, 192, 196, 255, 255
- ToneCurveName: Medium Contrast
- Version: 6.3
- Vibrance: 0
- VignetteAmount: 0
- WhiteBalance: Custom
- XMP-exif
- DateTimeDigitized: 2011:04:24 16:50:20+04:00
- DateTimeOriginal: 2011:04:24 16:50:20+04:00
- ExifImageHeight: 389
- ExifImageWidth: 819
- ExposureProgram: Unknown (0)
- FlashFired: False
- FlashFunction: False
- FlashMode: Off
- FlashRedEyeMode: False
- FlashReturn: No return detection
- XMP-tiff
- ImageHeight: 389
- ImageWidth: 819
- XMP-xmp
- CreateDate: 2011:04:24 16:50:20+04:00
- ModifyDate: 2011:04:24 21:15:28+04:00
- Просмотров: 265
- Рейтинг: голосов еще нет
- Отзывов: 0