IMGP5966-10.jpg |
![](img/title-line.gif) |
![](img/title-shadow.gif) | |
IMGP5966-10.jpg
- Раздел: Город
- Дата съёмки: 24.04.2011 16:50
- Дата загрузки фото: 24.04.2011 21:43
- Оригинальная фотография: 819 x 523 (315 Кб)
- Технические характеристики:
- Фотоаппарат: Pentax K-5
- Выдержка: 1/320
- Гиперфокальное расстояние: inf m
- Диафрагма: 8,0
- Светочувствительность: 80
- Фокусное расстояние: 50,0 mm (35 mm equivalent: 50,0 mm)
- Экспокоррекция: -0,3
- Полный EXIF
- Adobe
- ColorTransform: YCbCr
- Composite
- Aperture: 8,0
- CircleOfConfusion: 0,020 mm
- FOV: 39,0 deg
- FocalLength35efl: 50,0 mm (35 mm equivalent: 50,0 mm)
- HyperfocalDistance: inf m
- ScaleFactor35efl: 1,5
- ShutterSpeed: 1/320
- ExifIFD
- ApertureValue: 8,0
- Contrast: High
- CreateDate: 2011:04:24 16:50:20
- CustomRendered: Normal
- DateTimeOriginal: 2011:04:24 16:50:20
- ExposureCompensation: -0,3
- ExposureMode: Manual
- ExposureProgram: Not Defined
- ExposureTime: 1/320
- FNumber: 8,0
- Flash: Off, Did not fire
- FocalLength: 50,0 mm
- FocalLengthIn35mmFormat: 75 mm
- ISO: 80
- LensInfo: 28-105mm f/3.2-4.5
- LensModel: smc PENTAX-FA 28-105mm F3.2-4.5 AL[IF]
- MeteringMode: Multi-segment
- Saturation: Normal
- SceneCaptureType: Standard
- SensingMethod: One-chip color area
- SensitivityType: Unknown
- Sharpness: Hard
- ShutterSpeedValue: 1/320
- SubjectDistanceRange: Distant
- WhiteBalance: Auto
- ICC-header
- ICC-meas
- ICC-view
- IFD0
- Make: PENTAX
- Model: PENTAX K-5
- ModifyDate: 2011:04:24 21:15:54
- Software: K-5 Ver 1.03
- IFD1
- System
- XMP-aux
- Lens: smc PENTAX-FA 28-105mm F3.2-4.5 AL[IF]
- LensID: 4 38
- XMP-crs
- AlreadyApplied: True
- BlueHue: 0
- BlueSaturation: 0
- Brightness: +12
- CameraProfile: Embedded
- ChromaticAberrationB: 0
- ChromaticAberrationR: 0
- Clarity: +2
- ColorNoiseReduction: 0
- Contrast: +8
- ConvertToGrayscale: False
- CropAngle: 0.580303
- CropBottom: 0.958927
- CropConstrainToWarp: 0
- CropHeight: 523
- CropLeft: 0.018908
- CropRight: 0.991399
- CropTop: 0.000195
- CropUnit: pixels
- CropWidth: 819
- Defringe: 0
- Exposure: +1.61
- FillLight: 10
- GrainAmount: 0
- GreenHue: 0
- GreenSaturation: 0
- HasCrop: True
- HasSettings: True
- HighlightRecovery: 24
- HueAdjustmentAqua: +6
- HueAdjustmentBlue: +11
- HueAdjustmentGreen: +6
- HueAdjustmentMagenta: 0
- HueAdjustmentOrange: -8
- HueAdjustmentPurple: +8
- HueAdjustmentRed: -6
- HueAdjustmentYellow: -6
- LensManualDistortionAmount: 0
- LensProfileEnable: 0
- LensProfileSetup: LensDefaults
- LuminanceAdjustmentAqua: 0
- LuminanceAdjustmentBlue: 0
- LuminanceAdjustmentGreen: 0
- LuminanceAdjustmentMagenta: 0
- LuminanceAdjustmentOrange: 0
- LuminanceAdjustmentPurple: 0
- LuminanceAdjustmentRed: 0
- LuminanceAdjustmentYellow: 0
- LuminanceSmoothing: 0
- ParametricDarks: -29
- ParametricHighlightSplit: 75
- ParametricHighlights: 0
- ParametricLights: 0
- ParametricMidtoneSplit: 50
- ParametricShadowSplit: 25
- ParametricShadows: -74
- PerspectiveHorizontal: 0
- PerspectiveRotate: 0.0
- PerspectiveScale: 100
- PerspectiveVertical: +1
- PostCropVignetteAmount: 0
- ProcessVersion: 5.7
- RedHue: 0
- RedSaturation: 0
- Saturation: 0
- SaturationAdjustmentAqua: 0
- SaturationAdjustmentBlue: 0
- SaturationAdjustmentGreen: 0
- SaturationAdjustmentMagenta: 0
- SaturationAdjustmentOrange: 0
- SaturationAdjustmentPurple: 0
- SaturationAdjustmentRed: 0
- SaturationAdjustmentYellow: 0
- ShadowTint: 0
- Shadows: 8
- SharpenDetail: 25
- SharpenEdgeMasking: 0
- SharpenRadius: +1.0
- Sharpness: 0
- SplitToningBalance: +48
- SplitToningHighlightHue: 8
- SplitToningHighlightSaturation: 0
- SplitToningShadowHue: 30
- SplitToningShadowSaturation: 22
- Temperature: 4800
- Tint: -7
- ToneCurve: 0, 0, 255, 255
- ToneCurveName: Linear
- Version: 6.3
- Vibrance: +29
- VignetteAmount: -100
- VignetteMidpoint: 33
- WhiteBalance: As Shot
- XMP-exif
- DateTimeDigitized: 2011:04:24 16:50:20+04:00
- DateTimeOriginal: 2011:04:24 16:50:20+04:00
- ExifImageHeight: 523
- ExifImageWidth: 819
- ExposureProgram: Unknown (0)
- FlashFired: False
- FlashFunction: False
- FlashMode: Off
- FlashRedEyeMode: False
- FlashReturn: No return detection
- XMP-tiff
- ImageHeight: 523
- ImageWidth: 819
- XMP-xmp
- CreateDate: 2011:04:24 16:50:20+04:00
- ModifyDate: 2011:04:24 21:15:54+04:00
- Просмотров: 323
- Рейтинг: голосов еще нет
- Отзывов: 0
Получить код для блога
Вставка фотографии в текущем разрешении |
Вставка миниатюры |
HTML (для вставки в блог):
BBCode (для вставки в форум):
Ссылка на фото:
Ссылка на миниатюру:
- Послать ссылку другу
Комментарии к фотографии |