- Раздел: Другое, разное
- Дата съёмки: 25.04.2011 14:01
- Дата загрузки фото: 07.05.2011 15:05
- Оригинальная фотография: 2359 x 3541 (9,1 Мб)
- Технические характеристики:
- Фотоаппарат: Samsung WB2000
- Выдержка: 1/750
- Гиперфокальное расстояние: inf m
- Диафрагма: 5,7
- Светочувствительность: 80
- Фокусное расстояние: 14,0 mm (35 mm equivalent: 70,0 mm)
- Полный EXIF
- Composite
- Aperture: 5,7
- CircleOfConfusion: 0,005 mm
- FOV: 28,0 deg
- FocalLength35efl: 14,0 mm (35 mm equivalent: 70,0 mm)
- HyperfocalDistance: inf m
- ScaleFactor35efl: 5,7
- ShutterSpeed: 1/750
- ExifIFD
- ApertureValue: 5,7
- Contrast: Normal
- CreateDate: 2011:04:25 14:01:31
- DateTimeOriginal: 2011:04:25 14:01:31
- DigitalZoomRatio: 1
- ExifImageHeight: 3541
- ExifImageWidth: 2359
- ExposureCompensation: 0
- ExposureMode: Unknown (3)
- ExposureProgram: Aperture-priority AE
- ExposureTime: 1/750
- FNumber: 5,7
- Flash: No Flash
- FocalLength: 14,3 mm
- FocalLengthIn35mmFormat: 80 mm
- ISO: 80
- LightSource: Unknown
- MeteringMode: Multi-segment
- Saturation: Normal
- SceneCaptureType: Standard
- Sharpness: Normal
- ShutterSpeedValue: 1/750
- WhiteBalance: Auto
- ICC-header
- ICC-meas
- ICC-view
- IFD0
- Make: SAMSUNG
- Model: WB2000
- ModifyDate: 2011:05:07 00:51:20
- Orientation: Horizontal (normal)
- Software: Программа цифровой обработки изображений компании ACD Systems
- IFD1
- IPTC
- DateCreated: 2011:04:25
- System
- XMP-aux
- Firmware: FM1_008261
- Lens: Schneider KREUZNACH 5x VARIOPLAN 4.3-21.5mm 1:2.4-5.8 IS
- LensInfo: 4.3-21.5mm f/2.4-5.8
- SerialNumber: DY049P000000
- XMP-crs
- AlreadyApplied: True
- BlueHue: +10
- BlueSaturation: -10
- Brightness: +50
- ChromaticAberrationB: 0
- ChromaticAberrationR: 0
- Clarity: +10
- ColorNoiseReduction: 25
- ColorNoiseReductionDetail: 50
- Contrast: +34
- ConvertToGrayscale: False
- Defringe: 0
- Exposure: -0.14
- FillLight: 10
- GrainAmount: 0
- GreenHue: -10
- GreenSaturation: +10
- HasCrop: False
- HasSettings: True
- HighlightRecovery: 3
- HueAdjustmentAqua: 0
- HueAdjustmentBlue: 0
- HueAdjustmentGreen: 0
- HueAdjustmentMagenta: 0
- HueAdjustmentOrange: 0
- HueAdjustmentPurple: 0
- HueAdjustmentRed: 0
- HueAdjustmentYellow: 0
- LensManualDistortionAmount: 0
- LensProfileEnable: 0
- LensProfileSetup: LensDefaults
- LuminanceAdjustmentAqua: 0
- LuminanceAdjustmentBlue: 0
- LuminanceAdjustmentGreen: 0
- LuminanceAdjustmentMagenta: 0
- LuminanceAdjustmentOrange: 0
- LuminanceAdjustmentPurple: 0
- LuminanceAdjustmentRed: 0
- LuminanceAdjustmentYellow: 0
- LuminanceNoiseReductionContrast: 0
- LuminanceNoiseReductionDetail: 100
- LuminanceSmoothing: 10
- ParametricDarks: 0
- ParametricHighlightSplit: 75
- ParametricHighlights: 0
- ParametricLights: 0
- ParametricMidtoneSplit: 50
- ParametricShadowSplit: 25
- ParametricShadows: 0
- PerspectiveHorizontal: 0
- PerspectiveRotate: 0.0
- PerspectiveScale: 100
- PerspectiveVertical: 0
- PostCropVignetteAmount: 0
- ProcessVersion: 5.7
- RedHue: 0
- RedSaturation: 0
- Saturation: +6
- SaturationAdjustmentAqua: 0
- SaturationAdjustmentBlue: 0
- SaturationAdjustmentGreen: 0
- SaturationAdjustmentMagenta: 0
- SaturationAdjustmentOrange: 0
- SaturationAdjustmentPurple: 0
- SaturationAdjustmentRed: 0
- SaturationAdjustmentYellow: 0
- ShadowTint: 0
- Shadows: 0
- SharpenDetail: 10
- SharpenEdgeMasking: 0
- SharpenRadius: +0.8
- Sharpness: 60
- SplitToningBalance: 0
- SplitToningHighlightHue: 0
- SplitToningHighlightSaturation: 0
- SplitToningShadowHue: 0
- SplitToningShadowSaturation: 0
- Temperature: 4069
- Tint: +30
- ToneCurve: 0, 0, 32, 22, 64, 56, 128, 128, 192, 196, 255, 255
- ToneCurveName: Medium Contrast
- Version: 6.4
- Vibrance: +10
- VignetteAmount: 0
- WhiteBalance: Custom
- XMP-exif
- DateTimeDigitized: 2011:04:25 14:01:31+2:00
- DateTimeOriginal: 2011:04:25 14:01:31+2:00
- FlashFired: False
- FlashFunction: False
- FlashMode: Unknown
- FlashRedEyeMode: False
- FlashReturn: No return detection
- FocalLengthIn35mmFormat: 80
- XMP-tiff
- XMP-x
- XMP-xmp
- CreateDate: 2011:04:25 14:01:31+03:00
- ModifyDate: 2011:04:29 08:01:18.0+2:00
- Просмотров: 444
- Рейтинг: голосов еще нет
- Отзывов: 0