- Раздел: Животные
- Дата съёмки: 24.05.2011 14:53
- Дата загрузки фото: 24.05.2011 16:52
- Оригинальная фотография: 3648 x 2437 (4,6 Мб)
- Технические характеристики:
- Фотоаппарат: Panasonic DMC-FZ38
- Выдержка: 1/40
- Диафрагма: 3,4
- Светочувствительность: 80
- Фокусное расстояние: 11,0 mm
- Полный EXIF
- Adobe
- ColorTransform: YCbCr
- Composite
- Aperture: 3,4
- FocalLength35efl: 11,0 mm
- ShutterSpeed: 1/40
- ExifIFD
- ApertureValue: 3,4
- ColorSpace: sRGB
- CreateDate: 2011:05:24 14:53:04
- DateTimeOriginal: 2011:05:24 14:53:04
- ExifImageHeight: 2437
- ExifImageWidth: 3648
- ExposureCompensation: 0
- ExposureProgram: Aperture-priority AE
- ExposureTime: 1/40
- FNumber: 3,4
- Flash: Off, Did not fire
- FocalLength: 11,1 mm
- ISO: 80
- MaxApertureValue: 2,8
- MeteringMode: Spot
- ShutterSpeedValue: 1/40
- ICC-header
- ICC-meas
- ICC-view
- IFD0
- Make: Panasonic
- Model: DMC-FZ38
- ModifyDate: 2011:05:24 18:47:00
- Orientation: Horizontal (normal)
- IFD1
- IPTC
- DateCreated: 2011:05:24
- System
- XMP-crs
- AlreadyApplied: True
- BlueHue: 0
- BlueSaturation: 0
- Brightness: +50
- CameraProfile: Matrix
- ChromaticAberrationB: 0
- ChromaticAberrationR: 0
- Clarity: 0
- ColorNoiseReduction: 25
- ColorNoiseReductionDetail: 50
- Contrast: +25
- ConvertToGrayscale: False
- Defringe: 0
- Exposure: 0.00
- FillLight: 5
- GrainAmount: 0
- GreenHue: 0
- GreenSaturation: 0
- HasCrop: False
- HasSettings: True
- HighlightRecovery: 25
- HueAdjustmentAqua: 0
- HueAdjustmentBlue: 0
- HueAdjustmentGreen: 0
- HueAdjustmentMagenta: 0
- HueAdjustmentOrange: 0
- HueAdjustmentPurple: 0
- HueAdjustmentRed: 0
- HueAdjustmentYellow: 0
- LuminanceAdjustmentAqua: 0
- LuminanceAdjustmentBlue: 0
- LuminanceAdjustmentGreen: 0
- LuminanceAdjustmentMagenta: 0
- LuminanceAdjustmentOrange: 0
- LuminanceAdjustmentPurple: 0
- LuminanceAdjustmentRed: 0
- LuminanceAdjustmentYellow: 0
- LuminanceNoiseReductionContrast: 0
- LuminanceNoiseReductionDetail: 100
- LuminanceSmoothing: 30
- ParametricDarks: 0
- ParametricHighlightSplit: 75
- ParametricHighlights: 0
- ParametricLights: 0
- ParametricMidtoneSplit: 50
- ParametricShadowSplit: 25
- ParametricShadows: 0
- PostCropVignetteAmount: 0
- ProcessVersion: 5.7
- RawFileName: P1030055.RW2
- RedHue: 0
- RedSaturation: 0
- Saturation: 0
- SaturationAdjustmentAqua: 0
- SaturationAdjustmentBlue: 0
- SaturationAdjustmentGreen: 0
- SaturationAdjustmentMagenta: 0
- SaturationAdjustmentOrange: 0
- SaturationAdjustmentPurple: 0
- SaturationAdjustmentRed: 0
- SaturationAdjustmentYellow: 0
- ShadowTint: 0
- Shadows: 5
- SharpenDetail: 40
- SharpenEdgeMasking: 0
- SharpenRadius: +1.0
- Sharpness: 45
- SplitToningBalance: 0
- SplitToningHighlightHue: 0
- SplitToningHighlightSaturation: 0
- SplitToningShadowHue: 0
- SplitToningShadowSaturation: 0
- Temperature: 5300
- Tint: +11
- ToneCurve: 0, 0, 32, 22, 64, 56, 128, 128, 192, 196, 255, 255
- ToneCurveName: Medium Contrast
- Version: 6.0
- Vibrance: +40
- VignetteAmount: +25
- VignetteMidpoint: 50
- WhiteBalance: As Shot
- XMP-dc
- XMP-xmp
- CreateDate: 2011:05:24 14:53:04+06:00
- ModifyDate: 2011:05:24 18:47+06:00
- Rating: 0
- XMP-xmpMM