- Раздел: Другое, разное
- Дата съёмки: 18.12.2010 16:24
- Дата загрузки фото: 04.06.2011 00:24
- Оригинальная фотография: 1000 x 667 (836 Кб)
- Технические характеристики:
- Фотоаппарат: Canon EOS 5D Mark II
- Выдержка: 1/125
- Гиперфокальное расстояние: inf m
- Диафрагма: 8,0
- Светочувствительность: 200
- Фокусное расстояние: 50,0 mm (35 mm equivalent: 250,0 mm)
- Полный EXIF
- Adobe
- ColorTransform: YCbCr
- Composite
- Aperture: 8,0
- CircleOfConfusion: 0,005 mm
- FOV: 8,0 deg
- FocalLength35efl: 50,0 mm (35 mm equivalent: 250,0 mm)
- HyperfocalDistance: inf m
- ScaleFactor35efl: 5,5
- ShutterSpeed: 1/125
- ExifIFD
- ApertureValue: 8,0
- CreateDate: 2010:12:18 16:24:07
- CustomRendered: Normal
- DateTimeOriginal: 2010:12:18 16:24:07
- ExposureCompensation: 0
- ExposureMode: Auto
- ExposureProgram: Aperture-priority AE
- ExposureTime: 1/125
- FNumber: 8,0
- Flash: Off, Did not fire
- FocalLength: 50,0 mm
- ISO: 200
- LensInfo: 50mm f/?
- LensModel: EF50mm f/1.4 USM
- MaxApertureValue: 1,4
- MeteringMode: Multi-segment
- SceneCaptureType: Standard
- SerialNumber: 530318129
- ShutterSpeedValue: 1/125
- WhiteBalance: Auto
- ICC-header
- ICC-meas
- ICC-view
- IFD0
- Make: Canon
- Model: Canon EOS 5D Mark II
- ModifyDate: 2011:06:03 22:14:54
- IFD1
- IPTC
- DateCreated: 2010:12:18
- System
- XMP-aux
- Firmware: 2.0.7
- FlashCompensation: 0
- ImageNumber: 0
- Lens: EF50mm f/1.4 USM
- LensID: 198
- XMP-crs
- AlreadyApplied: True
- BlueHue: 0
- BlueSaturation: 0
- Brightness: +50
- ChromaticAberrationB: 0
- ChromaticAberrationR: 0
- Clarity: 0
- ColorNoiseReduction: 25
- ColorNoiseReductionDetail: 50
- Contrast: +14
- ConvertToGrayscale: False
- CropAngle: 0.359832
- CropBottom: 1
- CropConstrainToWarp: 0
- CropHeight: 667
- CropLeft: 0.00674
- CropRight: 0.99326
- CropTop: 0
- CropUnit: pixels
- CropWidth: 1000
- Defringe: 0
- Exposure: 0.00
- FillLight: 0
- GrainAmount: 0
- GreenHue: 0
- GreenSaturation: 0
- HasCrop: True
- HasSettings: True
- HighlightRecovery: 0
- HueAdjustmentAqua: 0
- HueAdjustmentBlue: 0
- HueAdjustmentGreen: 0
- HueAdjustmentMagenta: 0
- HueAdjustmentOrange: 0
- HueAdjustmentPurple: 0
- HueAdjustmentRed: 0
- HueAdjustmentYellow: 0
- LensManualDistortionAmount: 0
- LensProfileEnable: 0
- LensProfileSetup: LensDefaults
- LuminanceAdjustmentAqua: 0
- LuminanceAdjustmentBlue: 0
- LuminanceAdjustmentGreen: 0
- LuminanceAdjustmentMagenta: 0
- LuminanceAdjustmentOrange: 0
- LuminanceAdjustmentPurple: 0
- LuminanceAdjustmentRed: 0
- LuminanceAdjustmentYellow: 0
- LuminanceSmoothing: 0
- PaintCorrectionActive: true
- PaintCorrectionAmount: 1.000000
- PaintCorrectionBrightness: -0.146000
- PaintCorrectionClarity: 0.000000
- PaintCorrectionContrast: -0.683000
- PaintCorrectionExposure: -0.200000
- PaintCorrectionHue: 0.000000
- PaintCorrectionMaskCenterWeight: 0.236112
- PaintCorrectionMaskFlow: 1.000000
- PaintCorrectionMaskRadius: 0.083261
- PaintCorrectionMaskValue: 1.000000
- PaintCorrectionMaskWhat: Mask/Paint
- PaintCorrectionSaturation: 0.000000
- PaintCorrectionSharpness: 0.000000
- PaintCorrectionWhat: Correction
- ParametricDarks: +20
- ParametricHighlightSplit: 75
- ParametricHighlights: 0
- ParametricLights: +9
- ParametricMidtoneSplit: 50
- ParametricShadowSplit: 25
- ParametricShadows: -12
- PerspectiveHorizontal: 0
- PerspectiveRotate: 0.0
- PerspectiveScale: 100
- PerspectiveVertical: 0
- PostCropVignetteAmount: 0
- ProcessVersion: 5.7
- RedHue: 0
- RedSaturation: 0
- Saturation: 0
- SaturationAdjustmentAqua: 0
- SaturationAdjustmentBlue: 0
- SaturationAdjustmentGreen: 0
- SaturationAdjustmentMagenta: 0
- SaturationAdjustmentOrange: 0
- SaturationAdjustmentPurple: 0
- SaturationAdjustmentRed: 0
- SaturationAdjustmentYellow: 0
- ShadowTint: 0
- Shadows: 7
- SharpenDetail: 25
- SharpenEdgeMasking: 0
- SharpenRadius: +1.0
- Sharpness: 25
- SplitToningBalance: 0
- SplitToningHighlightHue: 0
- SplitToningHighlightSaturation: 0
- SplitToningShadowHue: 0
- SplitToningShadowSaturation: 0
- Temperature: 5500
- Tint: +7
- ToneCurve: 0, 0, 32, 22, 64, 56, 128, 128, 192, 196, 255, 255
- ToneCurveName: Medium Contrast
- Version: 6.4.1
- Vibrance: +26
- VignetteAmount: 0
- WhiteBalance: As Shot
- XMP-xmp
- CreateDate: 2010:12:18 16:24:07.49+01:00
- ModifyDate: 2011:06:03 22:14:54+02:00