- Раздел: Активный отдых, туризм
- Дата съёмки: 16.06.2011 06:14
- Дата загрузки фото: 20.06.2011 22:29
- Оригинальная фотография: 450 x 300 ( 96 Кб)
- Технические характеристики:
- Фотоаппарат: Canon EOS 5D Mark II
- Выдержка: 1/1000
- Гиперфокальное расстояние: inf m
- Диафрагма: 10,0
- Светочувствительность: 640
- Фокусное расстояние: 75,0 mm (35 mm equivalent: 900,0 mm)
- Полный EXIF
- Adobe
- ColorTransform: YCbCr
- Composite
- Aperture: 10,0
- CircleOfConfusion: 0,002 mm
- DOF: inf (0,00 m - inf)
- FOV: 2,0 deg
- FocalLength35efl: 75,0 mm (35 mm equivalent: 900,0 mm)
- HyperfocalDistance: inf m
- ScaleFactor35efl: 12,2
- ShutterSpeed: 1/1000
- ExifIFD
- ApertureValue: 10,0
- ColorSpace: sRGB
- CreateDate: 2011:06:16 06:14:51
- CustomRendered: Normal
- DateTimeOriginal: 2011:06:16 06:14:51
- ExifImageHeight: 300
- ExifImageWidth: 450
- ExposureCompensation: 0
- ExposureMode: Auto
- ExposureProgram: Shutter speed priority AE
- ExposureTime: 1/1000
- FNumber: 10,0
- Flash: Off, Did not fire
- FocalLength: 75,0 mm
- ISO: 640
- MaxApertureValue: 4,0
- MeteringMode: Center-weighted average
- SceneCaptureType: Standard
- ShutterSpeedValue: 1/1000
- SubjectDistance: 11,9 m
- WhiteBalance: Auto
- ICC-header
- ICC-meas
- ICC-view
- IFD0
- Artist: Photographer: Evgeny Ostapenko
- Copyright: Copyright: Evgeny Ostapenko
- Make: Canon
- Model: Canon EOS 5D Mark II
- ModifyDate: 2011:06:19 23:39:36
- Orientation: Horizontal (normal)
- IFD1
- IPTC
- By-line: Photographer: Evgeny Ostapenko
- CopyrightNotice: Copyright: Evgeny Ostapenko
- System
- XMP-aux
- Firmware: 2.0.7
- FlashCompensation: 0
- ImageNumber: 0
- Lens: EF24-105mm f/4L IS USM
- LensID: 237
- LensInfo: 24-105mm f/?
- OwnerName: Evgeny Ostapenko
- SerialNumber: 1210806178
- XMP-crs
- AlreadyApplied: True
- BlueHue: 0
- BlueSaturation: 0
- Brightness: +53
- ChromaticAberrationB: 0
- ChromaticAberrationR: 0
- Clarity: 0
- ColorNoiseReduction: 25
- Contrast: +39
- ConvertToGrayscale: False
- Defringe: 0
- Exposure: 0.00
- FillLight: 0
- GrainAmount: 0
- GreenHue: 0
- GreenSaturation: 0
- HasCrop: False
- HasSettings: True
- HighlightRecovery: 10
- HueAdjustmentAqua: 0
- HueAdjustmentBlue: 0
- HueAdjustmentGreen: 0
- HueAdjustmentMagenta: 0
- HueAdjustmentOrange: 0
- HueAdjustmentPurple: 0
- HueAdjustmentRed: 0
- HueAdjustmentYellow: 0
- LuminanceAdjustmentAqua: 0
- LuminanceAdjustmentBlue: 0
- LuminanceAdjustmentGreen: 0
- LuminanceAdjustmentMagenta: 0
- LuminanceAdjustmentOrange: 0
- LuminanceAdjustmentPurple: 0
- LuminanceAdjustmentRed: 0
- LuminanceAdjustmentYellow: 0
- LuminanceSmoothing: 0
- ParametricDarks: 0
- ParametricHighlightSplit: 75
- ParametricHighlights: 0
- ParametricLights: 0
- ParametricMidtoneSplit: 50
- ParametricShadowSplit: 25
- ParametricShadows: 0
- PostCropVignetteAmount: 0
- ProcessVersion: 5.0
- RawFileName: IMG_5934.CR2
- RedHue: 0
- RedSaturation: 0
- Saturation: 0
- SaturationAdjustmentAqua: 0
- SaturationAdjustmentBlue: 0
- SaturationAdjustmentGreen: 0
- SaturationAdjustmentMagenta: 0
- SaturationAdjustmentOrange: 0
- SaturationAdjustmentPurple: 0
- SaturationAdjustmentRed: 0
- SaturationAdjustmentYellow: 0
- ShadowTint: 0
- Shadows: 7
- SharpenDetail: 25
- SharpenEdgeMasking: 0
- SharpenRadius: +1.0
- Sharpness: 25
- SplitToningBalance: 0
- SplitToningHighlightHue: 0
- SplitToningHighlightSaturation: 0
- SplitToningShadowHue: 0
- SplitToningShadowSaturation: 0
- Temperature: 4850
- Tint: -1
- ToneCurve: 0, 0, 32, 22, 64, 56, 128, 128, 192, 196, 255, 255
- ToneCurveName: Medium Contrast
- Version: 5.7
- Vibrance: 0
- VignetteAmount: 0
- WhiteBalance: As Shot
- XMP-dc
- Creator: Photographer: Evgeny Ostapenko
- Format: image/jpeg
- Rights: Copyright: Evgeny Ostapenko
- XMP-exif
- DateTimeDigitized: 2011:06:16 06:14:51.18+05:00
- DateTimeOriginal: 2011:06:16 06:14:51.18+05:00
- FlashFired: False
- FlashFunction: False
- FlashMode: Off
- FlashRedEyeMode: False
- FlashReturn: No return detection
- XMP-tiff
- XMP-xmp
- CreateDate: 2011:06:16 06:14:51.18+05:00
- ModifyDate: 2011:06:19 23:39:36+05:00
- Rating: 0
- XMP-xmpMM
- Просмотров: 655
- Рейтинг: голосов еще нет
- Отзывов: 0