- Раздел: Животные
- Дата съёмки: 27.06.2011 18:57
- Дата загрузки фото: 28.06.2011 00:03
- Оригинальная фотография: 1500 x 984 (265 Кб)
- Технические характеристики:
- Фотоаппарат: Canon EOS 7D
- Выдержка: 1/1600
- Гиперфокальное расстояние: inf m
- Диафрагма: 5,6
- Светочувствительность: 640
- Фокусное расстояние: 420,0 mm (35 mm equivalent: 2100,0 mm)
- Экспокоррекция: +1/3
- Полный EXIF
- Adobe
- ColorTransform: YCbCr
- Composite
- Aperture: 5,6
- CircleOfConfusion: 0,006 mm
- DOF: inf (0,00 m - inf)
- FOV: 0,0 deg
- FocalLength35efl: 420,0 mm (35 mm equivalent: 2100,0 mm)
- HyperfocalDistance: inf m
- ScaleFactor35efl: 5,5
- ShutterSpeed: 1/1600
- ExifIFD
- ApertureValue: 5,6
- ColorSpace: sRGB
- CreateDate: 2011:06:27 18:57:38
- CustomRendered: Normal
- DateTimeOriginal: 2011:06:27 18:57:38
- ExifImageHeight: 984
- ExifImageWidth: 1500
- ExposureCompensation: +1/3
- ExposureMode: Auto
- ExposureProgram: Shutter speed priority AE
- ExposureTime: 1/1600
- FNumber: 5,6
- Flash: Off, Did not fire
- FocalLength: 420,0 mm
- ISO: 640
- LensInfo: 420mm f/?
- LensModel: EF300mm f/4L IS USM +1.4x
- MaxApertureValue: 5,7
- MeteringMode: Spot
- OwnerName: Michael Ortenberg
- SceneCaptureType: Standard
- SerialNumber: 1781018879
- ShutterSpeedValue: 1/1600
- SubjectDistance: 4294967295 m
- WhiteBalance: Auto
- ICC-header
- ICC-meas
- ICC-view
- IFD0
- Artist: Michael Ortenberg
- BitsPerSample: 16 16 16
- Copyright: Michael Ortenberg
- ImageHeight: 2979
- ImageWidth: 4542
- Make: Canon
- Model: Canon EOS 7D
- ModifyDate: 2011:06:27 22:42:06
- Orientation: Horizontal (normal)
- PhotometricInterpretation: RGB
- PlanarConfiguration: Chunky
- SamplesPerPixel: 3
- IFD1
- IPTC
- By-line: Michael Ortenberg
- CopyrightNotice: Michael Ortenberg
- DateCreated: 2011:06:27
- System
- XMP-aux
- ApproximateFocusDistance: 4294967295
- Firmware: 1.2.5
- FlashCompensation: 0
- ImageNumber: 0
- Lens: EF300mm f/4L IS USM +1.4x
- LensID: 177
- XMP-crs
- AlreadyApplied: True
- BlueHue: 0
- BlueSaturation: 0
- Brightness: +50
- ChromaticAberrationB: 0
- ChromaticAberrationR: 0
- Clarity: +24
- ColorNoiseReduction: 25
- ColorNoiseReductionDetail: 50
- Contrast: +67
- ConvertToGrayscale: False
- CropAngle: 0
- CropBottom: 0.862069
- CropConstrainToWarp: 0
- CropHeight: 2979
- CropLeft: 0
- CropRight: 0.876216
- CropTop: 0
- CropUnit: pixels
- CropWidth: 4542
- Defringe: 0
- Exposure: -0.41
- FillLight: 15
- GrainAmount: 0
- GreenHue: 0
- GreenSaturation: 0
- HasCrop: True
- HasSettings: True
- HighlightRecovery: 3
- HueAdjustmentAqua: 0
- HueAdjustmentBlue: 0
- HueAdjustmentGreen: 0
- HueAdjustmentMagenta: 0
- HueAdjustmentOrange: 0
- HueAdjustmentPurple: 0
- HueAdjustmentRed: 0
- HueAdjustmentYellow: 0
- LensManualDistortionAmount: 0
- LensProfileChromaticAberrationScale: 100
- LensProfileDistortionScale: 100
- LensProfileEnable: 1
- LensProfileFilename: Canon EOS 5D Mark II (Canon EF 300mm f4L IS USM) - RAW.lcp
- LensProfileSetup: Custom
- LensProfileVignettingScale: 100
- LuminanceAdjustmentAqua: 0
- LuminanceAdjustmentBlue: 0
- LuminanceAdjustmentGreen: 0
- LuminanceAdjustmentMagenta: 0
- LuminanceAdjustmentOrange: 0
- LuminanceAdjustmentPurple: 0
- LuminanceAdjustmentRed: 0
- LuminanceAdjustmentYellow: 0
- LuminanceNoiseReductionContrast: 0
- LuminanceNoiseReductionDetail: 50
- LuminanceSmoothing: 23
- ParametricDarks: +12
- ParametricHighlightSplit: 75
- ParametricHighlights: 0
- ParametricLights: -35
- ParametricMidtoneSplit: 50
- ParametricShadowSplit: 25
- ParametricShadows: -68
- PerspectiveHorizontal: 0
- PerspectiveRotate: 0.0
- PerspectiveScale: 100
- PerspectiveVertical: 0
- PostCropVignetteAmount: 0
- ProcessVersion: 5.7
- RedHue: 0
- RedSaturation: 0
- Saturation: +6
- SaturationAdjustmentAqua: 0
- SaturationAdjustmentBlue: 0
- SaturationAdjustmentGreen: 0
- SaturationAdjustmentMagenta: 0
- SaturationAdjustmentOrange: 0
- SaturationAdjustmentPurple: 0
- SaturationAdjustmentRed: 0
- SaturationAdjustmentYellow: 0
- ShadowTint: 0
- Shadows: 5
- SharpenDetail: 28
- SharpenEdgeMasking: 0
- SharpenRadius: +1.0
- Sharpness: 28
- SplitToningBalance: 0
- SplitToningHighlightHue: 0
- SplitToningHighlightSaturation: 0
- SplitToningShadowHue: 0
- SplitToningShadowSaturation: 0
- Temperature: 5350
- Tint: +23
- ToneCurve: 0, 0, 32, 22, 64, 56, 128, 128, 192, 196, 255, 255
- ToneCurveName: Medium Contrast
- Version: 6.4.1
- Vibrance: +17
- VignetteAmount: 0
- WhiteBalance: As Shot
- XMP-dc
- Creator: Michael Ortenberg
- Format: image/jpeg
- Rights: Michael Ortenberg
- XMP-exif
- DateTimeDigitized: 2011:06:27 18:57:38+03:00
- DateTimeOriginal: 2011:06:27 18:57:38+03:00
- FlashFired: False
- FlashFunction: False
- FlashMode: Off
- FlashRedEyeMode: False
- FlashReturn: No return detection
- XMP-tiff
- BitsPerSample: 16, 16, 16
- XMP-xmp
- CreateDate: 2011:06:27 18:57:38.68
- ModifyDate: 2011:06:27 22:42:06+03:00
- XMP-xmpMM
- Просмотров: 200
- Рейтинг: голосов еще нет
- Отзывов: 0