- Раздел: Клубы, концерты
- Дата съёмки: 23.06.2011 18:13
- Дата загрузки фото: 28.06.2011 16:40
- Оригинальная фотография: 2082 x 1782 (503 Кб)
- Технические характеристики:
- Фотоаппарат: Canon PowerShot SX20 IS
- Выдержка: 1/1000
- Гиперфокальное расстояние: inf m
- Диафрагма: 5,0
- Светочувствительность: 200
- Фокусное расстояние: 58,0 mm (35 mm equivalent: 580,0 mm)
- Экспокоррекция: -1/3
- Полный EXIF
- Adobe
- ColorTransform: YCbCr
- Composite
- Aperture: 5,0
- CircleOfConfusion: 0,003 mm
- DOF: inf (0,00 m - inf)
- FOV: 3,0 deg
- FocalLength35efl: 58,0 mm (35 mm equivalent: 580,0 mm)
- HyperfocalDistance: inf m
- ScaleFactor35efl: 10,2
- ShutterSpeed: 1/1000
- ExifIFD
- ApertureValue: 5,0
- ColorSpace: sRGB
- CreateDate: 2011:06:23 18:13:43
- CustomRendered: Normal
- DateTimeOriginal: 2011:06:23 18:13:43
- DigitalZoomRatio: 1
- ExifImageHeight: 1782
- ExifImageWidth: 2082
- ExposureCompensation: -1/3
- ExposureMode: Manual
- ExposureTime: 1/1000
- FNumber: 5,0
- Flash: Off, Did not fire
- FocalLength: 58,1 mm
- ISO: 200
- MaxApertureValue: 5,0
- MeteringMode: Multi-segment
- SceneCaptureType: Standard
- SensingMethod: One-chip color area
- ShutterSpeedValue: 1/1000
- SubjectDistance: 32,5 m
- WhiteBalance: Auto
- ICC-header
- ICC-meas
- ICC-view
- IFD0
- Make: Canon
- Model: Canon PowerShot SX20 IS
- ModifyDate: 2011:06:26 12:34:54
- Orientation: Horizontal (normal)
- IFD1
- IPTC
- DateCreated: 2011:06:23
- System
- XMP-aux
- Firmware: 1.02
- FlashCompensation: 0
- Lens: 5.0-100.0 mm
- LensID: 65535
- LensInfo: 5-100mm f/?
- XMP-crs
- AlreadyApplied: True
- BlueHue: 0
- BlueSaturation: 0
- Brightness: 0
- CameraProfile: Embedded
- ChromaticAberrationB: 0
- ChromaticAberrationR: 0
- Clarity: +28
- ColorNoiseReduction: 0
- Contrast: 0
- ConvertToGrayscale: False
- Defringe: 0
- Exposure: 0.00
- FillLight: 0
- GrainAmount: 0
- GreenHue: 0
- GreenSaturation: 0
- HasCrop: False
- HasSettings: True
- HighlightRecovery: 0
- HueAdjustmentAqua: 0
- HueAdjustmentBlue: 0
- HueAdjustmentGreen: 0
- HueAdjustmentMagenta: 0
- HueAdjustmentOrange: 0
- HueAdjustmentPurple: 0
- HueAdjustmentRed: 0
- HueAdjustmentYellow: 0
- IncrementalTemperature: 0
- IncrementalTint: 0
- LuminanceAdjustmentAqua: 0
- LuminanceAdjustmentBlue: 0
- LuminanceAdjustmentGreen: 0
- LuminanceAdjustmentMagenta: 0
- LuminanceAdjustmentOrange: 0
- LuminanceAdjustmentPurple: 0
- LuminanceAdjustmentRed: 0
- LuminanceAdjustmentYellow: 0
- LuminanceSmoothing: 0
- ParametricDarks: 0
- ParametricHighlightSplit: 75
- ParametricHighlights: 0
- ParametricLights: 0
- ParametricMidtoneSplit: 50
- ParametricShadowSplit: 25
- ParametricShadows: 0
- PostCropVignetteAmount: 0
- ProcessVersion: 5.7
- RawFileName: IMG_2672.JPG
- RedHue: 0
- RedSaturation: 0
- Saturation: 0
- SaturationAdjustmentAqua: 0
- SaturationAdjustmentBlue: 0
- SaturationAdjustmentGreen: 0
- SaturationAdjustmentMagenta: 0
- SaturationAdjustmentOrange: 0
- SaturationAdjustmentPurple: 0
- SaturationAdjustmentRed: 0
- SaturationAdjustmentYellow: 0
- ShadowTint: 0
- Shadows: 0
- SharpenDetail: 25
- SharpenEdgeMasking: 0
- SharpenRadius: +1.0
- Sharpness: 0
- SplitToningBalance: 0
- SplitToningHighlightHue: 0
- SplitToningHighlightSaturation: 0
- SplitToningShadowHue: 0
- SplitToningShadowSaturation: 0
- ToneCurve: 0, 0, 255, 255
- ToneCurveName: Linear
- Version: 6.0
- Vibrance: +20
- VignetteAmount: 0
- WhiteBalance: As Shot
- XMP-dc
- XMP-xmp
- CreateDate: 2011:06:23 18:13:43+04:00
- ModifyDate: 2011:06:26 12:34:54+04:00
- Rating: 0
- XMP-xmpMM
- Просмотров: 4623
- Рейтинг: голосов еще нет
- Отзывов: 0