IMG_06491.JPG
Вытянул из RAW в фотошопе (ACR). Правда у меня глюк с цветовыми профилями, поэтому результат должен быть немного другой, но неохота переделывать.
- Раздел: Другое, разное
- Дата съёмки: 02.07.2011 17:12
- Дата загрузки фото: 03.07.2011 16:15
- Оригинальная фотография: 3648 x 2736 (3,2 Мб)
- Технические характеристики:
- Фотоаппарат: Canon PowerShot S95
- Выдержка: 1/1250
- Гиперфокальное расстояние: inf m
- Диафрагма: 5,0
- Светочувствительность: 80
- Фокусное расстояние: 6,0 mm (35 mm equivalent: 24,0 mm)
- Экспокоррекция: -2/3
- Полный EXIF
- Adobe
- ColorTransform: YCbCr
- Composite
- Aperture: 5,0
- CircleOfConfusion: 0,006 mm
- DOF: inf (0,00 m - inf)
- FOV: 73,0 deg
- FocalLength35efl: 6,0 mm (35 mm equivalent: 24,0 mm)
- HyperfocalDistance: inf m
- ScaleFactor35efl: 4,7
- ShutterSpeed: 1/1250
- ExifIFD
- ApertureValue: 5,0
- CreateDate: 2011:07:02 17:12:28
- CustomRendered: Normal
- DateTimeOriginal: 2011:07:02 17:12:28
- DigitalZoomRatio: 1
- ExposureCompensation: -2/3
- ExposureMode: Manual
- ExposureTime: 1/1250
- FNumber: 5,0
- Flash: Off, Did not fire
- FocalLength: 6,0 mm
- ISO: 80
- LensInfo: 6-22.5mm f/?
- LensModel: 6.0-22.5 mm
- MaxApertureValue: 2,0
- MeteringMode: Multi-segment
- SceneCaptureType: Standard
- SensingMethod: One-chip color area
- SensitivityType: Standard Output Sensitivity and Recommended Exposure Index
- ShutterSpeedValue: 1/1250
- SubjectDistance: 3,65 m
- WhiteBalance: Manual
- ICC-header
- IFD0
- Make: Canon
- Model: Canon PowerShot S95
- ModifyDate: 2011:07:03 16:08:21
- IFD1
- IPTC
- DateCreated: 2011:07:02
- System
- XMP-aux
- ApproximateFocusDistance: 3,65
- Firmware: 1.00
- FlashCompensation: 0
- Lens: 6.0-22.5 mm
- XMP-crs
- AlreadyApplied: True
- BlueHue: 0
- BlueSaturation: 0
- Brightness: +16
- CameraProfile: Matrix
- ChromaticAberrationB: 0
- ChromaticAberrationR: 0
- Clarity: +28
- ColorNoiseReduction: 3
- ColorNoiseReductionDetail: 20
- Contrast: +31
- ConvertToGrayscale: False
- Defringe: 0
- Exposure: -0.05
- FillLight: 26
- GrainAmount: 0
- GreenHue: 0
- GreenSaturation: 0
- HasCrop: False
- HasSettings: True
- HighlightRecovery: 30
- HueAdjustmentAqua: 0
- HueAdjustmentBlue: 0
- HueAdjustmentGreen: +8
- HueAdjustmentMagenta: 0
- HueAdjustmentOrange: 0
- HueAdjustmentPurple: 0
- HueAdjustmentRed: 0
- HueAdjustmentYellow: +26
- LensManualDistortionAmount: 0
- LensProfileEnable: 0
- LensProfileSetup: LensDefaults
- LuminanceAdjustmentAqua: +1
- LuminanceAdjustmentBlue: -9
- LuminanceAdjustmentGreen: 0
- LuminanceAdjustmentMagenta: 0
- LuminanceAdjustmentOrange: 0
- LuminanceAdjustmentPurple: 0
- LuminanceAdjustmentRed: 0
- LuminanceAdjustmentYellow: 0
- LuminanceSmoothing: 0
- ParametricDarks: +32
- ParametricHighlightSplit: 75
- ParametricHighlights: +13
- ParametricLights: -9
- ParametricMidtoneSplit: 50
- ParametricShadowSplit: 25
- ParametricShadows: +51
- PerspectiveHorizontal: 0
- PerspectiveRotate: 0.0
- PerspectiveScale: 100
- PerspectiveVertical: 0
- PostCropVignetteAmount: 0
- ProcessVersion: 5.7
- RawFileName: IMG_0649.CR2
- RedHue: 0
- RedSaturation: 0
- Saturation: +40
- SaturationAdjustmentAqua: 0
- SaturationAdjustmentBlue: 0
- SaturationAdjustmentGreen: 0
- SaturationAdjustmentMagenta: 0
- SaturationAdjustmentOrange: 0
- SaturationAdjustmentPurple: 0
- SaturationAdjustmentRed: 0
- SaturationAdjustmentYellow: 0
- ShadowTint: 0
- Shadows: 0
- SharpenDetail: 23
- SharpenEdgeMasking: 0
- SharpenRadius: +1.3
- Sharpness: 55
- SplitToningBalance: 0
- SplitToningHighlightHue: 0
- SplitToningHighlightSaturation: 0
- SplitToningShadowHue: 0
- SplitToningShadowSaturation: 0
- Temperature: 5500
- Tint: +13
- ToneCurve: 0, 0, 32, 22, 64, 56, 128, 128, 192, 196, 255, 255
- ToneCurveName: Medium Contrast
- Version: 6.4
- Vibrance: +56
- VignetteAmount: 0
- WhiteBalance: As Shot
- XMP-dc
- XMP-xmp
- ModifyDate: 2011:07:03 16:08:21+04:00
- XMP-xmpMM
- Просмотров: 947
- Рейтинг: голосов еще нет
- Отзывов: 0
Получить код для блога
Вставка фотографии в текущем разрешении |
Вставка миниатюры |
HTML (для вставки в блог):
BBCode (для вставки в форум):
Ссылка на фото:
Ссылка на миниатюру:
- Послать ссылку другу
Комментарии к фотографии |
![](img/title-line.gif) |
![](img/title-shadow.gif) | |