- Раздел: Город
- Дата съёмки: 27.04.2011 02:51
- Дата загрузки фото: 05.07.2011 17:19
- Оригинальная фотография: 1024 x 654 (270 Кб)
- Технические характеристики:
- Фотоаппарат: Canon EOS 40D
- Выдержка: 2,5
- Гиперфокальное расстояние: inf m
- Диафрагма: 8,0
- Светочувствительность: 200
- Фокусное расстояние: 154,0 mm (35 mm equivalent: 924,0 mm)
- Полный EXIF
- Adobe
- ColorTransform: YCbCr
- Composite
- Aperture: 8,0
- CircleOfConfusion: 0,005 mm
- FOV: 2,0 deg
- FocalLength35efl: 154,0 mm (35 mm equivalent: 924,0 mm)
- HyperfocalDistance: inf m
- LightValue: 4,0
- ScaleFactor35efl: 6,2
- ShutterSpeed: 2,5
- ExifIFD
- ApertureValue: 8,0
- ColorSpace: sRGB
- CreateDate: 2011:04:27 02:51:48
- CustomRendered: Normal
- DateTimeOriginal: 2011:04:27 02:51:48
- ExifImageHeight: 654
- ExifImageWidth: 1024
- ExposureCompensation: 0
- ExposureMode: Auto
- ExposureProgram: Program AE
- ExposureTime: 2,5
- FNumber: 8,0
- Flash: Off, Did not fire
- FocalLength: 154,0 mm
- ISO: 200
- MaxApertureValue: 5,4
- MeteringMode: Multi-segment
- SceneCaptureType: Standard
- ShutterSpeedValue: 2,5
- WhiteBalance: Auto
- ICC-header
- ICC-meas
- ICC-view
- IFD0
- Make: Canon
- Model: Canon EOS 40D
- ModifyDate: 2011:05:13 03:16:32
- Orientation: Horizontal (normal)
- IFD1
- IPTC
- System
- XMP-aux
- Firmware: 1.1.1
- FlashCompensation: 0
- ImageNumber: 0
- Lens: EF-S55-250mm f/4-5.6 IS
- LensInfo: 55-250mm f/?
- SerialNumber: 1210710818
- XMP-crs
- AlreadyApplied: True
- BlueHue: 0
- BlueSaturation: 0
- Brightness: +69
- CameraProfile: ACR 3.3
- ChromaticAberrationB: 0
- ChromaticAberrationR: 0
- Clarity: 0
- ColorNoiseReduction: 25
- Contrast: +51
- ConvertToGrayscale: False
- CropAngle: 0
- CropBottom: 0.85853
- CropHeight: 2225
- CropLeft: 0.046211
- CropRight: 0.942699
- CropTop: 0
- CropUnit: pixels
- CropWidth: 3486
- Defringe: 0
- Exposure: +0.05
- FillLight: 21
- GreenHue: 0
- GreenSaturation: 0
- HasCrop: True
- HasSettings: True
- HighlightRecovery: 100
- HueAdjustmentAqua: 0
- HueAdjustmentBlue: 0
- HueAdjustmentGreen: 0
- HueAdjustmentMagenta: 0
- HueAdjustmentOrange: 0
- HueAdjustmentPurple: 0
- HueAdjustmentRed: 0
- HueAdjustmentYellow: 0
- LuminanceAdjustmentAqua: 0
- LuminanceAdjustmentBlue: 0
- LuminanceAdjustmentGreen: 0
- LuminanceAdjustmentMagenta: 0
- LuminanceAdjustmentOrange: 0
- LuminanceAdjustmentPurple: 0
- LuminanceAdjustmentRed: 0
- LuminanceAdjustmentYellow: 0
- LuminanceSmoothing: 0
- ParametricDarks: -18
- ParametricHighlightSplit: 76
- ParametricHighlights: +1
- ParametricLights: +18
- ParametricMidtoneSplit: 50
- ParametricShadowSplit: 25
- ParametricShadows: +43
- PostCropVignetteAmount: 0
- RedHue: 0
- RedSaturation: 0
- Saturation: +4
- SaturationAdjustmentAqua: 0
- SaturationAdjustmentBlue: 0
- SaturationAdjustmentGreen: 0
- SaturationAdjustmentMagenta: 0
- SaturationAdjustmentOrange: 0
- SaturationAdjustmentPurple: 0
- SaturationAdjustmentRed: 0
- SaturationAdjustmentYellow: 0
- ShadowTint: 0
- Shadows: 15
- SharpenDetail: 25
- SharpenEdgeMasking: 0
- SharpenRadius: +1.0
- Sharpness: 34
- SplitToningBalance: 0
- SplitToningHighlightHue: 0
- SplitToningHighlightSaturation: 0
- SplitToningShadowHue: 0
- SplitToningShadowSaturation: 0
- Temperature: 2714
- Tint: +11
- ToneCurve: 0, 0, 32, 22, 64, 56, 128, 128, 192, 196, 255, 255
- ToneCurveName: Medium Contrast
- Version: 4.6
- Vibrance: +4
- VignetteAmount: -20
- VignetteMidpoint: 50
- WhiteBalance: Custom
- XMP-dc
- XMP-exif
- DateTimeDigitized: 2011:04:27 02:51:48.34+04:00
- DateTimeOriginal: 2011:04:27 02:51:48.34+04:00
- FlashFired: False
- FlashFunction: False
- FlashMode: Off
- FlashRedEyeMode: False
- FlashReturn: No return detection
- XMP-tiff
- ImageHeight: 2225
- ImageWidth: 3486
- XMP-x
- XMP-xmp
- CreateDate: 2011:05:13 03:16:32+04:00
- ModifyDate: 2011:05:13 03:16:32+04:00
- XMP-xmpMM
- Просмотров: 428
- Рейтинг: голосов еще нет
- Отзывов: 0