- Раздел: Другое, разное
- Дата съёмки: 02.07.2011 13:23
- Дата загрузки фото: 07.07.2011 00:21
- Оригинальная фотография: 1920 x 1289 (1,8 Мб)
- Технические характеристики:
- Фотоаппарат: Canon EOS 60D
- Выдержка: 1/800
- Гиперфокальное расстояние: inf m
- Диафрагма: 5,0
- Светочувствительность: 100
- Фокусное расстояние: 100,0 mm (35 mm equivalent: 400,0 mm)
- Полный EXIF
- Adobe
- ColorTransform: YCbCr
- Composite
- Aperture: 5,0
- CircleOfConfusion: 0,007 mm
- DOF: inf (0,00 m - inf)
- FOV: 5,0 deg
- FocalLength35efl: 100,0 mm (35 mm equivalent: 400,0 mm)
- HyperfocalDistance: inf m
- ScaleFactor35efl: 4,2
- ShutterSpeed: 1/800
- ExifIFD
- ApertureValue: 5,0
- ColorSpace: sRGB
- CreateDate: 2011:07:02 13:23:20
- CustomRendered: Normal
- DateTimeOriginal: 2011:07:02 13:23:20
- ExifImageHeight: 1289
- ExifImageWidth: 1920
- ExposureCompensation: 0
- ExposureMode: Auto
- ExposureProgram: Aperture-priority AE
- ExposureTime: 1/800
- FNumber: 5,0
- Flash: Off, Did not fire
- FocalLength: 100,0 mm
- ISO: 100
- LensInfo: 100mm f/?
- LensModel: EF100mm f/2.8L Macro IS USM
- LensSerialNumber: 0000009908
- MaxApertureValue: 2,8
- MeteringMode: Multi-segment
- RecommendedExposureIndex: 100
- SceneCaptureType: Standard
- SensitivityType: Recommended Exposure Index
- SerialNumber: 0780425294
- ShutterSpeedValue: 1/800
- SubjectDistance: 4294967295 m
- WhiteBalance: Auto
- ICC-header
- ICC-meas
- ICC-view
- IFD0
- BitsPerSample: 8 8 8
- Copyright: aliko(c)ins
- ImageHeight: 1611
- ImageWidth: 2400
- Make: Canon
- Model: Canon EOS 60D
- ModifyDate: 2011:07:06 23:18:51
- Orientation: Horizontal (normal)
- PhotometricInterpretation: RGB
- SamplesPerPixel: 3
- IFD1
- IPTC
- CopyrightNotice: aliko(c)ins
- DateCreated: 2011:07:02
- System
- XMP-aux
- ApproximateFocusDistance: 4294967295
- Firmware: 1.0.9
- FlashCompensation: 0
- ImageNumber: 0
- Lens: EF100mm f/2.8L Macro IS USM
- LensID: 254
- XMP-crs
- AlreadyApplied: True
- BlueHue: 0
- BlueSaturation: 0
- Brightness: +60
- ChromaticAberrationB: 0
- ChromaticAberrationR: 0
- Clarity: +24
- ColorNoiseReduction: 25
- ColorNoiseReductionDetail: 50
- Contrast: +59
- ConvertToGrayscale: False
- CropAngle: 1.42744
- CropBottom: 0.977173
- CropConstrainToWarp: 1
- CropLeft: 0.098563
- CropRight: 0.916771
- CropTop: 0.108213
- Defringe: 0
- Exposure: 0.00
- FillLight: 5
- GrainAmount: 0
- GreenHue: 0
- GreenSaturation: 0
- HasCrop: True
- HasSettings: True
- HighlightRecovery: 0
- HueAdjustmentAqua: 0
- HueAdjustmentBlue: 0
- HueAdjustmentGreen: 0
- HueAdjustmentMagenta: 0
- HueAdjustmentOrange: 0
- HueAdjustmentPurple: 0
- HueAdjustmentRed: 0
- HueAdjustmentYellow: 0
- LensManualDistortionAmount: 0
- LensProfileChromaticAberrationScale: 100
- LensProfileDistortionScale: 100
- LensProfileEnable: 1
- LensProfileFilename: Canon EOS 5D Mark II (Canon EF 100mm f2.8 L Macro IS USM) - RAW.lcp
- LensProfileSetup: LensDefaults
- LensProfileVignettingScale: 100
- LuminanceAdjustmentAqua: 0
- LuminanceAdjustmentBlue: 0
- LuminanceAdjustmentGreen: 0
- LuminanceAdjustmentMagenta: 0
- LuminanceAdjustmentOrange: 0
- LuminanceAdjustmentPurple: 0
- LuminanceAdjustmentRed: 0
- LuminanceAdjustmentYellow: 0
- LuminanceSmoothing: 0
- ParametricDarks: 0
- ParametricHighlightSplit: 75
- ParametricHighlights: 0
- ParametricLights: 0
- ParametricMidtoneSplit: 50
- ParametricShadowSplit: 25
- ParametricShadows: 0
- PerspectiveHorizontal: 0
- PerspectiveRotate: 0.0
- PerspectiveScale: 100
- PerspectiveVertical: 0
- PostCropVignetteAmount: 0
- ProcessVersion: 5.7
- RawFileName: IMG_2851.CR2
- RedHue: 0
- RedSaturation: 0
- Saturation: 0
- SaturationAdjustmentAqua: 0
- SaturationAdjustmentBlue: +20
- SaturationAdjustmentGreen: 0
- SaturationAdjustmentMagenta: 0
- SaturationAdjustmentOrange: 0
- SaturationAdjustmentPurple: 0
- SaturationAdjustmentRed: 0
- SaturationAdjustmentYellow: 0
- ShadowTint: 0
- Shadows: 10
- SharpenDetail: 25
- SharpenEdgeMasking: 0
- SharpenRadius: +1.0
- Sharpness: 25
- SplitToningBalance: 0
- SplitToningHighlightHue: 0
- SplitToningHighlightSaturation: 0
- SplitToningShadowHue: 0
- SplitToningShadowSaturation: 0
- Temperature: 5700
- Tint: +4
- ToneCurve: 0, 0, 32, 22, 64, 56, 128, 128, 192, 196, 255, 255
- ToneCurveName: Medium Contrast
- Version: 6.4.1
- Vibrance: +15
- VignetteAmount: 0
- WhiteBalance: As Shot
- XMP-dc
- Format: image/jpeg
- Rights: aliko(c)ins
- XMP-xmp
- CreateDate: 2011:07:02 13:23:20.00
- ModifyDate: 2011:07:06 23:18:51+04:00
- Rating: 0
- XMP-xmpMM