- Раздел: Интерьер, дизайн
- Дата съёмки: 07.07.2011 14:00
- Дата загрузки фото: 07.07.2011 17:19
- Оригинальная фотография: 1501 x 2000 (1,4 Мб)
- Технические характеристики:
- Фотоаппарат: Hasselblad H4D
- Выдержка: 0,5
- Диафрагма: 11,0
- Светочувствительность: 100
- Фокусное расстояние: 210,0 mm
- Полный EXIF
- Adobe
- ColorTransform: YCbCr
- Composite
- Aperture: 11,0
- FocalLength35efl: 210,0 mm
- ShutterSpeed: 0,5
- ExifIFD
- ApertureValue: 11,0
- ColorSpace: sRGB
- DateTimeOriginal: 2010:10:29 23:13:54
- ExifImageHeight: 2000
- ExifImageWidth: 1501
- ExposureProgram: Manual
- ExposureTime: 0,5
- FNumber: 11,0
- FocalLength: 210,0 mm
- ISO: 100
- MeteringMode: Center-weighted average
- ShutterSpeedValue: 0,5
- ICC-header
- ICC-meas
- ICC-view
- IFD0
- BitsPerSample: 16 16 16
- Copyright: Hasselblad H4D
- ImageHeight: 1478
- ImageWidth: 1109
- Make: Hasselblad
- Model: Hasselblad H4D
- ModifyDate: 2011:07:07 14:00:25
- Orientation: Horizontal (normal)
- PhotometricInterpretation: RGB
- PlanarConfiguration: Chunky
- SamplesPerPixel: 3
- IFD1
- IPTC
- CopyrightNotice: Hasselblad H4D
- DateCreated: 2010:10:29
- ObjectName:
- System
- XMP-crs
- AlreadyApplied: True
- BlueHue: 0
- BlueSaturation: 0
- Brightness: +50
- CameraProfile: Embedded
- ChromaticAberrationB: 0
- ChromaticAberrationR: 0
- Clarity: +93
- ColorNoiseReduction: 25
- ColorNoiseReductionDetail: 50
- Contrast: +88
- ConvertToGrayscale: False
- Defringe: 0
- Exposure: +0.15
- FillLight: 2
- GrainAmount: 0
- GreenHue: 0
- GreenSaturation: 0
- HasCrop: False
- HasSettings: True
- HighlightRecovery: 0
- HueAdjustmentAqua: 0
- HueAdjustmentBlue: 0
- HueAdjustmentGreen: 0
- HueAdjustmentMagenta: 0
- HueAdjustmentOrange: 0
- HueAdjustmentPurple: 0
- HueAdjustmentRed: 0
- HueAdjustmentYellow: 0
- LuminanceAdjustmentAqua: 0
- LuminanceAdjustmentBlue: 0
- LuminanceAdjustmentGreen: 0
- LuminanceAdjustmentMagenta: 0
- LuminanceAdjustmentOrange: 0
- LuminanceAdjustmentPurple: 0
- LuminanceAdjustmentRed: 0
- LuminanceAdjustmentYellow: 0
- LuminanceSmoothing: 0
- ParametricDarks: 0
- ParametricHighlightSplit: 75
- ParametricHighlights: 0
- ParametricLights: 0
- ParametricMidtoneSplit: 50
- ParametricShadowSplit: 25
- ParametricShadows: 0
- PostCropVignetteAmount: 0
- ProcessVersion: 5.7
- RawFileName: A0002804.3FR
- RedHue: 0
- RedSaturation: 0
- Saturation: +20
- SaturationAdjustmentAqua: 0
- SaturationAdjustmentBlue: 0
- SaturationAdjustmentGreen: 0
- SaturationAdjustmentMagenta: 0
- SaturationAdjustmentOrange: 0
- SaturationAdjustmentPurple: 0
- SaturationAdjustmentRed: 0
- SaturationAdjustmentYellow: 0
- ShadowTint: 0
- Shadows: 2
- SharpenDetail: 25
- SharpenEdgeMasking: 0
- SharpenRadius: +1.0
- Sharpness: 25
- SplitToningBalance: 0
- SplitToningHighlightHue: 0
- SplitToningHighlightSaturation: 0
- SplitToningShadowHue: 0
- SplitToningShadowSaturation: 0
- Temperature: 5550
- Tint: 0
- ToneCurve: 0, 0, 32, 22, 64, 56, 128, 128, 192, 196, 255, 255
- ToneCurveName: Medium Contrast
- Version: 6.0
- Vibrance: +14
- VignetteAmount: 0
- WhiteBalance: Custom
- XMP-dc
- Format: image/jpeg
- Rights: Hasselblad H4D
- Title:
- XMP-exif
- DateTimeOriginal: 2010:10:29 23:13:54+04:00
- XMP-tiff
- BitsPerSample: 16, 16, 16
- XMP-xmp
- CreateDate: 2011:07:07 14:00:25+04:00
- ModifyDate: 2011:07:07 14:00:25+04:00
- Rating: 0
- XMP-xmpMM
- Просмотров: 1038
- Рейтинг: голосов еще нет
- Отзывов: 0