- Раздел: Интерьер, дизайн
- Дата съёмки: 27.01.2011 22:47
- Дата загрузки фото: 14.07.2011 16:12
- Оригинальная фотография: 1000 x 1500 (720 Кб)
- Технические характеристики:
- Фотоаппарат: Canon EOS-1Ds Mark III
- Выдержка: 1/200
- Гиперфокальное расстояние: inf m
- Диафрагма: 13,0
- Светочувствительность: 50
- Фокусное расстояние: 135,0 mm (35 mm equivalent: 405,0 mm)
- Полный EXIF
- Adobe
- ColorTransform: YCbCr
- Composite
- Aperture: 13,0
- CircleOfConfusion: 0,008 mm
- DOF: inf (0,00 m - inf)
- FOV: 5,0 deg
- FocalLength35efl: 135,0 mm (35 mm equivalent: 405,0 mm)
- HyperfocalDistance: inf m
- ScaleFactor35efl: 3,7
- ShutterSpeed: 1/200
- ExifIFD
- ApertureValue: 13,0
- ColorSpace: sRGB
- CreateDate: 2011:01:27 22:47:56
- CustomRendered: Normal
- DateTimeOriginal: 2011:01:27 22:47:56
- ExifImageHeight: 1500
- ExifImageWidth: 1000
- ExposureCompensation: 0
- ExposureMode: Manual
- ExposureProgram: Manual
- ExposureTime: 1/200
- FNumber: 13,0
- Flash: Off, Did not fire
- FocalLength: 135,0 mm
- ISO: 50
- MaxApertureValue: 2,0
- MeteringMode: Multi-segment
- SceneCaptureType: Standard
- ShutterSpeedValue: 1/200
- SubjectDistance: 1,71 m
- WhiteBalance: Auto
- ICC-header
- ICC-meas
- ICC-view
- IFD0
- Artist: www.vitalymarkov.com
- BitsPerSample: 16 16 16
- ImageHeight: 2970
- ImageWidth: 1980
- Make: Canon
- Model: Canon EOS-1Ds Mark III
- ModifyDate: 2011:07:13 19:11:47
- Orientation: Horizontal (normal)
- PhotometricInterpretation: RGB
- PlanarConfiguration: Chunky
- SamplesPerPixel: 3
- IFD1
- IPTC
- By-line: www.vitalymarkov.com
- DateCreated: 2011:01:27
- System
- XMP-aux
- Firmware: 1.2.0
- FlashCompensation: 0
- ImageNumber: 0
- Lens: EF135mm f/2L USM
- LensID: 174
- LensInfo: 135mm f/?
- OwnerName: www.vitalymarkov.com
- SerialNumber: 615736
- XMP-crs
- AlreadyApplied: True
- BlueHue: 0
- BlueSaturation: 0
- Brightness: +50
- ChromaticAberrationB: 0
- ChromaticAberrationR: 0
- Clarity: 0
- ColorNoiseReduction: 25
- ColorNoiseReductionDetail: 50
- Contrast: +25
- ConvertToGrayscale: False
- CropAngle: 0
- CropBottom: 0.718224
- CropHeight: 3
- CropLeft: 0.255363
- CropRight: 0.846895
- CropTop: 0.126691
- CropUnit: Unknown (3)
- CropWidth: 2
- Defringe: 0
- Exposure: +0.15
- FillLight: 0
- GradientBasedCorrActive: true
- GradientBasedCorrAmount: 1.000000
- GradientBasedCorrBrightness: 0.000000
- GradientBasedCorrClarity: 0.000000
- GradientBasedCorrContrast: 0.000000
- GradientBasedCorrExposure: 0.225000
- GradientBasedCorrHue: 41.000000
- GradientBasedCorrMaskFullX: 0.335162
- GradientBasedCorrMaskFullY: 0.374354
- GradientBasedCorrMaskValue: 1.000000
- GradientBasedCorrMaskWhat: Mask/Gradient
- GradientBasedCorrMaskZeroX: -0.236499
- GradientBasedCorrMaskZeroY: 0.374354
- GradientBasedCorrSaturation: 0.470000
- GradientBasedCorrSharpness: 0.000000
- GradientBasedCorrWhat: Correction
- GrainAmount: 0
- GreenHue: 0
- GreenSaturation: 0
- HasCrop: True
- HasSettings: True
- HighlightRecovery: 0
- HueAdjustmentAqua: 0
- HueAdjustmentBlue: 0
- HueAdjustmentGreen: 0
- HueAdjustmentMagenta: 0
- HueAdjustmentOrange: 0
- HueAdjustmentPurple: 0
- HueAdjustmentRed: +13
- HueAdjustmentYellow: +2
- LuminanceAdjustmentAqua: -90
- LuminanceAdjustmentBlue: +100
- LuminanceAdjustmentGreen: -93
- LuminanceAdjustmentMagenta: -90
- LuminanceAdjustmentOrange: +97
- LuminanceAdjustmentPurple: -76
- LuminanceAdjustmentRed: -93
- LuminanceAdjustmentYellow: -73
- LuminanceSmoothing: 0
- ParametricDarks: 0
- ParametricHighlightSplit: 75
- ParametricHighlights: 0
- ParametricLights: 0
- ParametricMidtoneSplit: 50
- ParametricShadowSplit: 25
- ParametricShadows: 0
- PostCropVignetteAmount: 0
- ProcessVersion: 5.7
- RawFileName: 1P6Z7376.CR2
- RedHue: 0
- RedSaturation: 0
- Saturation: +5
- SaturationAdjustmentAqua: -46
- SaturationAdjustmentBlue: -20
- SaturationAdjustmentGreen: -55
- SaturationAdjustmentMagenta: +43
- SaturationAdjustmentOrange: -85
- SaturationAdjustmentPurple: +38
- SaturationAdjustmentRed: +59
- SaturationAdjustmentYellow: -88
- ShadowTint: 0
- Shadows: 38
- SharpenDetail: 25
- SharpenEdgeMasking: 0
- SharpenRadius: +1.0
- Sharpness: 25
- SplitToningBalance: 0
- SplitToningHighlightHue: 0
- SplitToningHighlightSaturation: 0
- SplitToningShadowHue: 0
- SplitToningShadowSaturation: 0
- Temperature: 5050
- Tint: -9
- ToneCurve: 0, 0, 32, 22, 64, 56, 128, 128, 192, 196, 255, 255
- ToneCurveName: Medium Contrast
- Version: 6.0
- Vibrance: 0
- VignetteAmount: 0
- WhiteBalance: Custom
- XMP-dc
- Creator: www.vitalymarkov.com
- Format: image/jpeg
- XMP-exif
- DateTimeDigitized: 2011:01:27 22:47:56+03:00
- DateTimeOriginal: 2011:01:27 22:47:56+03:00
- FlashFired: False
- FlashFunction: False
- FlashMode: Off
- FlashRedEyeMode: False
- FlashReturn: No return detection
- XMP-tiff
- BitsPerSample: 16, 16, 16
- XMP-xmp
- CreateDate: 2011:07:13 19:11:32+04:00
- ModifyDate: 2011:07:13 19:11:47+04:00
- Rating: 0
- XMP-xmpMM
- Просмотров: 651
- Рейтинг: голосов еще нет
- Отзывов: 0