Малый подорлик |
![](img/title-line.gif) |
![](img/title-shadow.gif) | |
Малый подорлик
- Раздел: Другое, разное
- Дата съёмки: 14.07.2011 11:25
- Дата загрузки фото: 14.08.2011 00:10
- Оригинальная фотография: 1024 x 768 (146 Кб)
- Технические характеристики:
- Фотоаппарат: Canon EOS 400D DIGITAL
- Выдержка: 1/1000
- Гиперфокальное расстояние: inf m
- Диафрагма: 6,3
- Светочувствительность: 400
- Фокусное расстояние: 400,0 mm (35 mm equivalent: 2000,0 mm)
- Полный EXIF
- Adobe
- ColorTransform: YCbCr
- Composite
- Aperture: 6,3
- CircleOfConfusion: 0,005 mm
- DOF: inf (0,00 m - inf)
- FOV: 1,0 deg
- FocalLength35efl: 400,0 mm (35 mm equivalent: 2000,0 mm)
- HyperfocalDistance: inf m
- ScaleFactor35efl: 5,9
- ShutterSpeed: 1/1000
- ExifIFD
- ApertureValue: 6,3
- ColorSpace: Uncalibrated
- CreateDate: 2011:07:14 11:25:29
- CustomRendered: Normal
- DateTimeOriginal: 2011:07:14 11:25:29
- ExifImageHeight: 768
- ExifImageWidth: 1024
- ExposureCompensation: 0
- ExposureMode: Manual
- ExposureProgram: Manual
- ExposureTime: 1/1000
- FNumber: 6,3
- Flash: Off, Did not fire
- FocalLength: 400,0 mm
- ISO: 400
- MaxApertureValue: 5,6
- MeteringMode: Partial
- SceneCaptureType: Standard
- ShutterSpeedValue: 1/1000
- SubjectDistance: 4294967295 m
- WhiteBalance: Auto
- IFD0
- Artist: unknown
- Make: Canon
- Model: Canon EOS 400D DIGITAL
- ModifyDate: 2011:08:14 00:08:39
- Orientation: Horizontal (normal)
- IFD1
- IPTC
- By-line: unknown
- DateCreated: 2011-07-
- System
- XMP-aux
- Firmware: 1.0.4
- FlashCompensation: 0
- ImageNumber: 48
- Lens: EF100-400mm f/4.5-5.6L IS USM
- LensID: 183
- LensInfo: 100-400mm f/?
- OwnerName: unknown
- SerialNumber: 430124338
- XMP-crs
- AlreadyApplied: True
- BlueHue: 0
- BlueSaturation: 0
- Brightness: +50
- CameraProfile: ACR 4.4
- ChromaticAberrationB: 0
- ChromaticAberrationR: 0
- Clarity: 0
- ColorNoiseReduction: 1
- Contrast: +25
- ConvertToGrayscale: False
- CropAngle: 0
- CropBottom: 0.697065
- CropHeight: 5
- CropLeft: 0.390553
- CropRight: 0.721009
- CropTop: 0.300518
- CropUnit: Unknown (3)
- CropWidth: 4
- Defringe: 0
- Exposure: 0.00
- FillLight: 9
- GrainAmount: 0
- GreenHue: 0
- GreenSaturation: 0
- HasCrop: True
- HasSettings: True
- HighlightRecovery: 0
- HueAdjustmentAqua: 0
- HueAdjustmentBlue: 0
- HueAdjustmentGreen: 0
- HueAdjustmentMagenta: 0
- HueAdjustmentOrange: 0
- HueAdjustmentPurple: 0
- HueAdjustmentRed: 0
- HueAdjustmentYellow: 0
- LuminanceAdjustmentAqua: 0
- LuminanceAdjustmentBlue: 0
- LuminanceAdjustmentGreen: 0
- LuminanceAdjustmentMagenta: 0
- LuminanceAdjustmentOrange: 0
- LuminanceAdjustmentPurple: 0
- LuminanceAdjustmentRed: 0
- LuminanceAdjustmentYellow: 0
- LuminanceSmoothing: 0
- ParametricDarks: 0
- ParametricHighlightSplit: 75
- ParametricHighlights: 0
- ParametricLights: 0
- ParametricMidtoneSplit: 50
- ParametricShadowSplit: 25
- ParametricShadows: 0
- PostCropVignetteAmount: 0
- ProcessVersion: 5.0
- RawFileName: IMG_1411.CR2
- RedHue: 0
- RedSaturation: 0
- Saturation: 0
- SaturationAdjustmentAqua: 0
- SaturationAdjustmentBlue: 0
- SaturationAdjustmentGreen: 0
- SaturationAdjustmentMagenta: 0
- SaturationAdjustmentOrange: 0
- SaturationAdjustmentPurple: 0
- SaturationAdjustmentRed: 0
- SaturationAdjustmentYellow: 0
- ShadowTint: 0
- Shadows: 5
- SharpenDetail: 0
- SharpenEdgeMasking: 0
- SharpenRadius: +0.5
- Sharpness: 0
- SplitToningBalance: 0
- SplitToningHighlightHue: 0
- SplitToningHighlightSaturation: 0
- SplitToningShadowHue: 0
- SplitToningShadowSaturation: 0
- Temperature: 5500
- Tint: +10
- ToneCurve: 0, 0, 32, 22, 64, 56, 128, 128, 192, 196, 255, 255
- ToneCurveName: Medium Contrast
- Version: 5.7
- Vibrance: +26
- VignetteAmount: 0
- WhiteBalance: Daylight
- XMP-dc
- Creator: unknown
- Format: image/jpeg
- XMP-xmp
- CreateDate: 2011:07:14 11:25:29+04:00
- ModifyDate: 2011:08:14 00:08:39+04:00
- Rating: 0
- XMP-xmpMM
Получить код для блога
Вставка фотографии в текущем разрешении |
Вставка миниатюры |
HTML (для вставки в блог):
BBCode (для вставки в форум):
Ссылка на фото:
Ссылка на миниатюру:
- Послать ссылку другу
Комментарии к фотографии |