- Раздел: Хобби
- Дата съёмки: 27.08.2011 15:08
- Дата загрузки фото: 27.08.2011 19:44
- Оригинальная фотография: 1000 x 665 (128 Кб)
- Технические характеристики:
- Фотоаппарат: Sony NEX-5
- Выдержка: 1/4000
- Гиперфокальное расстояние: inf m
- Диафрагма: 2,8
- Светочувствительность: 200
- Фокусное расстояние: 16,0 mm (35 mm equivalent: 16,0 mm)
- Экспокоррекция: -0,3
- Полный EXIF
- Adobe
- ColorTransform: YCbCr
- Composite
- Aperture: 2,8
- CircleOfConfusion: 0,020 mm
- FOV: 96,0 deg
- FocalLength35efl: 16,0 mm (35 mm equivalent: 16,0 mm)
- HyperfocalDistance: inf m
- ScaleFactor35efl: 1,5
- ShutterSpeed: 1/4000
- ExifIFD
- ApertureValue: 2,8
- BrightnessValue: 9,12
- ColorSpace: sRGB
- Contrast: Normal
- CreateDate: 2011:08:27 15:08:57
- CustomRendered: Normal
- DateTimeOriginal: 2011:08:27 15:08:57
- ExifImageHeight: 665
- ExifImageWidth: 1000
- ExposureCompensation: -0,3
- ExposureMode: Auto
- ExposureProgram: Aperture-priority AE
- ExposureTime: 1/4000
- FNumber: 2,8
- Flash: Off, Did not fire
- FocalLength: 16,0 mm
- FocalLengthIn35mmFormat: 24 mm
- ISO: 200
- LensInfo: 16mm f/2.8
- LensModel: E 16mm F2.8
- LightSource: Unknown
- MaxApertureValue: 2,8
- MeteringMode: Multi-segment
- RecommendedExposureIndex: 200
- Saturation: Normal
- SceneCaptureType: Standard
- SceneType: Directly photographed
- SensitivityType: Recommended Exposure Index
- Sharpness: Normal
- ShutterSpeedValue: 1/4000
- WhiteBalance: Auto
- ICC-header
- ICC-meas
- ICC-view
- IFD0
- ImageDescription: SONY DSC
- Make: SONY
- Model: NEX-5
- ModifyDate: 2011:08:27 18:39:46
- Orientation: Horizontal (normal)
- IFD1
- IPTC
- Caption-Abstract: SONY DSC
- DateCreated: 2011:08:27
- System
- XMP-aux
- Lens: E 16mm F2.8
- XMP-crs
- AlreadyApplied: True
- BlueHue: 0
- BlueSaturation: 0
- Brightness: +43
- ChromaticAberrationB: 0
- ChromaticAberrationR: 0
- Clarity: +20
- ColorNoiseReduction: 25
- ColorNoiseReductionDetail: 50
- Contrast: +25
- ConvertToGrayscale: False
- CropAngle: -4.84248
- CropBottom: 0.887075
- CropConstrainToWarp: 0
- CropHeight: 1080
- CropLeft: 0.031455
- CropRight: 0.968545
- CropTop: 0.112925
- CropUnit: pixels
- CropWidth: 1623
- Defringe: 0
- Exposure: 0.00
- FillLight: 11
- GrainAmount: 0
- GreenHue: 0
- GreenSaturation: 0
- HasCrop: True
- HasSettings: True
- HighlightRecovery: 0
- HueAdjustmentAqua: 0
- HueAdjustmentBlue: -20
- HueAdjustmentGreen: 0
- HueAdjustmentMagenta: 0
- HueAdjustmentOrange: 0
- HueAdjustmentPurple: 0
- HueAdjustmentRed: 0
- HueAdjustmentYellow: 0
- LensManualDistortionAmount: 0
- LensProfileChromaticAberrationScale: 100
- LensProfileDistortionScale: 100
- LensProfileEnable: 1
- LensProfileFilename: Sony NEX-5 (Sony E 16mm F2.8) - RAW.lcp
- LensProfileSetup: LensDefaults
- LensProfileVignettingScale: 100
- LuminanceAdjustmentAqua: 0
- LuminanceAdjustmentBlue: -5
- LuminanceAdjustmentGreen: -14
- LuminanceAdjustmentMagenta: 0
- LuminanceAdjustmentOrange: 0
- LuminanceAdjustmentPurple: 0
- LuminanceAdjustmentRed: 0
- LuminanceAdjustmentYellow: -16
- LuminanceNoiseReductionContrast: 0
- LuminanceNoiseReductionDetail: 0
- LuminanceSmoothing: 47
- ParametricDarks: 0
- ParametricHighlightSplit: 75
- ParametricHighlights: 0
- ParametricLights: 0
- ParametricMidtoneSplit: 50
- ParametricShadowSplit: 25
- ParametricShadows: 0
- PerspectiveHorizontal: 0
- PerspectiveRotate: 0.0
- PerspectiveScale: 100
- PerspectiveVertical: 0
- PostCropVignetteAmount: 0
- ProcessVersion: 5.7
- RedHue: 0
- RedSaturation: 0
- Saturation: +8
- SaturationAdjustmentAqua: 0
- SaturationAdjustmentBlue: +5
- SaturationAdjustmentGreen: +9
- SaturationAdjustmentMagenta: 0
- SaturationAdjustmentOrange: 0
- SaturationAdjustmentPurple: 0
- SaturationAdjustmentRed: 0
- SaturationAdjustmentYellow: +7
- ShadowTint: 0
- Shadows: 8
- SharpenDetail: 25
- SharpenEdgeMasking: 0
- SharpenRadius: +1.3
- Sharpness: 45
- SplitToningBalance: 0
- SplitToningHighlightHue: 0
- SplitToningHighlightSaturation: 0
- SplitToningShadowHue: 0
- SplitToningShadowSaturation: 0
- Temperature: 5050
- Tint: -1
- ToneCurve: 0, 0, 32, 22, 64, 56, 128, 128, 192, 196, 255, 255
- ToneCurveName: Medium Contrast
- Version: 6.4
- Vibrance: +17
- VignetteAmount: 0
- WhiteBalance: Custom
- XMP-dc
- Description: SONY DSC
- Format: image/jpeg
- XMP-exif
- DateTimeDigitized: 2011:08:27 15:08:57+03:00
- DateTimeOriginal: 2011:08:27 15:08:57+03:00
- FlashFired: False
- FlashFunction: False
- FlashMode: Off
- FlashRedEyeMode: False
- FlashReturn: No return detection
- XMP-tiff
- XMP-xmp
- CreateDate: 2011:08:27 18:39:46+03:00
- ModifyDate: 2011:08:27 18:39:46+03:00
- XMP-xmpMM
- Просмотров: 236
- Рейтинг: голосов еще нет
- Отзывов: отключены