- Раздел: Другое, разное
- Дата съёмки: 08.07.2011 07:22
- Дата загрузки фото: 15.09.2011 22:28
- Оригинальная фотография: 3648 x 2432 (5,2 Мб)
- Технические характеристики:
- Фотоаппарат: Samsung WB2000
- Выдержка: 1/1500
- Гиперфокальное расстояние: inf m
- Диафрагма: 3,8
- Светочувствительность: 80
- Фокусное расстояние: 6,0 mm (35 mm equivalent: 30,0 mm)
- Экспокоррекция: -0,7
- Полный EXIF
- Composite
- Aperture: 3,8
- CircleOfConfusion: 0,005 mm
- FOV: 61,0 deg
- FocalLength35efl: 6,0 mm (35 mm equivalent: 30,0 mm)
- HyperfocalDistance: inf m
- ScaleFactor35efl: 5,8
- ShutterSpeed: 1/1500
- ExifIFD
- ApertureValue: 3,8
- Contrast: Normal
- DateTimeOriginal: 2011:07:08 07:22:28
- DigitalZoomRatio: 1
- ExifImageHeight: 2432
- ExifImageWidth: 3648
- ExposureCompensation: -0,7
- ExposureMode: Unknown (3)
- ExposureProgram: Aperture-priority AE
- ExposureTime: 1/1500
- FNumber: 3,8
- Flash: No Flash
- FocalLength: 6,3 mm
- FocalLengthIn35mmFormat: 35 mm
- ISO: 80
- LightSource: Unknown
- MeteringMode: Multi-segment
- Saturation: Normal
- SceneCaptureType: Standard
- Sharpness: Normal
- ShutterSpeedValue: 1/1500
- WhiteBalance: Auto
- ICC-header
- ICC-meas
- ICC-view
- IFD0
- Make: SAMSUNG
- Model: WB2000
- ModifyDate: 2011:09:15 21:25:37
- Orientation: Horizontal (normal)
- Software: Программа цифровой обработки изображений компании ACD Systems
- IFD1
- IPTC
- DateCreated: 2011:07:08
- System
- XMP-aux
- Firmware: FM1_104301
- Lens: Schneider KREUZNACH 5x VARIOPLAN 4.3-21.5mm 1:2.4-5.8 IS
- LensInfo: 4.3-21.5mm f/2.4-5.8
- SerialNumber: DY049P000000
- XMP-crs
- AlreadyApplied: True
- BlueHue: +10
- BlueSaturation: -10
- Brightness: +50
- ChromaticAberrationB: 0
- ChromaticAberrationR: 0
- Clarity: +6
- ColorNoiseReduction: 25
- ColorNoiseReductionDetail: 50
- Contrast: +25
- ConvertToGrayscale: False
- Defringe: 1
- Exposure: 0.00
- FillLight: 0
- GrainAmount: 0
- GreenHue: -10
- GreenSaturation: +10
- HasCrop: False
- HasSettings: True
- HighlightRecovery: 10
- HueAdjustmentAqua: 0
- HueAdjustmentBlue: 0
- HueAdjustmentGreen: 0
- HueAdjustmentMagenta: 0
- HueAdjustmentOrange: 0
- HueAdjustmentPurple: 0
- HueAdjustmentRed: 0
- HueAdjustmentYellow: 0
- LensManualDistortionAmount: 0
- LensProfileChromaticAberrationScale: 100
- LensProfileDistortionScale: 69
- LensProfileEnable: 1
- LensProfileFilename: Samsung WB2000 - RAW.lcp
- LensProfileSetup: Custom
- LensProfileVignettingScale: 100
- LuminanceAdjustmentAqua: 0
- LuminanceAdjustmentBlue: 0
- LuminanceAdjustmentGreen: 0
- LuminanceAdjustmentMagenta: 0
- LuminanceAdjustmentOrange: 0
- LuminanceAdjustmentPurple: 0
- LuminanceAdjustmentRed: 0
- LuminanceAdjustmentYellow: 0
- LuminanceSmoothing: 0
- ParametricDarks: 0
- ParametricHighlightSplit: 75
- ParametricHighlights: 0
- ParametricLights: 0
- ParametricMidtoneSplit: 50
- ParametricShadowSplit: 25
- ParametricShadows: 0
- PerspectiveHorizontal: 0
- PerspectiveRotate: 0.0
- PerspectiveScale: 100
- PerspectiveVertical: 0
- PostCropVignetteAmount: 0
- ProcessVersion: 5.7
- RedHue: 0
- RedSaturation: 0
- Saturation: +6
- SaturationAdjustmentAqua: 0
- SaturationAdjustmentBlue: 0
- SaturationAdjustmentGreen: 0
- SaturationAdjustmentMagenta: 0
- SaturationAdjustmentOrange: 0
- SaturationAdjustmentPurple: 0
- SaturationAdjustmentRed: 0
- SaturationAdjustmentYellow: 0
- ShadowTint: 0
- Shadows: 0
- SharpenDetail: 11
- SharpenEdgeMasking: 15
- SharpenRadius: +0.8
- Sharpness: 60
- SplitToningBalance: 0
- SplitToningHighlightHue: 0
- SplitToningHighlightSaturation: 0
- SplitToningShadowHue: 0
- SplitToningShadowSaturation: 0
- Temperature: 5300
- Tint: +10
- ToneCurve: 0, 0, 32, 22, 64, 56, 128, 128, 192, 196, 255, 255
- ToneCurveName: Medium Contrast
- Version: 6.4.1
- Vibrance: +6
- VignetteAmount: 0
- WhiteBalance: As Shot
- XMP-x
- XMP-xmp
- ModifyDate: 2011:09:15 21:16:22+03:00
- Просмотров: 511
- Рейтинг: голосов еще нет
- Отзывов: 0