- Раздел: Другое, разное
- Дата съёмки: 30.07.2011 15:23
- Дата загрузки фото: 18.09.2011 15:54
- Оригинальная фотография: 900 x 600 (385 Кб)
- Технические характеристики:
- Фотоаппарат: Canon EOS 50D
- Выдержка: 1/800
- Гиперфокальное расстояние: inf m
- Диафрагма: 2,5
- Светочувствительность: 100
- Фокусное расстояние: 85,0 mm (35 mm equivalent: 680,0 mm)
- Экспокоррекция: +2/3
- Полный EXIF
- Adobe
- ColorTransform: YCbCr
- Composite
- Aperture: 2,5
- CircleOfConfusion: 0,004 mm
- DOF: inf (0,00 m - inf)
- FOV: 3,0 deg
- FocalLength35efl: 85,0 mm (35 mm equivalent: 680,0 mm)
- HyperfocalDistance: inf m
- ScaleFactor35efl: 8,4
- ShutterSpeed: 1/800
- ExifIFD
- ApertureValue: 2,5
- ColorSpace: sRGB
- CreateDate: 2011:07:30 15:23:43
- CustomRendered: Normal
- DateTimeOriginal: 2011:07:30 15:23:43
- ExifImageHeight: 600
- ExifImageWidth: 900
- ExposureCompensation: +2/3
- ExposureMode: Auto
- ExposureProgram: Aperture-priority AE
- ExposureTime: 1/800
- FNumber: 2,5
- Flash: Off, Did not fire
- FocalLength: 85,0 mm
- ISO: 100
- LensInfo: 85mm f/?
- LensModel: EF85mm f/1.8 USM
- MaxApertureValue: 1,8
- MeteringMode: Multi-segment
- OwnerName: Ivan Tsyrkunovich
- SceneCaptureType: Standard
- SerialNumber: 2260713305
- ShutterSpeedValue: 1/800
- SubjectDistance: 7,27 m
- WhiteBalance: Auto
- ICC-header
- ICC-meas
- ICC-view
- IFD0
- Artist: Ivan Tsyrkunovich
- BitsPerSample: 8 8 8
- Copyright: Copyright: http://hiv-iv.livejournal.com
- ImageHeight: 2203
- ImageWidth: 3304
- Make: Canon
- Model: Canon EOS 50D
- ModifyDate: 2011:09:18 14:53:06
- Orientation: Horizontal (normal)
- PhotometricInterpretation: RGB
- SamplesPerPixel: 3
- IFD1
- IPTC
- By-line: Ivan Tsyrkunovich
- CopyrightNotice: Copyright: http://hiv-iv.livejournal.com
- DateCreated: 2011:07:30
- System
- XMP-aux
- ApproximateFocusDistance: 7,27
- Firmware: 1.0.7
- FlashCompensation: 0
- ImageNumber: 0
- Lens: EF85mm f/1.8 USM
- LensID: 155
- XMP-crs
- AlreadyApplied: True
- BlueHue: 0
- BlueSaturation: 0
- Brightness: +50
- CameraProfile: Camera Standard
- ChromaticAberrationB: 0
- ChromaticAberrationR: 0
- Clarity: 0
- ColorNoiseReduction: 16
- ColorNoiseReductionDetail: 50
- Contrast: +34
- ConvertToGrayscale: False
- CropAngle: 0
- CropBottom: 1
- CropConstrainToWarp: 0
- CropHeight: 2203
- CropLeft: 0.174603
- CropRight: 0.869841
- CropTop: 0.304762
- CropUnit: pixels
- CropWidth: 3304
- Defringe: 0
- Exposure: +0.14
- FillLight: 24
- GrainAmount: 0
- GreenHue: 0
- GreenSaturation: 0
- HasCrop: True
- HasSettings: True
- HighlightRecovery: 18
- HueAdjustmentAqua: 0
- HueAdjustmentBlue: 0
- HueAdjustmentGreen: 0
- HueAdjustmentMagenta: 0
- HueAdjustmentOrange: 0
- HueAdjustmentPurple: 0
- HueAdjustmentRed: 0
- HueAdjustmentYellow: 0
- LensManualDistortionAmount: 0
- LensProfileEnable: 0
- LensProfileSetup: LensDefaults
- LuminanceAdjustmentAqua: 0
- LuminanceAdjustmentBlue: +3
- LuminanceAdjustmentGreen: -6
- LuminanceAdjustmentMagenta: 0
- LuminanceAdjustmentOrange: 0
- LuminanceAdjustmentPurple: 0
- LuminanceAdjustmentRed: 0
- LuminanceAdjustmentYellow: 0
- LuminanceNoiseReductionContrast: 0
- LuminanceNoiseReductionDetail: 50
- LuminanceSmoothing: 35
- ParametricDarks: -9
- ParametricHighlightSplit: 75
- ParametricHighlights: 0
- ParametricLights: +3
- ParametricMidtoneSplit: 50
- ParametricShadowSplit: 25
- ParametricShadows: 0
- PerspectiveHorizontal: 0
- PerspectiveRotate: 0.0
- PerspectiveScale: 100
- PerspectiveVertical: 0
- PostCropVignetteAmount: 0
- ProcessVersion: 5.7
- RedHue: 0
- RedSaturation: 0
- Saturation: +5
- SaturationAdjustmentAqua: 0
- SaturationAdjustmentBlue: +8
- SaturationAdjustmentGreen: +18
- SaturationAdjustmentMagenta: 0
- SaturationAdjustmentOrange: 0
- SaturationAdjustmentPurple: 0
- SaturationAdjustmentRed: 0
- SaturationAdjustmentYellow: +10
- ShadowTint: 0
- Shadows: 9
- SharpenDetail: 23
- SharpenEdgeMasking: 42
- SharpenRadius: +0.7
- Sharpness: 79
- SplitToningBalance: -12
- SplitToningHighlightHue: 48
- SplitToningHighlightSaturation: 12
- SplitToningShadowHue: 0
- SplitToningShadowSaturation: 0
- Temperature: 4500
- Tint: +17
- ToneCurve: 0, 0, 32, 22, 64, 56, 128, 128, 192, 196, 255, 255
- ToneCurveName: Medium Contrast
- Version: 6.4.1
- Vibrance: +20
- VignetteAmount: -50
- VignetteMidpoint: 30
- WhiteBalance: Custom
- XMP-dc
- Creator: Ivan Tsyrkunovich
- Format: image/jpeg
- Rights: Copyright: http://hiv-iv.livejournal.com
- XMP-iptcCore
- CreatorCity: Grodno
- CreatorCountry: Belarus
- CreatorWorkTelephone: +37529-8800753
- CreatorWorkURL: http://hiv-iv.livejournal.com
- XMP-xmp
- CreateDate: 2011:07:30 15:23:43.72
- ModifyDate: 2011:09:18 14:53:06+03:00
- XMP-xmpMM
- Просмотров: 246
- Рейтинг: голосов еще нет
- Отзывов: 0