- Раздел: Тесты фототехники
- Дата съёмки: 24.09.2011 10:36
- Дата загрузки фото: 24.09.2011 14:11
- Оригинальная фотография: 4500 x 3000 (1,3 Мб)
- Технические характеристики:
- Фотоаппарат: Kodak DCS Pro SLR/n
- Выдержка: 1/90
- Диафрагма: 5,6
- Светочувствительность: 160
- Фокусное расстояние: 120,0 mm
- Полный EXIF
- Adobe
- ColorTransform: YCbCr
- Composite
- Aperture: 5,6
- FocalLength35efl: 120,0 mm
- ShutterSpeed: 1/90
- ExifIFD
- ApertureValue: 5,6
- ColorSpace: sRGB
- DateTimeOriginal: 2011:09:24 10:36:51
- ExifImageHeight: 3000
- ExifImageWidth: 4500
- ExposureCompensation: 0
- ExposureIndex: 160
- ExposureProgram: Program AE
- ExposureTime: 1/90
- FNumber: 5,6
- Flash: No Flash
- FocalLength: 120,0 mm
- ISO: 160
- LightSource: Unknown
- MaxApertureValue: 7,0
- MeteringMode: Center-weighted average
- SensingMethod: One-chip color area
- SerialNumber: PSLRN-24087
- ShutterSpeedValue: 1/90
- ICC-header
- ICC-meas
- ICC-view
- IFD0
- Make: Kodak
- Model: DCS Pro SLR/n
- ModifyDate: 2011:09:24 13:16:58
- Orientation: Horizontal (normal)
- IFD1
- IPTC
- DateCreated: 2011:09:24
- System
- XMP-aux
- ImageNumber: 7723
- XMP-crs
- AlreadyApplied: True
- BlueHue: 0
- BlueSaturation: 0
- Brightness: +50
- CameraProfile: ACR 4.4
- ChromaticAberrationB: 0
- ChromaticAberrationR: 0
- Clarity: 0
- ColorNoiseReduction: 25
- ColorNoiseReductionDetail: 50
- Contrast: +25
- ConvertToGrayscale: False
- Defringe: 0
- Exposure: 0.00
- FillLight: 0
- GrainAmount: 0
- GreenHue: 0
- GreenSaturation: 0
- HasCrop: False
- HasSettings: True
- HighlightRecovery: 33
- HueAdjustmentAqua: 0
- HueAdjustmentBlue: 0
- HueAdjustmentGreen: 0
- HueAdjustmentMagenta: 0
- HueAdjustmentOrange: 0
- HueAdjustmentPurple: 0
- HueAdjustmentRed: 0
- HueAdjustmentYellow: 0
- LensManualDistortionAmount: 0
- LensProfileEnable: 0
- LensProfileSetup: LensDefaults
- LuminanceAdjustmentAqua: 0
- LuminanceAdjustmentBlue: 0
- LuminanceAdjustmentGreen: 0
- LuminanceAdjustmentMagenta: 0
- LuminanceAdjustmentOrange: 0
- LuminanceAdjustmentPurple: 0
- LuminanceAdjustmentRed: 0
- LuminanceAdjustmentYellow: 0
- LuminanceSmoothing: 0
- ParametricDarks: -58
- ParametricHighlightSplit: 75
- ParametricHighlights: 0
- ParametricLights: +4
- ParametricMidtoneSplit: 50
- ParametricShadowSplit: 25
- ParametricShadows: 0
- PerspectiveHorizontal: 0
- PerspectiveRotate: 0.0
- PerspectiveScale: 100
- PerspectiveVertical: 0
- PostCropVignetteAmount: 0
- ProcessVersion: 5.7
- RawFileName: G2PW7723.DCR
- RedHue: 0
- RedSaturation: 0
- Saturation: 0
- SaturationAdjustmentAqua: 0
- SaturationAdjustmentBlue: 0
- SaturationAdjustmentGreen: 0
- SaturationAdjustmentMagenta: 0
- SaturationAdjustmentOrange: 0
- SaturationAdjustmentPurple: 0
- SaturationAdjustmentRed: 0
- SaturationAdjustmentYellow: 0
- ShadowTint: 0
- Shadows: 0
- SharpenDetail: 25
- SharpenEdgeMasking: 0
- SharpenRadius: +1.0
- Sharpness: 25
- SplitToningBalance: 0
- SplitToningHighlightHue: 0
- SplitToningHighlightSaturation: 0
- SplitToningShadowHue: 0
- SplitToningShadowSaturation: 0
- Temperature: 4250
- Tint: +4
- ToneCurve: 0, 0, 32, 22, 64, 56, 128, 128, 192, 196, 255, 255
- ToneCurveName: Medium Contrast
- Version: 6.4
- Vibrance: 0
- VignetteAmount: 0
- WhiteBalance: Custom
- XMP-dc
- XMP-xmp
- CreateDate: 2011:09:24 10:36:51
- CreatorTool: 5.4.9
- ModifyDate: 2011:09:24 13:16:58+04:00
- Rating: 0
- XMP-xmpMM
- Просмотров: 219
- Рейтинг: голосов еще нет
- Отзывов: 0