- Раздел: Портрет
- Дата съёмки: 31.08.2011 17:04
- Дата загрузки фото: 06.10.2011 15:17
- Оригинальная фотография: 900 x 660 (451 Кб)
- Технические характеристики:
- Фотоаппарат: Hasselblad H4D-40
- Выдержка: 0,8
- Диафрагма: 10,0
- Светочувствительность: 100
- Фокусное расстояние: 210,0 mm
- Полный EXIF
- Adobe
- ColorTransform: YCbCr
- Composite
- Aperture: 10,0
- FocalLength35efl: 210,0 mm
- ShutterSpeed: 0,8
- ExifIFD
- ApertureValue: 10,0
- ColorSpace: sRGB
- CreateDate: 2011:08:31 17:04:24
- DateTimeOriginal: 2011:08:31 17:04:24
- ExifImageHeight: 660
- ExifImageWidth: 900
- ExposureProgram: Manual
- ExposureTime: 0,8
- FNumber: 10,0
- Flash: No Flash
- FocalLength: 210,0 mm
- ISO: 100
- LightSource: Daylight
- MeteringMode: Unknown (254)
- SensingMethod: One-chip color area
- ShutterSpeedValue: 0,8
- ICC-header
- ICC-meas
- ICC-view
- IFD0
- Artist: Markov Vitaly
- BitsPerSample: 16 16 16
- ImageHeight: 2000
- ImageWidth: 1379
- Make: Hasselblad
- Model: Hasselblad H4D-40
- ModifyDate: 2011:09:30 14:25:16
- Orientation: Horizontal (normal)
- PhotometricInterpretation: RGB
- PlanarConfiguration: Chunky
- SamplesPerPixel: 3
- IFD1
- IPTC
- By-line: Markov Vitaly
- By-lineTitle: photographer
- DateCreated: 2011:08:31
- System
- XMP-crs
- AlreadyApplied: True
- BlueHue: 0
- BlueSaturation: 0
- Brightness: +60
- CameraProfile: Embedded
- ChromaticAberrationB: 0
- ChromaticAberrationR: 0
- Clarity: +71
- ColorNoiseReduction: 25
- ColorNoiseReductionDetail: 50
- Contrast: +83
- ConvertToGrayscale: False
- CropAngle: -11.243255
- CropBottom: 0.521309
- CropHeight: 3
- CropLeft: 0.427222
- CropRight: 0.909581
- CropTop: 0.255609
- CropUnit: Unknown (3)
- CropWidth: 2
- Defringe: 0
- Exposure: +0.20
- FillLight: 36
- GrainAmount: 0
- GreenHue: 0
- GreenSaturation: 0
- HasCrop: True
- HasSettings: True
- HighlightRecovery: 92
- HueAdjustmentAqua: 0
- HueAdjustmentBlue: 0
- HueAdjustmentGreen: 0
- HueAdjustmentMagenta: 0
- HueAdjustmentOrange: 0
- HueAdjustmentPurple: 0
- HueAdjustmentRed: 0
- HueAdjustmentYellow: 0
- LuminanceAdjustmentAqua: 0
- LuminanceAdjustmentBlue: 0
- LuminanceAdjustmentGreen: 0
- LuminanceAdjustmentMagenta: 0
- LuminanceAdjustmentOrange: 0
- LuminanceAdjustmentPurple: 0
- LuminanceAdjustmentRed: 0
- LuminanceAdjustmentYellow: 0
- LuminanceSmoothing: 0
- ParametricDarks: 0
- ParametricHighlightSplit: 75
- ParametricHighlights: 0
- ParametricLights: 0
- ParametricMidtoneSplit: 50
- ParametricShadowSplit: 25
- ParametricShadows: 0
- PostCropVignetteAmount: 0
- ProcessVersion: 5.7
- RawFileName: Markov_0838.dng
- RedHue: 0
- RedSaturation: 0
- Saturation: +4
- SaturationAdjustmentAqua: 0
- SaturationAdjustmentBlue: 0
- SaturationAdjustmentGreen: 0
- SaturationAdjustmentMagenta: 0
- SaturationAdjustmentOrange: 0
- SaturationAdjustmentPurple: 0
- SaturationAdjustmentRed: 0
- SaturationAdjustmentYellow: 0
- ShadowTint: 0
- Shadows: 27
- SharpenDetail: 25
- SharpenEdgeMasking: 0
- SharpenRadius: +1.0
- Sharpness: 25
- SplitToningBalance: 0
- SplitToningHighlightHue: 0
- SplitToningHighlightSaturation: 0
- SplitToningShadowHue: 0
- SplitToningShadowSaturation: 0
- Temperature: 14250
- Tint: -39
- ToneCurve: 0, 0, 32, 22, 64, 56, 128, 128, 192, 196, 255, 255
- ToneCurveName: Medium Contrast
- Version: 6.0
- Vibrance: +3
- VignetteAmount: 0
- WhiteBalance: Custom
- XMP-dc
- Creator: Markov Vitaly
- Format: image/jpeg
- XMP-iptcCore
- CreatorCity: Moscow
- CreatorCountry: Russia
- CreatorWorkEmail: amadeus@yandex.ru
- CreatorWorkTelephone: (495) 505-37-17
- CreatorWorkURL: www.фото-мастер.рф
- XMP-xmp
- CreateDate: 2011:08:31 17:04:24+04:00
- ModifyDate: 2011:09:30 14:25:16+04:00
- Rating: 0
- XMP-xmpMM