- Раздел: Другое, разное
- Дата съёмки: 09.10.2011 09:04
- Дата загрузки фото: 09.10.2011 10:45
- Оригинальная фотография: 816 x 1087 (525 Кб)
- Технические характеристики:
- Фотоаппарат: Sony DSLR-A230
- Выдержка: 1/320
- Гиперфокальное расстояние: inf m
- Диафрагма: 5,6
- Светочувствительность: 160
- Фокусное расстояние: 200,0 mm (35 mm equivalent: 200,0 mm)
- Полный EXIF
- Composite
- Aperture: 5,6
- CircleOfConfusion: 0,020 mm
- FOV: 10,0 deg
- FocalLength35efl: 200,0 mm (35 mm equivalent: 200,0 mm)
- HyperfocalDistance: inf m
- ScaleFactor35efl: 1,5
- ShutterSpeed: 1/320
- ExifIFD
- ApertureValue: 5,6
- BrightnessValue: 7,87
- ColorSpace: sRGB
- Contrast: Normal
- CreateDate: 2011:10:09 09:04:37
- CustomRendered: Normal
- DateTimeOriginal: 2011:10:09 09:04:37
- ExifImageHeight: 1087
- ExifImageWidth: 816
- ExposureCompensation: 0
- ExposureMode: Auto
- ExposureProgram: Program AE
- ExposureTime: 1/320
- FNumber: 5,6
- Flash: Off, Did not fire
- FocalLength: 200,0 mm
- FocalLengthIn35mmFormat: 300 mm
- ISO: 160
- LensInfo: 28-135mm f/4-4.5
- LensModel: 28-135mm F4-4.5
- LightSource: Unknown
- MaxApertureValue: 5,6
- MeteringMode: Multi-segment
- Saturation: Normal
- SceneCaptureType: Standard
- SceneType: Directly photographed
- Sharpness: Normal
- ShutterSpeedValue: 1/320
- WhiteBalance: Auto
- IFD0
- ImageDescription: SONY DSC
- Make: SONY
- Model: DSLR-A230
- ModifyDate: 2011:10:09 08:30:32
- IFD1
- IPTC
- Caption-Abstract: SONY DSC
- DateCreated: 2011:10:09
- RelatedImageHeight: 1087
- RelatedImageWidth: 816
- System
- XMP-aux
- Lens: 28-135mm F4-4.5
- LensID: 25531
- XMP-crs
- AlreadyApplied: True
- BlueHue: 0
- BlueSaturation: 0
- Brightness: +43
- ChromaticAberrationB: 0
- ChromaticAberrationR: 0
- Clarity: +28
- ColorNoiseReduction: 25
- ColorNoiseReductionDetail: 50
- Contrast: +60
- ConvertToGrayscale: False
- CropAngle: 0
- CropBottom: 0.687378
- CropConstrainToWarp: 1
- CropHeight: 4
- CropLeft: 0.387183
- CropRight: 0.597828
- CropTop: 0.267822
- CropUnit: Unknown (3)
- CropWidth: 3
- Defringe: 0
- Exposure: +0.60
- FillLight: 0
- GrainAmount: 0
- GreenHue: 0
- GreenSaturation: 0
- HasCrop: True
- HasSettings: True
- HighlightRecovery: 2
- HueAdjustmentAqua: 0
- HueAdjustmentBlue: 0
- HueAdjustmentGreen: 0
- HueAdjustmentMagenta: 0
- HueAdjustmentOrange: 0
- HueAdjustmentPurple: 0
- HueAdjustmentRed: 0
- HueAdjustmentYellow: 0
- LensManualDistortionAmount: 0
- LensProfileEnable: 0
- LensProfileSetup: LensDefaults
- LuminanceAdjustmentAqua: 0
- LuminanceAdjustmentBlue: 0
- LuminanceAdjustmentGreen: 0
- LuminanceAdjustmentMagenta: 0
- LuminanceAdjustmentOrange: 0
- LuminanceAdjustmentPurple: 0
- LuminanceAdjustmentRed: 0
- LuminanceAdjustmentYellow: 0
- LuminanceSmoothing: 0
- ParametricDarks: 0
- ParametricHighlightSplit: 75
- ParametricHighlights: 0
- ParametricLights: 0
- ParametricMidtoneSplit: 50
- ParametricShadowSplit: 25
- ParametricShadows: 0
- PerspectiveHorizontal: 0
- PerspectiveRotate: 0.0
- PerspectiveScale: 100
- PerspectiveVertical: 0
- PostCropVignetteAmount: 0
- ProcessVersion: 5.7
- RawFileName: _DSC2051.ARW
- RedHue: 0
- RedSaturation: 0
- Saturation: +3
- SaturationAdjustmentAqua: 0
- SaturationAdjustmentBlue: 0
- SaturationAdjustmentGreen: 0
- SaturationAdjustmentMagenta: 0
- SaturationAdjustmentOrange: 0
- SaturationAdjustmentPurple: 0
- SaturationAdjustmentRed: 0
- SaturationAdjustmentYellow: 0
- ShadowTint: 0
- Shadows: 17
- SharpenDetail: 60
- SharpenEdgeMasking: 0
- SharpenRadius: +1.0
- Sharpness: 86
- SplitToningBalance: 0
- SplitToningHighlightHue: 0
- SplitToningHighlightSaturation: 0
- SplitToningShadowHue: 0
- SplitToningShadowSaturation: 0
- Temperature: 4950
- Tint: +4
- ToneCurve: 0, 0, 32, 22, 64, 56, 128, 128, 192, 196, 255, 255
- ToneCurveName: Medium Contrast
- Version: 6.4
- Vibrance: +18
- VignetteAmount: 0
- WhiteBalance: As Shot
- XMP-dc
- Description: SONY DSC
- Format: image/jpeg
- XMP-x
- XMP-xmp
- CreatorTool: DSLR-A230 v1.10
- ModifyDate: 2011:10:09 08:30:32+02:00
- Rating: 0
- XMP-xmpMM