luna |
luna
- Раздел: Другое, разное
- Дата съёмки: 17.07.2011 03:49
- Дата загрузки фото: 17.10.2011 11:10
- Оригинальная фотография: 1000 x 1000 (102 Кб)
- Технические характеристики:
- Фотоаппарат: Canon EOS 400D DIGITAL
- Выдержка: 1/100
- Гиперфокальное расстояние: inf m
- Диафрагма: 5,6
- Светочувствительность: 800
- Фокусное расстояние: 18,0 mm (35 mm equivalent: 90,0 mm)
- Полный EXIF
- Adobe
- ColorTransform: YCbCr
- Composite
- Aperture: 5,6
- CircleOfConfusion: 0,006 mm
- FOV: 22,0 deg
- FocalLength35efl: 18,0 mm (35 mm equivalent: 90,0 mm)
- HyperfocalDistance: inf m
- ScaleFactor35efl: 5,4
- ShutterSpeed: 1/100
- ExifIFD
- ApertureValue: 5,6
- CreateDate: 2011:07:17 03:49:49
- CustomRendered: Normal
- DateTimeOriginal: 2011:07:17 03:49:49
- ExposureCompensation: 0
- ExposureMode: Manual
- ExposureProgram: Manual
- ExposureTime: 1/100
- FNumber: 5,6
- Flash: Off, Did not fire
- FocalLength: 18,0 mm
- ISO: 800
- LensInfo: 18-55mm f/?
- LensModel: EF-S18-55mm f/3.5-5.6
- MaxApertureValue: 3,5
- MeteringMode: Multi-segment
- OwnerName: Alex 89032046783
- SceneCaptureType: Standard
- SerialNumber: 430121436
- ShutterSpeedValue: 1/100
- WhiteBalance: Auto
- ICC-header
- ICC-meas
- ICC-view
- IFD0
- Artist: Alex 89032046783
- Make: Canon
- Model: Canon EOS 400D DIGITAL
- ModifyDate: 2011:07:18 23:09:46
- IFD1
- IPTC
- By-line: Alex 89032046783
- DateCreated: 2011:07:17
- System
- XMP-aux
- Firmware: 1.1.1
- FlashCompensation: 0
- ImageNumber: 128
- Lens: EF-S18-55mm f/3.5-5.6
- LensID: 45
- XMP-crs
- AlreadyApplied: True
- BlueHue: 0
- BlueSaturation: 0
- Brightness: +59
- ChromaticAberrationB: 0
- ChromaticAberrationR: 0
- Clarity: 0
- ColorNoiseReduction: 25
- ColorNoiseReductionDetail: 50
- Contrast: +9
- ConvertToGrayscale: True
- CropAngle: 0
- CropBottom: 0.972816
- CropConstrainToWarp: 0
- CropHeight: 1000
- CropLeft: 0.243082
- CropRight: 0.769943
- CropTop: 0.182525
- CropUnit: pixels
- CropWidth: 1000
- Defringe: 0
- Exposure: +1.15
- FillLight: 48
- GrainAmount: 0
- GrayMixerAqua: -20
- GrayMixerBlue: +5
- GrayMixerGreen: -23
- GrayMixerMagenta: +5
- GrayMixerOrange: -13
- GrayMixerPurple: +12
- GrayMixerRed: -43
- GrayMixerYellow: -16
- GreenHue: 0
- GreenSaturation: 0
- HasCrop: True
- HasSettings: True
- HighlightRecovery: 71
- LensManualDistortionAmount: 0
- LensProfileEnable: 0
- LensProfileSetup: LensDefaults
- LuminanceSmoothing: 0
- ParametricDarks: -3
- ParametricHighlightSplit: 75
- ParametricHighlights: 0
- ParametricLights: 0
- ParametricMidtoneSplit: 50
- ParametricShadowSplit: 25
- ParametricShadows: -14
- PerspectiveHorizontal: 0
- PerspectiveRotate: 0.0
- PerspectiveScale: 100
- PerspectiveVertical: 0
- PostCropVignetteAmount: 0
- ProcessVersion: 5.7
- RedHue: 0
- RedSaturation: 0
- ShadowTint: 0
- Shadows: 54
- SharpenDetail: 50
- SharpenEdgeMasking: 0
- SharpenRadius: +1.0
- Sharpness: 25
- SplitToningBalance: 0
- SplitToningHighlightHue: 0
- SplitToningHighlightSaturation: 0
- SplitToningShadowHue: 0
- SplitToningShadowSaturation: 0
- Temperature: 4213
- Tint: -74
- ToneCurve: 0, 0, 255, 255
- ToneCurveName: Linear
- Version: 6.4
- VignetteAmount: 0
- WhiteBalance: Custom
- XMP-dc
- Creator: Alex 89032046783
- XMP-xmp
- ModifyDate: 2011:07:18 23:09:46+04:00
- Просмотров: 528
- Рейтинг: голосов еще нет
- Отзывов: 0
Получить код для блога
Вставка фотографии в текущем разрешении |
Вставка миниатюры |
HTML (для вставки в блог):
BBCode (для вставки в форум):
Ссылка на фото:
Ссылка на миниатюру:
- Послать ссылку другу
Комментарии к фотографии |